BEGIN:VCALENDAR
VERSION:2.0
PRODID:-//Sentido Animal - ECPv6.15.13.1//NONSGML v1.0//EN
CALSCALE:GREGORIAN
METHOD:PUBLISH
X-ORIGINAL-URL:https://sentidoanimalweb.advserver.es
X-WR-CALDESC:Eventos para Sentido Animal
REFRESH-INTERVAL;VALUE=DURATION:PT1H
X-Robots-Tag:noindex
X-PUBLISHED-TTL:PT1H
BEGIN:VTIMEZONE
TZID:Europe/Madrid
BEGIN:DAYLIGHT
TZOFFSETFROM:+0100
TZOFFSETTO:+0200
TZNAME:CEST
DTSTART:20180325T010000
END:DAYLIGHT
BEGIN:STANDARD
TZOFFSETFROM:+0200
TZOFFSETTO:+0100
TZNAME:CET
DTSTART:20181028T010000
END:STANDARD
BEGIN:DAYLIGHT
TZOFFSETFROM:+0100
TZOFFSETTO:+0200
TZNAME:CEST
DTSTART:20190331T010000
END:DAYLIGHT
BEGIN:STANDARD
TZOFFSETFROM:+0200
TZOFFSETTO:+0100
TZNAME:CET
DTSTART:20191027T010000
END:STANDARD
BEGIN:DAYLIGHT
TZOFFSETFROM:+0100
TZOFFSETTO:+0200
TZNAME:CEST
DTSTART:20200329T010000
END:DAYLIGHT
BEGIN:STANDARD
TZOFFSETFROM:+0200
TZOFFSETTO:+0100
TZNAME:CET
DTSTART:20201025T010000
END:STANDARD
END:VTIMEZONE
BEGIN:VEVENT
DTSTART;TZID=Europe/Madrid:20190302T100000
DTEND;TZID=Europe/Madrid:20190302T190000
DTSTAMP:20260420T170255
CREATED:20190106T193403Z
LAST-MODIFIED:20190106T193403Z
UID:7384-1551520800-1551553200@sentidoanimalweb.advserver.es
SUMMARY:Curso profesional de modificación de conductas no deseadas en perros
DESCRIPTION:¿A quién va dirigido?\n\nA adiestradores/as caninos/as que quieran hacer completar su trayectoria con una formación de calidad como base imprescindible para dar un buen servicio a sus clientes.\nA profesionales que necesiten mejorar sus procesos y avanzar en el adiestramiento o modificación de conducta\, con apoyo continuo y bajo la elaboración de planificaciones detalladas y utilización de registros para su evolución profesional.\nA personas que tengan interés en aprender a convivir de manera sana y equilibrada con su compañero/a canino/a\, desde el respeto y la comprensión de sus necesidades y capacidades.\n\nObjetivo del curso\nCapacitar a los/as alumnos/as a nivel teórico y práctico durante 120h formativas para desempeñar un trabajo profesional de modificación de conducta\, y acreditarles para su acceso a disciplinas específicas. del sector \nFechas\n02\, 03\, 09\, 10\, 16\, 17\, 23\, 24\, 30\, 31 Marzo 209\n06\, 07\, 13\, 14\, 27\, 28 Abril 2019 \n+ 60h de prácticas repartidas de lunes a domingo según disponibilidad del alumno y el centro. \nDuración\nEl curso de Educador/a Canino/a tiene una duración de 120 h lectivas repartidas de la siguiente manera: \n\n90 horas de contenido teórico-práctico de Modificación de conductas no deseadas a perros (MF1742_2)\n30 horas de prácticas de Modificación de conducta (MP 0568)\n\nTemario adaptado a la normativa oficial de cualificaciones INCUAL. \n* pregunta por las posibles convalidaciones. \nPrácticas\nCreemos que las prácticas hacen la diferencia entre la información y la aplicación de esa información al mundo real. Por eso le damos especial importancia y ofrecemos prácticas desde el primer momento\, ajustadas a las habilidades y conocimientos de cada alumno. \nDurante la duración del curso de Modificación de Conductas no deseadas a perros  y hasta el fin del curso escolar (julio 2019)\, los alumnos realizarán prácticas en clases grupales\, sesiones individuales a domicilio o en la escuela de Sentido Animal\, salidas de socialización\, protectoras y actividades diversas. \nEstas prácticas se realizarán de lunes a domingo según disponibilidad del alumno y del centro\, hasta completar un total de 15h por alumno. \nAl finalizar el curso y para la obtención del diploma acreditativo\, cada alumno deberá presentar 1 caso real de modificación de conducta finalizada con éxito\, con el apoyo y guía de las profesionales de Sentido Animal\, para lo que tendrán de plazo máximo hasta el 20 de diciembre de 2019\, y una valoración de otras  15h de prácticas. \nSi deseas asistir con tu perro\, háznoslo saber para la organización de espacios de trabajo. Estas plazas deberán ser confirmadas previamente y son limitadas.
URL:https://sentidoanimalweb.advserver.es/evento/curso-profesional-de-modificacion-de-conductas-no-deseadas-en-perros/
LOCATION:Escuela Sentido Animal\, C/ Valdemorillo 35\, Alcorcón\, Madrid\, 28925\, España
CATEGORIES:Próximos cursos profesionales
ATTACH;FMTTYPE=:
END:VEVENT
BEGIN:VEVENT
DTSTART;VALUE=DATE:20190304
DTEND;VALUE=DATE:20190305
DTSTAMP:20260420T170255
CREATED:20190301T094922Z
LAST-MODIFIED:20190301T094922Z
UID:6702-1551657600-1551743999@sentidoanimalweb.advserver.es
SUMMARY:Reto de marzo 2019
DESCRIPTION:Este mes te proponemos el reto de ir a su sitio: \n\n \n\n\n \nSemana del 04 al 10:\n\nComportamiento: Tumbado en su marca o camita.\nA tener en cuenta…: Refuérzale simplemente por estar tumbado en su camita. Guíale con comida para que se tumbe si no lo hace por sí mismo/a.\nConsejo: Intenta terminar tú el ejercicio: si no se levanta\, anímale a que lo haga para volver a tumbarle de nuevo. ¿Dónde crees que debería recibir más refuerzo?\n\nSemana del 11 al 17:\n\nComportamiento: Permanencia en tumbado en la marca o camita.\nA tener en cuenta…: Acuérdate de cómo dejarle quieto\, trabajado en nuestro reto de noviembre. Si ya lo tienes controlado\, ¡no tardarás nada en hacer el ejercicio!\nConsejo: Puedes combinarlo por control por la comida o juguetes mientras se mantiene en permanencia y meterle más intensidad corriendo y/o haciendo ruidos o aspavientos.\n\nSemana del 18 al 24:\n\nComportamiento: Introducir señal para irse a su sitio.\nA tener en cuenta…: Tu compi deberá tener claro lo que hacer antes de ponerle un nombre o señal.\nConsejo: Vigila tus señales corporales (y esto incluye manos y ojos también) para saber a qué señal realmente está respondiendo tu perrete.\n\nSemana del 25 al 31:\n\nComportamiento: Ir donde esté la marca o camita.\nA tener en cuenta…: Como en todos los entrenamientos\, ve gradualmente alejándolo\, pero no siempre juegues al «cada vez más lejos». ¡Haz que le resulte sencillo seguir el ejercicio!\nConsejo: ¿Te atreves a poner la marca en un lugar donde no lo vea y tenga que buscarlo?\n\nNormas de participación en el reto mensual\n\nCualquier persona que suba un vídeo donde el perro se muestre en una actitud de miedo o incomodidad por el entrenamiento\, será automáticamente eliminado y descalificado del reto.\nNo se admitirá ningún vídeo en donde se muestre el uso de la violencia o la fuerza implícita o explícitamente.\nLos vídeos podrán subirse a lo largo de la semana\, en tiempo y forma. Todo vídeo subido a nuestro Facebook fuera de fecha\, será evaluado por el equipo de Sentido Animal pero no entrará en el reto para la consecución de los premios finales.\nPara poder reclamar tu premio\, es necesario que le hayas dado a ME GUSTA y que seas seguidor/a en nuestra página de Facebook.\nLos premios podrán ser reclamados durante los 7 días naturales desde la finalización del reto completo (4 fases)\, y tras haber compartido en la página de Facebook al menos 4 vídeos de los ejercicios bien ejecutados.\nLos premios se otorgarán por persona y no son acumulables por la participación con varios perros. No obstante\, la valoración del reto se dará individualizadamente por perro con el que se entrene.
URL:https://sentidoanimalweb.advserver.es/evento/reto-de-marzo-2019/
CATEGORIES:Adiestramiento canino,Evento gratis,Próximos eventos para cachorros
END:VEVENT
BEGIN:VEVENT
DTSTART;TZID=Europe/Madrid:20190308T110000
DTEND;TZID=Europe/Madrid:20190308T120000
DTSTAMP:20260420T170255
CREATED:20190228T171227Z
LAST-MODIFIED:20190228T171227Z
UID:7750-1552042800-1552046400@sentidoanimalweb.advserver.es
SUMMARY:Sesión de bienestar con perros – 08 marzo
DESCRIPTION:Parar un momento nos supone a veces un esfuerzo que no estamos dispuestos a llevar a cabo… y sin embargo es tan necesario como cualquier otra cosa de las que te mantienen preso del estrés\, las prisas\, las obligaciones… \nEn Sentido Animal lo sabemos y por eso hemos creado un espacio para que puedas venir con tu perrete y podáis encontraros con tranquilidad. Compartir momentos de calidad con tu perro es mucho más importante que pasar tiempo largo pero desconectado de él. \n¿Qué haremos en las sesiones?\nBuscaremos el momento de relajarnos: música tranquila\, mantas y esterillas\, calefacción y una relajación guiada\, ayudarán a este propósito.\nEn un ambiente tranquilo\, hablaremos de perros\, de posibles dificultades que tenemos con ellos y de cómo enfrentar estos problemas para poder solucionarlos.\nTomaremos una infusión calentita mientras ponemos soluciones en común y estrecharemos el vínculo con nuestros perretes. \n¿Es una sesión puntual?\nA partir de enero comenzaremos a tener sesiones semanales para poder crear una rutina y una predisposición\, tanto de los compañeros caninos como de las personas que vienen a las sesiones. \n¿Es necesario ir con perro?\nSería estupendo que pudieras venir con tu perro\, pero si no convives con ninguno o crees que aún no está preparado para una sesión de una hora\, puedes venir a las sesiones y disfrutar de este momento para ti con alguno de nuestros peludos. \nPrecios\n\n1 sesión: 15 € por persona\n2 sesiones (1 mes): 30 € por persona\n6 sesiones (1 trimestre): 80 € por persona
URL:https://sentidoanimalweb.advserver.es/evento/sesion-de-bienestar-con-perros-08-marzo/
LOCATION:Escuela Sentido Animal\, C/ Valdemorillo 35\, Alcorcón\, Madrid\, 28925\, España
CATEGORIES:Próximas sesiones de bienestar
ATTACH;FMTTYPE=:
END:VEVENT
BEGIN:VEVENT
DTSTART;TZID=Europe/Madrid:20190309T100000
DTEND;TZID=Europe/Madrid:20190310T140000
DTSTAMP:20260420T170255
CREATED:20180905T130741Z
LAST-MODIFIED:20180905T130741Z
UID:6819-1552125600-1552226400@sentidoanimalweb.advserver.es
SUMMARY:Manejo de la atención y autorregulación en perros y sus guías
DESCRIPTION:Amplia es la oferta de cursos de especialización sobre miedos\, conductas agresivas\, destructivas o desadaptadas de casi cualquier tipo. No obstante\, al compartimentar la realidad los educadores caninos corremos el riesgo de perder de vista elementos transversales cruciales\, pues la práctica totalidad de problemas de conducta están agravados\, cuando no causados\, por el alto grado de dependencia del comportamiento del perro respecto a un ambiente que le bombardea con estímulos\, es decir\, por el deficiente autocontrol que el individuo ejerce sobre sus procesos atencionales\, ese cuello de botella en el procesamiento de la información. El presente temario parte del reconocimiento de un verdadero “órgano” de la atención; distinto desde la perspectiva anatómico funcional de los sistemas sensoriales que procesan la información entrante y producen conductas\, y compuesto a su vez de diversas redes (o conciertos entre varios circuitos cerebrales) que están indisolublemente ligadas a la capacidad del individuo de gestionar conflictos y autorregularse\, y que son\, además\, susceptibles de entrenamiento por nuestra parte sobre unas bases científicas actualizadas. \nTemario\n\nDefiniciones\, principales modelos históricos y tipos de atención: focalizada o selectiva\, sostenida y alternante. Aplicaciones al entrenamieto y modificación de conducta caninas.\nConvergencias y divergencias atencionales entre humanos y perros. Peculiaridades y sesgos de la atención interespecífica entre perros y humanos.\nAnatomía\, bioquímica y neuropsicología del órgano atencional. Tipos de redes (análisis teórico – práctico para entrenadores de animales)\nRehabilitación cognitiva del perro con problemas atencionales a través del juego\nRehabilitación del vínculo a través del cultivo de la atención\n\n¿A quién va dirigido?\n\nA educadores/as caninos/as\, adiestradores y personas relacionadas con el mundo deportivo y del perro\, que quieran aumentar su rendimiento y mejorar su nivel de exigencia respecto de sus resultados.\n\nHorario\nSábado de 10h a 14h y de 15h a 19h\nDomingo de 10h a 14h
URL:https://sentidoanimalweb.advserver.es/evento/manejo-de-la-atencion-y-autorregulacion-en-perros-y-sus-guias/
LOCATION:Escuela Sentido Animal\, C/ Valdemorillo 35\, Alcorcón\, Madrid\, 28925\, España
CATEGORIES:Adiestramiento canino,Cursos profesionales,Próximos cursos profesionales,Próximos talleres y webinarios
ATTACH;FMTTYPE=:
END:VEVENT
BEGIN:VEVENT
DTSTART;TZID=Europe/Madrid:20190313T100000
DTEND;TZID=Europe/Madrid:20190313T120000
DTSTAMP:20260420T170255
CREATED:20190115T202322Z
LAST-MODIFIED:20190115T202322Z
UID:7422-1552471200-1552478400@sentidoanimalweb.advserver.es
SUMMARY:Socialización canina y paseo miércoles – marzo 2019
DESCRIPTION:Salida de socialización trabajo de paseo tranquilo con los perros en el fantástico Humedal de Coslada. \nNuestras educadoras de Sentido Animal lo tendrán todo debidamente cuidado y valorarán cada caso invidividualmente para conseguir un manejo de corea adecuado\, que nos permita según transcurra el evento\, tener un paseo tranquilo sin tensión en la correa. \nEjercicios de aproximación\, de llamada y comunicación canina\, en una mañana para aprender y disfrutar con los peludos en muy buena compañía.
URL:https://sentidoanimalweb.advserver.es/evento/socializacion-canina-y-paseo-miercoles-marzo-2019/
LOCATION:Coslada\, Coslada\, Madrid\, 28821\, España
CATEGORIES:Próximas salidas de socialización,Próximos eventos para cachorros
ATTACH;FMTTYPE=:
END:VEVENT
BEGIN:VEVENT
DTSTART;TZID=Europe/Madrid:20190322T110000
DTEND;TZID=Europe/Madrid:20190322T120000
DTSTAMP:20260420T170255
CREATED:20190228T171412Z
LAST-MODIFIED:20190228T171412Z
UID:7752-1553252400-1553256000@sentidoanimalweb.advserver.es
SUMMARY:Sesión de bienestar con perros – 22 marzo
DESCRIPTION:Parar un momento nos supone a veces un esfuerzo que no estamos dispuestos a llevar a cabo… y sin embargo es tan necesario como cualquier otra cosa de las que te mantienen preso del estrés\, las prisas\, las obligaciones… \nEn Sentido Animal lo sabemos y por eso hemos creado un espacio para que puedas venir con tu perrete y podáis encontraros con tranquilidad. Compartir momentos de calidad con tu perro es mucho más importante que pasar tiempo largo pero desconectado de él. \n¿Qué haremos en las sesiones?\nBuscaremos el momento de relajarnos: música tranquila\, mantas y esterillas\, calefacción y una relajación guiada\, ayudarán a este propósito.\nEn un ambiente tranquilo\, hablaremos de perros\, de posibles dificultades que tenemos con ellos y de cómo enfrentar estos problemas para poder solucionarlos.\nTomaremos una infusión calentita mientras ponemos soluciones en común y estrecharemos el vínculo con nuestros perretes. \n¿Es una sesión puntual?\nA partir de enero comenzaremos a tener sesiones semanales para poder crear una rutina y una predisposición\, tanto de los compañeros caninos como de las personas que vienen a las sesiones. \n¿Es necesario ir con perro?\nSería estupendo que pudieras venir con tu perro\, pero si no convives con ninguno o crees que aún no está preparado para una sesión de una hora\, puedes venir a las sesiones y disfrutar de este momento para ti con alguno de nuestros peludos. \nPrecios\n\n1 sesión: 15 € por persona\n2 sesiones (1 mes): 30 € por persona\n6 sesiones (1 trimestre): 80 € por persona
URL:https://sentidoanimalweb.advserver.es/evento/sesion-de-bienestar-con-perros-22-marzo/
LOCATION:Escuela Sentido Animal\, C/ Valdemorillo 35\, Alcorcón\, Madrid\, 28925\, España
CATEGORIES:Próximas sesiones de bienestar
ATTACH;FMTTYPE=:
END:VEVENT
BEGIN:VEVENT
DTSTART;TZID=Europe/Madrid:20190323T160000
DTEND;TZID=Europe/Madrid:20190324T200000
DTSTAMP:20260420T170255
CREATED:20180809T083626Z
LAST-MODIFIED:20180809T083626Z
UID:5868-1553356800-1553457600@sentidoanimalweb.advserver.es
SUMMARY:Curso de animales exóticos
DESCRIPTION:Cada vez es más común en nuestro país la presencia de animales exóticos en los domicilios y\, en consecuencia\, en las tiendas\, clínicas veterinarias\, centros de rescate… y en los ecosistemas. \nDependiendo de la especie\, sus cuidados serán más o menos complejos. \n \nEl objetivo de este curso es proporcionarte las herramientas necesarias para identificar\, manejar\, alimentar\, crear un entorno adecuado y garantizar la salud física y psicológica de estos animales. \nPor otro lado\, obtendrás los conocimientos para evitar la aparición de especies invasoras en los espacios naturales de nuestro país y entenderás de qué manera pueden afectar a plantas y animales autóctonos. \n¿Sobre qué animales hablaremos?\n\nArácnidos\nInsectos\nAnfibios\nReptiles\nAves\nMamíferos\n\n¿Quién puede acudir al curso?\n\nTécnicos y/o Auxiliares de veterinaria\nTrabajadores de núcleos zoológicos o centros de rescate\nTodos aquellos amantes de los animales que estén interesados en ampliar sus conocimientos y mejorar la vida en cautividad de las especies exóticas.\n\nHorarios\nSábado 23 de marzo: de 16h a 20h\nDomingo 24 de marzo: de 10h a 14h y de 15h a 19h \nPrecios\nCurso completo: 150 € por persona\nMódulo individual: 30 €
URL:https://sentidoanimalweb.advserver.es/evento/curso-de-animales-exoticos/
LOCATION:Escuela Sentido Animal\, C/ Valdemorillo 35\, Alcorcón\, Madrid\, 28925\, España
CATEGORIES:Cursos de animales exóticos
ATTACH;FMTTYPE=:
END:VEVENT
BEGIN:VEVENT
DTSTART;TZID=Europe/Madrid:20190331T103000
DTEND;TZID=Europe/Madrid:20190331T123000
DTSTAMP:20260420T170255
CREATED:20180915T081644Z
LAST-MODIFIED:20180915T081644Z
UID:6589-1554028200-1554035400@sentidoanimalweb.advserver.es
SUMMARY:Socialización canina y paseo - marzo 2019
DESCRIPTION:El 31 de marzo nuestra salida de socialización canina y paseo tendrá lugar en un lugar habitual\, tranquilo e ideal para poder trabajar sin un bombardeo de estímulos\, en Boadilla del Monte. \nTras hacer ejercicios para conseguir atención en el perrete y que se vayan conociendo los participantes paulatinamente\, continuaremos trabajando un paseo tranquilo con buen manejo de correa\, tomando el tiempo necesario para que los esfuerzos sean efectivos y se puedan extrapolar al día a día de las familias. \nUn paseo sin dificultades en la ruta\, donde nos centraremos en el trabajo realizado y no en los kilómetros recorridos. \n¿Te animas a participar?
URL:https://sentidoanimalweb.advserver.es/evento/socializacion-canina-y-paseo-marzo-2019/
LOCATION:Boadilla del Monte\, Boadilla del Monte\, Madrid\, España
CATEGORIES:Próximas salidas de socialización,Próximos eventos para cachorros
ATTACH;FMTTYPE=:
END:VEVENT
END:VCALENDAR