BEGIN:VCALENDAR
VERSION:2.0
PRODID:-//Sentido Animal - ECPv6.15.13.1//NONSGML v1.0//EN
CALSCALE:GREGORIAN
METHOD:PUBLISH
X-ORIGINAL-URL:https://sentidoanimalweb.advserver.es
X-WR-CALDESC:Eventos para Sentido Animal
REFRESH-INTERVAL;VALUE=DURATION:PT1H
X-Robots-Tag:noindex
X-PUBLISHED-TTL:PT1H
BEGIN:VTIMEZONE
TZID:Europe/Madrid
BEGIN:DAYLIGHT
TZOFFSETFROM:+0100
TZOFFSETTO:+0200
TZNAME:CEST
DTSTART:20180325T010000
END:DAYLIGHT
BEGIN:STANDARD
TZOFFSETFROM:+0200
TZOFFSETTO:+0100
TZNAME:CET
DTSTART:20181028T010000
END:STANDARD
BEGIN:DAYLIGHT
TZOFFSETFROM:+0100
TZOFFSETTO:+0200
TZNAME:CEST
DTSTART:20190331T010000
END:DAYLIGHT
BEGIN:STANDARD
TZOFFSETFROM:+0200
TZOFFSETTO:+0100
TZNAME:CET
DTSTART:20191027T010000
END:STANDARD
BEGIN:DAYLIGHT
TZOFFSETFROM:+0100
TZOFFSETTO:+0200
TZNAME:CEST
DTSTART:20200329T010000
END:DAYLIGHT
BEGIN:STANDARD
TZOFFSETFROM:+0200
TZOFFSETTO:+0100
TZNAME:CET
DTSTART:20201025T010000
END:STANDARD
END:VTIMEZONE
BEGIN:VEVENT
DTSTART;VALUE=DATE:20190107
DTEND;VALUE=DATE:20190108
DTSTAMP:20260420T193218
CREATED:20190104T090015Z
LAST-MODIFIED:20190104T090015Z
UID:6625-1546819200-1546905599@sentidoanimalweb.advserver.es
SUMMARY:Reto de enero 2019
DESCRIPTION:Este mes te proponemos el reto de caminar con correa: \n\n \n\n\n \nSemana del 07 al 13:\n\nComportamiento: Evitar tensión de la correa en la calle. La correa debe ir haciendo curva.\nA tener en cuenta…: Un paseo conjunto\, donde prestes toda la atención a tu perro y tu perro te la preste a ti\, es la mejor manera de tener un paseo cómodo y agradable para los dos. Si tira… ¡no dejes que llegue donde quiere! Su siguiente paso debería ser en otra dirección contraria a donde pretendía llegar.\nConsejo: No te metas en una guerra de ver quién tira más… ¡es agotador y no llegaréis a buen puerto! Si él tensa la correa\, quédate quieto/a y llámale la atención o simplemente espera a que vuelva a conectar contigo.\n\nSemana del 14 al 20:\n\nComportamiento: Evitar tensión de la correa en las escaleras\, tanto de subida como de bajada.\nA tener en cuenta…: Caminar a nuestro ritmo les cuesta\, y más en las escaleras. Comienza pasito a pasito y regresa hacia atrás si se adelanta. Por favor\, ¡no tires de la correa porque puedes hacerle daño!\nConsejo: Hacer paradas aleatorias y reforzarle si se mantiene a tu lado\, es una buena forma de comenzar a encaminar el ejercicio…\n\nSemana del 21 al 27:\n\nComportamiento: Evitar tensión de la correa paseando por un parque.\nA tener en cuenta…: Si tu perro está haciendo un buen trabajo\, ¡déjale descansar! La mejor forma de que el ejercicio se mantenga es que le resulte una meta alcanzable. Como siempre\, empieza con poco tiempo o poco recorrido\, y déjale que olfatee o juegue un rato\, antes de volver a trabajarlo.\nConsejo: Cuantos menos estímulos nuevos tenga\, más sencillo será que no quiera irse a conocerlos. Quizá el mejor estímulo puedas ser tú en cualquier caso 😉\n\nSemana del 28 al 03 (febrero):\n\nComportamiento: Evitar tensión de la correa delante de perros.\nA tener en cuenta…: No todos los perros que se encuentre tendrán la misma energía ni se comportarán de la misma manera. Escucha a tu perro\, préstale atención y entiende sus comportamientos. Cuando se mantenga relajado/a con la correa\, ¡felicítale! pero cuidado con la efusividad en momentos de tensión aunque sea leve\, delante de otros perrros.\nConsejo: Si necesitas poner más distancia e incluso cruzarte de acera\, ¡hazlo! Dale a tu perro/a el espacio que necesite para que pueda sentirse cada vez más cómodo con menos espacio entre ellos.\n\nNormas de participación en el reto mensual\n\nCualquier persona que suba un vídeo donde el perro se muestre en una actitud de miedo o incomodidad por el entrenamiento\, será automáticamente eliminado y descalificado del reto.\nNo se admitirá ningún vídeo en donde se muestre el uso de la violencia o la fuerza implícita o explícitamente.\nLos vídeos podrán subirse a lo largo de la semana\, en tiempo y forma. Todo vídeo subido a nuestro Facebook fuera de fecha\, será evaluado por el equipo de Sentido Animal pero no entrará en el reto para la consecución de los premios finales.\nPara poder reclamar tu premio\, es necesario que le hayas dado a ME GUSTA y que seas seguidor/a en nuestra página de Facebook.\nLos premios podrán ser reclamados durante los 7 días naturales desde la finalización del reto completo (4 fases)\, y tras haber compartido en la página de Facebook al menos 4 vídeos de los ejercicios bien ejecutados.\nLos premios se otorgarán por persona y no son acumulables por la participación con varios perros. No obstante\, la valoración del reto se dará individualizadamente por perro con el que se entrene.
URL:https://sentidoanimalweb.advserver.es/evento/reto-de-enero-2019/
CATEGORIES:Adiestramiento canino,Evento gratis,Próximas actividades,Próximos eventos para cachorros
END:VEVENT
BEGIN:VEVENT
DTSTART;TZID=Europe/Madrid:20190109T120000
DTEND;TZID=Europe/Madrid:20190109T130000
DTSTAMP:20260420T193218
CREATED:20181223T202226Z
LAST-MODIFIED:20181223T202226Z
UID:7323-1547035200-1547038800@sentidoanimalweb.advserver.es
SUMMARY:Comienzo de escuela de gatos
DESCRIPTION:Clases de adiestramiento felino\n\nHoy por hoy aún son muchas las personas que siguen pensando que no es necesario adiestrar a sus gatos para poder llevar a cabo una convivencia feliz y mucho más agradable en familia. Y esto no sólo es necesario para disfrutar del gato de la manera en la que siempre quisimos hacerlo\, sino también por su propio bienestar\, por seguir unas normas de convivencia\, e incluso para poder ayudar a nuestro compañero gatuno a afrontar situaciones difíciles como puede ser la consulta en un veterinario. \n\n\n\n\n\n\n\n\n\n\nEjercicio\, vínculo y aprendizaje\n\n“Mens sana in corpore sano”\, ¿recuerdas? Pues eso mismo es lo que hacemos en las clases de adiestramiento de gatos en grupo. Os enseñamos a que vuestros gatos gasten de manera positiva y efectiva toda esa energía que van acumulando\, ejercitando sus capacidades físicas pero también las mentales. \nNos preocupamos en enseñar a nuestros alumnos la manera sana de llevar a cabo el ejercicio y cómo desarrollar habilidades cognitivas necesarias para desarrollarse… ¡todo partiendo de un adiestramiento divertido para tu gato! \nSin embargo\, la parte más importante de nuestro trabajo sin duda es conseguir que percibas la relación con tu gato como una relación de cooperación\, no de competición\, y que puedas asumir su educación y entrenamiento basándote siempre en un respeto mutuo que proporcionará la confianza suficiente como para que podáis hacer grandes cosas juntos. Esa confianza creará un vínculo muy fuerte con el que podréis salvar las dificultades del día a día. \nCompartir los conocimientos necesarios para que puedas educar a tu propio gao\, para que puedas entender y solucionar los problemasen un futuro\, es nuestro objetivo. \n¡Ven a probar la primera clase y comienza a disfrutar con tu felino! \nPrecios\n\n\nPrimera clase: ¡gratis!\nClases sucesivas: 15 €\n1 mes (4 clases): 50 €\n1 trimestre (12 clases): 135 €
URL:https://sentidoanimalweb.advserver.es/evento/comienzo-de-escuela-de-gatos/
LOCATION:Escuela Sentido Animal\, C/ Valdemorillo 35\, Alcorcón\, Madrid\, 28925\, España
CATEGORIES:Adiestramiento de gatos
ATTACH;FMTTYPE=:
END:VEVENT
BEGIN:VEVENT
DTSTART;TZID=Europe/Madrid:20190111T110000
DTEND;TZID=Europe/Madrid:20190111T120000
DTSTAMP:20260420T193218
CREATED:20181223T184938Z
LAST-MODIFIED:20181223T184938Z
UID:7306-1547204400-1547208000@sentidoanimalweb.advserver.es
SUMMARY:Sesión de bienestar con perros - 11 enero
DESCRIPTION:Parar un momento nos supone a veces un esfuerzo que no estamos dispuestos a llevar a cabo… y sin embargo es tan necesario como cualquier otra cosa de las que te mantienen preso del estrés\, las prisas\, las obligaciones… \nEn Sentido Animal lo sabemos y por eso hemos creado un espacio para que puedas venir con tu perrete y podáis encontraros con tranquilidad. Compartir momentos de calidad con tu perro es mucho más importante que pasar tiempo largo pero desconectado de él. \n¿Qué haremos en las sesiones?\nBuscaremos el momento de relajarnos: música tranquila\, mantas y esterillas\, calefacción y una relajación guiada\, ayudarán a este propósito.\nEn un ambiente tranquilo\, hablaremos de perros\, de posibles dificultades que tenemos con ellos y de cómo enfrentar estos problemas para poder solucionarlos.\nTomaremos una infusión calentita mientras ponemos soluciones en común y estrecharemos el vínculo con nuestros perretes. \n¿Es una sesión puntual?\nA partir de enero comenzaremos a tener sesiones semanales para poder crear una rutina y una predisposición\, tanto de los compañeros caninos como de las personas que vienen al curso. \n¿Es necesario ir con perro?\nSería estupendo que pudieras venir con tu perro\, pero si no convives con ninguno o crees que aún no está preparado para una sesión de una hora\, puedes venir a las sesiones y disfrutar de este momento para ti con alguno de nuestros peludos.
URL:https://sentidoanimalweb.advserver.es/evento/sesion-de-bienestar-con-perros-11-enero/
LOCATION:Escuela Sentido Animal\, C/ Valdemorillo 35\, Alcorcón\, Madrid\, 28925\, España
CATEGORIES:Próximas actividades,Próximos eventos para cachorros,Próximos talleres y webinarios
ATTACH;FMTTYPE=:
END:VEVENT
BEGIN:VEVENT
DTSTART;TZID=Europe/Madrid:20190112T100000
DTEND;TZID=Europe/Madrid:20190113T140000
DTSTAMP:20260420T193218
CREATED:20180917T155538Z
LAST-MODIFIED:20180917T155538Z
UID:6869-1547287200-1547388000@sentidoanimalweb.advserver.es
SUMMARY:Psicología humana para adiestradores
DESCRIPTION:Seminario impartido por Luis Souto\, Licenciado en Psicología y Master en Neuropsicología infantil. Formado como educador canino con referentes como Turid Rugaas\, James O’Heare\, Helen Phillips\, o Anne Lille Kvam; tiene a sus espaldas una amplia experiencia en la educación y modificación de conducta de perros\, tanto en protección animal como en perros de familia. \nTenemos el placer de poner a vuestro alcance un seminario imprescindible a la hora de afrontar diferentes aspectos de una profesión apasionante como la de educador/a canino/a.\nLa educación y modificación de conducta caninas constituyen una profesión de ayuda  cuya buena práctica requiere el establecimiento de un fuerte compromiso entre perros\, educadores caninos y cuidadores/familia: Todo lo que conseguimos para los perros lo hacemos a través de sus figuras de apego. Surge de esta observación la inquietud por establecer una comunicación sincera y amistosa con el cliente humano. \nEn su primera versión el presente curso fue pionero en España en abordar esta laguna en la formación de muchos educadores caninos pasando revista a las claves para conseguir una buena alianza terapéutica: técnicas de comunicación (verbal\, paraverbal y no verbal)\, factores motivacionales en la familia y las estrategias más eficientes para la superación de sesgos cognitivos de los cuidadores respecto a sus perros susceptibles de enturbiar las buenas relaciones entre ambos polos. \nEn su versión actual te proporcionará las herramientas para poder ganar autonomía en el desempeño de esta faceta tan importante\, pero tan frecuentemente eclipsada\, de nuestro trabajo y de la cual depende en última instancia toda la eficacia de tu intervención. \n¿Sobre qué vamos a aprender?\nTras el curso\, como aprendiz autónomo\, serás capaz de desarrollar de forma progresiva maestría\, entendida como la interacción entre el desarrollo de determinadas habilidades (comunicativas\, inteligencia emocional\, pedagógicas etc.)\, la capacidad de aplicarlas a contextos cada vez más complejos y de autodirigirte con el objetivo de seguir creciendo. \nEn definitiva\, persistiendo en el camino que empieza con este seminario\, podrás tomar las riendas de tu propia práctica profesional con el cliente humano hasta alcanzar la misma fluidez y naturalidad con la que tratas a los perros. Porque todos tus clientes merecen el mismo respeto\, aprende a cuidar el factor humano. \nEnfrentarse a un cliente y encontrar la forma de hacerle llegar el compromiso y la motivación necesarias para la consecución de los objetivos en cada una de las sesiones\, suele ser una tarea complicada que llega a extenuar hasta a los profesionales más experimentados en el mundo del perro. Luis Souto nos dará las bases para contar con esa tercera parte\, el cliente\, tan importante a la hora de planificar el trabajo y de conseguir resultados fiables y duraderos. \nPor otro lado\, un entrenamiento poco afortunado o un animal complicado\, pueden hacer mella en un trabajo bien realizado\, con el que debemos contar para gestionar nuestras propias emociones como profesionales\, y lidiar con sentimientos o situaciones a veces poco favorables. \nDurante el fin de semana aprenderás\, entre otros aspectos:\n\nCómo desarrollar competencias de escucha activa y empática\, claves de utilización del lenguaje verbal y de lectura de lenguaje no verbal\, así como otras habilidades de comunicación. Prácticas de utilización efectiva de metáforas y de detección de mentiras.\nMás allá de los sesgos cognitivos; reconocimiento de cuándo nuestras emociones se interponen en el tratamiento de un caso y kit de autocuidado psicológico del cuidador frente al agotamiento por compasión. Prácticas de inteligencia emocional y reajuste personal.\nDistintas fases en el tratamiento y objetivos prioritarios en cada una de ellas; abonar la confianza para permitir la apertura del cliente\, identificar el problema a tratar y plantear objetivos\, iniciar el tratamiento y mantener los resultados.\nActores en el proceso de cambio\, variables interpersonales y principales elementos en el éxito de la intervención; importancia\, componentes\, y características de la alianza terapéutica. Claves científicas para el fomento de la confianza.\nPlanteamiento de metas realistas de entrenamiento garantizando la adherencia a las mismas y evitando los errores más frecuentes. Uso adaptativo de los mecanismos de aprendizaje: respondiente\, operante\, observacional y mediante reglas.\nLa función de coaching del educador y el papel central de las emociones. Aprende a enseñar a hombros del gigante griego\, Aristóteles. Prácticas para proporcionar feedback positivo y negativo acrecentando la motivación de los clientes.\nManejo flexible de diversos instrumentos de recogida y transferencia de información para garantizar un inicio\, continuación y cierre del caso consensuados y productivos: Cómo acompañar a tus clientes de forma profesional y cálida desde la entrevista inicial al informe final.\nPrevención y resolución de los problemas más espinosos con clientes humanos\, incluyendo discrepancias económicas\, quejas por frustración y falta de progreso\, resistencias a las propuestas de entrenamiento incluyendo la persistencia en el uso del castigo y otras medidas contraterapéuticas.\n\n¿A quién va dirigido el seminario?\nA profesionales de la educación canina con o sin experiencia\, que quieran mejorar sus aptitudes con los clientes y mejorar sus propios procesos emocionales internos. \nPrecio\nEl precio del seminario completo es de 150 €.\nPosibilidad de reservar alojamiento en las inmediaciones y almuerzo. \nDuración\nEl seminario tendrá una duración de día y medio\, con posibilidad de reservar el almuerzo: \n\nSábado 12 de enero\, de 10h a 14h y de 16h a 20h.\nDomingo 13 de enero\, de 10h a 14h.
URL:https://sentidoanimalweb.advserver.es/evento/psicologia-humana-para-adiestradores/
LOCATION:Escuela Sentido Animal\, C/ Valdemorillo 35\, Alcorcón\, Madrid\, 28925\, España
CATEGORIES:Cursos profesionales,Próximos cursos profesionales
ATTACH;FMTTYPE=:
END:VEVENT
BEGIN:VEVENT
DTSTART;TZID=Europe/Madrid:20190116T100000
DTEND;TZID=Europe/Madrid:20190116T120000
DTSTAMP:20260420T193218
CREATED:20190110T204114Z
LAST-MODIFIED:20190110T204114Z
UID:7395-1547632800-1547640000@sentidoanimalweb.advserver.es
SUMMARY:Socialización canina y paseo miércoles – enero 2019
DESCRIPTION:En esta ocasión\, estaremos realizando una socialización controlada tras varios ejercicios de aproximación\, trabajando el exceso de efusividad\, las inseguridades y la reactividad a otros perros o personas. \nTodo debidamente cuidado y valorando cada caso invidividualmente para conseguir un manejo de corea adecuado\, que nos permita según transcurra lel evento\, tener un paseo tranquilo sin tensión en la correa. \nEl miércoles nos vemos en el Humedal de Coslada\, de la mano de Meritxell Dirube y Silvia del Pozo.
URL:https://sentidoanimalweb.advserver.es/evento/socializacion-canina-y-paseo-miercoles-enero-2019/
LOCATION:El Humedal de Coslada\, Parque El Humedal \, Coslada\, Madrid\, 28822\, España
CATEGORIES:Próximas salidas de socialización
ATTACH;FMTTYPE=:
END:VEVENT
BEGIN:VEVENT
DTSTART;TZID=Europe/Madrid:20190125T110000
DTEND;TZID=Europe/Madrid:20190125T120000
DTSTAMP:20260420T193218
CREATED:20181223T185252Z
LAST-MODIFIED:20181223T185252Z
UID:7308-1548414000-1548417600@sentidoanimalweb.advserver.es
SUMMARY:Sesión de bienestar con perros - 25 enero
DESCRIPTION:Parar un momento nos supone a veces un esfuerzo que no estamos dispuestos a llevar a cabo… y sin embargo es tan necesario como cualquier otra cosa de las que te mantienen preso del estrés\, las prisas\, las obligaciones… \nEn Sentido Animal lo sabemos y por eso hemos creado un espacio para que puedas venir con tu perrete y podáis encontraros con tranquilidad. Compartir momentos de calidad con tu perro es mucho más importante que pasar tiempo largo pero desconectado de él. \n¿Qué haremos en las sesiones?\nBuscaremos el momento de relajarnos: música tranquila\, mantas y esterillas\, calefacción y una relajación guiada\, ayudarán a este propósito.\nEn un ambiente tranquilo\, hablaremos de perros\, de posibles dificultades que tenemos con ellos y de cómo enfrentar estos problemas para poder solucionarlos.\nTomaremos una infusión calentita mientras ponemos soluciones en común y estrecharemos el vínculo con nuestros perretes. \n¿Es una sesión puntual?\nA partir de enero comenzaremos a tener sesiones semanales para poder crear una rutina y una predisposición\, tanto de los compañeros caninos como de las personas que vienen al curso. \n¿Es necesario ir con perro?\nSería estupendo que pudieras venir con tu perro\, pero si no convives con ninguno o crees que aún no está preparado para una sesión de una hora\, puedes venir a las sesiones y disfrutar de este momento para ti con alguno de nuestros peludos. \nPrecios\n\n1 sesión: 15 € por persona\n2 sesiones (1 mes): 30 € por persona\n6 sesiones (1 trimestre): 80 € por persona
URL:https://sentidoanimalweb.advserver.es/evento/sesion-de-bienestar-con-perros-25-enero/
LOCATION:Escuela Sentido Animal\, C/ Valdemorillo 35\, Alcorcón\, Madrid\, 28925\, España
CATEGORIES:Próximas actividades,Próximos eventos para cachorros,Próximos talleres y webinarios
ATTACH;FMTTYPE=:
END:VEVENT
BEGIN:VEVENT
DTSTART;TZID=Europe/Madrid:20190126T100000
DTEND;TZID=Europe/Madrid:20190126T140000
DTSTAMP:20260420T193218
CREATED:20190103T103139Z
LAST-MODIFIED:20190103T103139Z
UID:7371-1548496800-1548511200@sentidoanimalweb.advserver.es
SUMMARY:Seminario: Disc Dog y el perro de deporte
DESCRIPTION:Jugar con nuestros perros y practicar deportes caninos con ellos es una diversión enorme\, y además afianza nuestro vínculo fuertemente. \nPara poder hacerlo\, debemos velar por su seguridad y su buen estado físico. \nEl Disc Dog es uno de los deportes más espectaculares y Juan Alberto Revilla viene a compartir con nosotros su experiencia\, y a enseñarnos todo lo necesario para iniciarnos en esta disciplina. \n \nLo que aprenderemos\n\n¿Que es un perro de deporte?\nEstado físico del perro\nIntroducción breve a la historia del Dogfrisbee\nLanzamientos básicos\nMotivación del perro por el juego\nJuego con varios discos\nEntrenamiento de saltos\nTiming y secuencias de varios discos\n\n\nFecha y horario\nSábado 26 de enero\, de 10h a 14h. \n¿Quién puede asistir al curso?\n\nPersonas interesadas en aprender sobre el bienestar del perro en actividades deportivas.\nPersonas interesadas en iniciarse en la disciplina deportiva de Disc Dog /  Dogfrisbee
URL:https://sentidoanimalweb.advserver.es/evento/seminario-disc-dog-y-el-perro-de-deporte/
LOCATION:Escuela Sentido Animal\, C/ Valdemorillo 35\, Alcorcón\, Madrid\, 28925\, España
CATEGORIES:Adiestramiento canino,Próximos talleres y webinarios
ATTACH;FMTTYPE=:
END:VEVENT
BEGIN:VEVENT
DTSTART;TZID=Europe/Madrid:20190127T103000
DTEND;TZID=Europe/Madrid:20190127T123000
DTSTAMP:20260420T193218
CREATED:20180905T084010Z
LAST-MODIFIED:20180905T084010Z
UID:6596-1548585000-1548592200@sentidoanimalweb.advserver.es
SUMMARY:Socialización canina y paseo - enero 2019
DESCRIPTION:Quedamos en Boadilla del Monte\, en un paraje para hinchar los pulmones y disfrutar de la tranquilidad y la naturaleza en este comienzo de año. \nEl 27 de enero nuestra salida de socialización canina y paseo se hará en un sitio de extensiones abiertas\, sencillo de recorrer. \n  \nComo siempre\, tras los ejercicios para trabajar con los perros la atención\, la respuesta a la señal y los acercamientos educados\, tendremos posibilidad de soltarlos\, teniendo en cuenta las particularidades de la zona y de los perretes\, pues son extensiones grandes con conejos y otros animales de la zona. \nPara los perros que no estén preparados para andar sueltos\, continuaremos con los ejercicios o pasaremos a un recinto acotado\, según las características del grupo.
URL:https://sentidoanimalweb.advserver.es/evento/socializacion-canina-y-paseo-enero-2019/
LOCATION:Boadilla del Monte\, Boadilla del Monte\, Madrid\, España
CATEGORIES:Próximas salidas de socialización,Próximos eventos para cachorros
ATTACH;FMTTYPE=:
END:VEVENT
END:VCALENDAR