BEGIN:VCALENDAR
VERSION:2.0
PRODID:-//Sentido Animal - ECPv6.15.13.1//NONSGML v1.0//EN
CALSCALE:GREGORIAN
METHOD:PUBLISH
X-ORIGINAL-URL:https://sentidoanimalweb.advserver.es
X-WR-CALDESC:Eventos para Sentido Animal
REFRESH-INTERVAL;VALUE=DURATION:PT1H
X-Robots-Tag:noindex
X-PUBLISHED-TTL:PT1H
BEGIN:VTIMEZONE
TZID:Europe/Madrid
BEGIN:DAYLIGHT
TZOFFSETFROM:+0100
TZOFFSETTO:+0200
TZNAME:CEST
DTSTART:20170326T010000
END:DAYLIGHT
BEGIN:STANDARD
TZOFFSETFROM:+0200
TZOFFSETTO:+0100
TZNAME:CET
DTSTART:20171029T010000
END:STANDARD
BEGIN:DAYLIGHT
TZOFFSETFROM:+0100
TZOFFSETTO:+0200
TZNAME:CEST
DTSTART:20180325T010000
END:DAYLIGHT
BEGIN:STANDARD
TZOFFSETFROM:+0200
TZOFFSETTO:+0100
TZNAME:CET
DTSTART:20181028T010000
END:STANDARD
BEGIN:DAYLIGHT
TZOFFSETFROM:+0100
TZOFFSETTO:+0200
TZNAME:CEST
DTSTART:20190331T010000
END:DAYLIGHT
BEGIN:STANDARD
TZOFFSETFROM:+0200
TZOFFSETTO:+0100
TZNAME:CET
DTSTART:20191027T010000
END:STANDARD
END:VTIMEZONE
BEGIN:VEVENT
DTSTART;TZID=Europe/Madrid:20181103T170000
DTEND;TZID=Europe/Madrid:20181103T190000
DTSTAMP:20260420T221840
CREATED:20180930T180649Z
LAST-MODIFIED:20180930T180649Z
UID:6943-1541264400-1541271600@sentidoanimalweb.advserver.es
SUMMARY:Charla informativa gratuita del curso de Educador/a canino/a
DESCRIPTION:El próximo 03 de noviembre vamos a realizar una charla informativa sobre nuestro curso de Educador/a canino/a. La asistencia es gratuita aunque es necesario inscribirse para confirmar la asistencia. \nTrataremos sobre…\n\nQuienes somos y cuál es nuestra forma de ver el entrenamiento animal\nCómo está estructurado el curso\nAdiestramiento y educación cooperativa\nCómo son las prácticas y cuándo se realizan\nTitulación e incorporación al trabajo\n\nSi tienes interés en trabajar como Educador/a canino/a\, te esperamos el próximo día 03.
URL:https://sentidoanimalweb.advserver.es/evento/charla-informativa-gratuita-del-curso-de-educadora-caninoa/
LOCATION:Escuela Sentido Animal\, C/ Valdemorillo 35\, Alcorcón\, Madrid\, 28925\, España
CATEGORIES:Evento gratis,Próximos cursos profesionales
ATTACH;FMTTYPE=:
END:VEVENT
BEGIN:VEVENT
DTSTART;VALUE=DATE:20181105
DTEND;VALUE=DATE:20181106
DTSTAMP:20260420T221840
CREATED:20181102T091052Z
LAST-MODIFIED:20181102T091052Z
UID:6615-1541376000-1541462399@sentidoanimalweb.advserver.es
SUMMARY:Reto de noviembre 2018
DESCRIPTION:Este mes te proponemos el reto de permanecer quieto: \n\n \n\n\n \nSemana del 05 al 11:\n\nComportamiento: Aguantar tumbado o sentado entre 10 y 20 segundos\, antes de darle la señal de que se levante.\nA tener en cuenta…: Para que el ejercicio sea correcto\, el perro no podrá levantarse por su cuenta\, si no a tu señal.\nConsejo: Tener la comida en la mano te ayudará en los primeros momentos\, pero… ¿qué pasará cuando comiences a alejarte o al mover la mano?\n\nSemana del 12 al 18:\n\nComportamiento: Tumbado o sentado mientras te alejas\, entre 4 y 7 metros de distancia.\nA tener en cuenta…: Pasar de estático a movimiento suele costar… Quizá tengas que empezar reforzando simplemente por erguirte y volver a agacharte sin que el perro salga de la posición.\nConsejo: Puedes regresar hasta el perro y reforzarle dándole la señal de romper la permanencia\, o volver a marcharte después del refuerzo\, dejando que la permanencia sea más larga.\n\nSemana del 19 al 25:\n\nComportamiento: Tumbado en la calle con distractores como coches\, perros\, personas\, ruidos… entre 4 y 7 metros y durante al menos 10 segundo.\nA tener en cuenta…: Trabajar en un lugar conocido y sin estímulos no es lo mismo que hacerlo con distracciones y en un sitio menos predecible. ¡No entrenes pensando que debes comenzar en la calle en el mismo punto que terminaste en casa!\nConsejo: Estás trabajando dos variables: distancia y tiempo\, pero para poder avanzar más rápido\, trabaja sobre el tiempo mientras mantienes fija la distancia\, y viceversa.\n\nSemana del 26 al 02 (dic):\n\nComportamiento: Permaneciendo cuando deja de verte.\nA tener en cuenta…: Aparecen 3 variables: la visión\, la distancia y el tiempo. ¿Recuerdas cómo tendrías que hacerlo?\nConsejo: Para mantener la atención del perro y hacerle el ejercicio más sencillo y con menos nivel de estrés\, combina llamarle para que vaya corriendo a buscarte\, volver y reforzar en los laterales en vez de de frente\, darle la señal para que se levante al volver o marcharte de nuevo… ¡tienes muchas combinaciones!\n\nNormas de participación en el reto mensual\n\nCualquier persona que suba un vídeo donde el perro se muestre en una actitud de miedo o incomodidad por el entrenamiento\, será automáticamente eliminado y descalificado del reto.\nNo se admitirá ningún vídeo en donde se muestre el uso de la violencia o la fuerza implícita o explícitamente.\nLos vídeos podrán subirse a lo largo de la semana\, en tiempo y forma. Todo vídeo subido a nuestro Facebook fuera de fecha\, será evaluado por el equipo de Sentido Animal pero no entrará en el reto para la consecución de los premios finales.\nPara poder reclamar tu premio\, es necesario que le hayas dado a ME GUSTA y que seas seguidor/a en nuestra página de Facebook.\nLos premios podrán ser reclamados durante los 7 días naturales desde la finalización del reto completo (4 fases)\, y tras haber compartido en la página de Facebook al menos 4 vídeos de los ejercicios bien ejecutados.\nLos premios se otorgarán por persona y no son acumulables por la participación con varios perros. No obstante\, la valoración del reto se dará individualizadamente por perro con el que se entrene.
URL:https://sentidoanimalweb.advserver.es/evento/reto-de-noviembre-2018/
CATEGORIES:Adiestramiento canino,Evento gratis,Próximas actividades,Próximos eventos para cachorros,Reto mensual
END:VEVENT
BEGIN:VEVENT
DTSTART;TZID=Europe/Madrid:20181110T100000
DTEND;TZID=Europe/Madrid:20181110T190000
DTSTAMP:20260420T221840
CREATED:20180603T075043Z
LAST-MODIFIED:20180603T075043Z
UID:6268-1541844000-1541876400@sentidoanimalweb.advserver.es
SUMMARY:Curso de técnico en intervenciones asistidas con animales
DESCRIPTION:Cada vez más\, las intervenciones asistidas con animales van formando parte del día a día de muchos usuarios que encuentran en su contacto con los animales la motivación necesaria\, el vínculo\, el afecto y la falta de juicios necesarios para continuar avanzando. \nLa labor del técnico es fundamental para garantizar el bienestar del animal con el que se trabaja y para servir como enlace con el experto para conseguir una sesión fructífera en programas y actividades de esta índole. \nDestinatarios\n\nPersonas apasionadas por el mundo animal y la inquietud de querer mejorar la vida de las personas destinatarias de las sesiones.\nNo es necesario estar en posesión de ningún título universitario.\nProfesionales interesados en ampliar conocimientos y formación en relación con las IAA.\nAlumnos de monográficos\, seminarios o cursos sin prácticas o con un número reducido de horas sobre las intervenciones asistidas con animales.\n\nObjetivos\n\nProporcionar a los alumnos las herramientas necesarias para formar parte de un equipo de IAA como técnico\, en sesiones dirigidas a diferentes colectivos.\nConocer las bases históricas  de las Intervenciones Asistidas con Animales.\nInteriorizar la metodología\, protocolos\, objetivos y beneficios a identificar en las Intervenciones Asistidas con Animales.\nConocer los animales y colectivos que participan en Intervenciones Asistidas con Animales.\nConocer en profundidad el lenguaje y comportamiento canino para garantizar el bienestar del perro y lograr el éxito durante las sesiones.\nAdquirir herramientas para afrontar posibles imprevistos durante la sesión.\nAprender la metodología de entrenamiento dirigida a los perros de terapia.\nAprender el diseño\, programación\, desarrollo y evaluación en los programas de Intervenciones Asistidas con Animales.\n\nDuración\nEl curso tendrá una duración de >150 horas lectivas repartidas de la siguiente manera: \n\n60 horas contenido teórico.\n60 horas  de prácticas de adiestramiento del perro de terapia y otras especies animales.\n30 horas de prácticas en sesiones reales.\n\nPide más información de fechas y horarios.
URL:https://sentidoanimalweb.advserver.es/evento/curso-de-tecnico-en-intervenciones-asistidas-con-animales-2/
LOCATION:Escuela Sentido Animal\, C/ Valdemorillo 35\, Alcorcón\, Madrid\, 28925\, España
CATEGORIES:Cursos profesionales,Próximos cursos profesionales
ATTACH;FMTTYPE=:
END:VEVENT
BEGIN:VEVENT
DTSTART;TZID=Europe/Madrid:20181116T100000
DTEND;TZID=Europe/Madrid:20181116T120000
DTSTAMP:20260420T221840
CREATED:20181101T194218Z
LAST-MODIFIED:20181101T194218Z
UID:7144-1542362400-1542369600@sentidoanimalweb.advserver.es
SUMMARY:Socialización canina y paseo viernes – noviembre 2018
DESCRIPTION:Estrenamos una ubicación nueva tras las nuevas incorporaciones del equipo de Sentido Animal. \nEn esta ocasión\, estaremos realizando una socialización controlada tras varios ejercicios de aproximación\, trabajando el exceso de efusividad\, las inseguridades y la reactividad a otros perros o personas. \nTodo debidamente cuidado y valorando cada caso invidividualmente para conseguir un manejo de corea adecuado\, que nos permita según transcurra lel evento\, tener un paseo tranquilo sin tensión en la correa. \n¡Feliz estreno!
URL:https://sentidoanimalweb.advserver.es/evento/socializacion-canina-y-paseo-viernes-noviembre-2019/
LOCATION:Coslada\, Coslada\, Madrid\, 28821\, España
CATEGORIES:Próximas salidas de socialización
ATTACH;FMTTYPE=:
END:VEVENT
BEGIN:VEVENT
DTSTART;TZID=Europe/Madrid:20181116T130000
DTEND;TZID=Europe/Madrid:20181116T140000
DTSTAMP:20260420T221840
CREATED:20181112T105853Z
LAST-MODIFIED:20181112T105853Z
UID:7220-1542373200-1542376800@sentidoanimalweb.advserver.es
SUMMARY:Sesión de bienestar
DESCRIPTION:Parar un momento nos supone a veces un esfuerzo que no estamos dispuestos a llevar a cabo… y sin embargo es tan necesario como cualquier otra cosa de las que te mantienen preso del estrés\, las prisas\, las obligaciones… \nEn Sentido Animal lo sabemos y por eso hemos creado un espacio para que puedas venir con tu perrete y podáis encontraros con tranquilidad. Compartir momentos de calidad con tu perro es mucho más importante que pasar tiempo largo pero desconectado de él. \n¿Qué haremos en las sesiones?\nBuscaremos el momento de relajarnos: música tranquila\, mantas y esterillas\, calefacción y una relajación guiada\, ayudarán a este propósito.\nEn un ambiente tranquilo\, hablaremos de perros\, de posibles dificultades que tenemos con ellos y de cómo enfrentar estos problemas para poder solucionarlos.\nTomaremos una infusión calentita mientras ponemos soluciones en común y estrecharemos el vínculo con nuestros perretes. \n¿Es una sesión puntual?\nA partir de enero comenzaremos a tener sesiones semanales para poder crear una rutina y una predisposición\, tanto de los compañeros caninos como de las personas que vienen al curso. \n¿Es necesario ir con perro?\nSería estupendo que pudieras venir con tu perro\, pero si no convives con ninguno o crees que aún no está preparado para una sesión de una hora\, puedes venir a las sesiones y disfrutar de este momento para ti con alguno de nuestros peludos.
URL:https://sentidoanimalweb.advserver.es/evento/sesion-de-bienestar/
LOCATION:Escuela Sentido Animal\, C/ Valdemorillo 35\, Alcorcón\, Madrid\, 28925\, España
CATEGORIES:Adiestramiento canino,Próximos talleres y webinarios
ATTACH;FMTTYPE=:
END:VEVENT
BEGIN:VEVENT
DTSTART;TZID=Europe/Madrid:20181117T150000
DTEND;TZID=Europe/Madrid:20181117T200000
DTSTAMP:20260420T221840
CREATED:20181011T191148Z
LAST-MODIFIED:20181011T191148Z
UID:6994-1542466800-1542484800@sentidoanimalweb.advserver.es
SUMMARY:Diversidad sexogenérica: orientaciones sexuales e identidades/expresiones de género no normativas
DESCRIPTION:Este curso pretende la formación básica en la atención a la diversidad sexogenérica desde una perspectiva despatologizante e inclusiva. El curso son 15 horas lectivas de carácter presencial\, repartidas en 3 días de forma equitativa. En cada una de las sesiones se irán abordando progresivamente\, desde un punto de vista teórico\, académico y práctico\, las diferentes perspectivas de intervención socioeducativa con el colectivo LGBTIQ. Se pretende de esta forma\, crear un espacio de conocimiento y aprendizaje colectivo\, a través de sesiones magistrales\, videofórums\, dinámicas\, etc. \nObjetivos\n\nManejar con naturalidad conceptos clave como diversidad\, sexo\, género\, orientación sexual\, intersexualidad\, identidad de género\, expresión de género\, etc.\nComprender la realidad del sistema sexo-género y las diferentes perspectivas sobre las que se aborda actualmente.\nInteriorizar las propias actitudes lgbtifóbicas y lograr un acercamiento a la deconstrucción de esquemas preconcebidos.\nProporcionar y desarrollar recursos para la intervención socioeducativa en atención a la diversidad sexogenérica\nEstablecer canales de conocimiento colectivo y participación\n\nEsquema de los contenidos\nSábado 17 noviembre (5 horas: 15h-20h)\n\nPresentación del curso\nConcepto de normalidad y su interacción con la diversidad\nConceptos básicos: sexo\, género\, orientación sexual\, identidad de género\, expresión de género\, lgbtifobia\, violencia intragénero\, pinkwashing\, etc.\nSistema Sexo-género.\n\nMartes 20 noviembre (5 horas: 15h-20h)\n\nOrientación Sexual\nIntersexualidad\nIdentidad y expresión de género-Personas trans\nAfianzamos conceptos.\n\nMartes 27 noviembre (5 horas: 15h-20h)\n\nNormativa aplicable. Políticas públicas LGBTIQ\n\nleyes estatales\nleyes autonómicas\n\n\nBuenas prácticas en atención a la diversidad sexogenérica\n\nmateriales didácticos\nrecursos sociales\n\n\nPropuestas y espacio para la reflexión conjunta\nEvaluación y cierre\n\nDocente\nPaula de la Cruz Moreno es educadora social\, especialista en atención a la diversidad.\nDesde el año 2016\, desarrolla sus funciones profesionales en el Área de Diversidad Sexogenérica de la Unidad de Diversidad de la Universidad Complutense de Madrid. Sus investigaciones se han centrado en la temática de las identidades trans\, abordando desde los recursos educativos especializados en identidades no normativas\, hasta el análisis de buenas prácticas con el colectivo LGBTIQ+. También ha diseñado e impartido formación en materia de diversidad sexogenérica (Trans-escuelas\, Formación del profesorado de la Universidad Complutense de Madrid; Formación de profesionales del ocio y tiempo libre en atención a la diversidad sexogenérica; Gestión\, comunicación y atención a la diversidad sexogenérica\, etc). Ha sido ponente en numerosas conferencias\, jornadas y mesas redondas sobre la atención e intervención social con el colectivo trans.
URL:https://sentidoanimalweb.advserver.es/evento/diversidad-sexogenerica-orientaciones-sexuales-e-identidadesexpresiones-de-genero-no-normativas/
LOCATION:Escuela Sentido Animal\, C/ Valdemorillo 35\, Alcorcón\, Madrid\, 28925\, España
CATEGORIES:Cursos profesionales,Próximos talleres y webinarios
ATTACH;FMTTYPE=:
END:VEVENT
BEGIN:VEVENT
DTSTART;TZID=Europe/Madrid:20181118T170000
DTEND;TZID=Europe/Madrid:20181118T200000
DTSTAMP:20260420T221840
CREATED:20181030T191507Z
LAST-MODIFIED:20181030T191507Z
UID:7131-1542560400-1542571200@sentidoanimalweb.advserver.es
SUMMARY:Sesión fotográfica - noviembre 2018
DESCRIPTION:El próximo día 18 de noviembre estará de nuevo en la escuela Jessica Megía para retratar a vuestros compañeros peludos y a vosotros con ellos. \nCon la sensibilidad y el amor por los animales que tanto la caracteriza\, Jessica plasma a la perfección a nuestros amigos en una imagen que se quedará para siempre en vuestra retina… ¿hemos dicho una imagen? ¡No! Lo cierto es que la sesión fotográfica incluye varias imágenes para disfrutarlas sin descanso. \n\nSesión fotográfica en estudio de 5 fotografías\nDuración de la sesión: hasta 1h\nEdición digital\nEntrega en formato digital y a máxima calidad\nEntrega así mismo en formato optimizado para las redes sociales\nDescarga de imágenes a través de un enlace web\n\nTarifas\nSesión de 4 fotografías editadas digitalmente: 30 € (¡y pídenos otra de regalo!)\nSegundo animal o sucesivos: -20% descuento.\nFotografía extra: 10 €
URL:https://sentidoanimalweb.advserver.es/evento/sesion-fotografica-noviembre-2018/
LOCATION:Escuela Sentido Animal\, C/ Valdemorillo 35\, Alcorcón\, Madrid\, 28925\, España
CATEGORIES:Sesiones fotográficas de animales
ATTACH;FMTTYPE=:
END:VEVENT
BEGIN:VEVENT
DTSTART;TZID=Europe/Madrid:20181125T103000
DTEND;TZID=Europe/Madrid:20181125T123000
DTSTAMP:20260420T221840
CREATED:20180830T160722Z
LAST-MODIFIED:20180830T160722Z
UID:6575-1543141800-1543149000@sentidoanimalweb.advserver.es
SUMMARY:Socialización canina y paseo con perros - noviembre 2018
DESCRIPTION:La salida de este mes de noviembre la haremos en un lugar tranquilo en Boadilla del Monte\, cercano a ruidos diferentes como el paso del metro ligero (sin peligro\, hay vaya de separación). Pocos estímulos extra para una salida en la que trabajaremos la tranquilidad durante el paseo y el uso conveniente de la correa en una zona de campo\, algo que no todos los perros aceptan con agrado. \nComo siempre\, llegaremos a una zona más abierta donde con facilidad podremos tener control visual de nuestros perros\, y aquéllos que puedan gestionarlo\, podrán correr sueltos y socializar controladamente con el resto. \nTiempo después\, les pondremos la correa de nuevo y volveremos al punto de partida.
URL:https://sentidoanimalweb.advserver.es/evento/socializacion-canina-y-paseo-con-perros-noviembre-2018/
LOCATION:Boadilla del Monte\, Boadilla del Monte\, Madrid\, España
CATEGORIES:Próximas salidas de socialización,Próximos eventos para cachorros
ATTACH;FMTTYPE=:
END:VEVENT
BEGIN:VEVENT
DTSTART;TZID=Europe/Madrid:20181125T160000
DTEND;TZID=Europe/Madrid:20181125T200000
DTSTAMP:20260420T221840
CREATED:20180922T180129Z
LAST-MODIFIED:20180922T180129Z
UID:6889-1543161600-1543176000@sentidoanimalweb.advserver.es
SUMMARY:Monográfico de IAA de sordoceguera
DESCRIPTION:Monográfico sobre las Intervenciones Asistidas con Animales adaptadas a las personas con sordoceguera\, que podremos disfrutar durante la tarde del día 25 de noviembre\, de la manos de una gran profesional: Cristina López Arellano. \nEl seminario está diseñado para adentrarse en el conocimiento de personas con sordoceguera de una forma teórico-práctica\, con ejercicios de empatía y enfocándonos en el trabajo que puede realizarse con ellos a través de los animales. \nDurante el monográfico\, aprenderemos sobre: \n\n¿Qué significa ser una persona con sordoceguera?\n¿Qué sistemas de comunicación se utilizan?\n¿Cómo es su día a día?\n¿A qué barreras se enfrentan?\n\nDuración\nEl monográfico tiene una duración de 4h\, el domingo 25 de noviembre\, de 16h a 20h \n¿A quién va dirigido?\n\nA técnicos/as y expertos/as en Intervenciones Asistidas con Animales que deseen profundizar en el conocimiento y posibles ejercicios prácticos para personas con este tipo de diversidad funcional.\nA cualquier persona que quiera conocer y empatizar con personas con sordoceguera y aprender sobre ella.
URL:https://sentidoanimalweb.advserver.es/evento/monografico-de-iaa-de-sordoceguera-2/
LOCATION:Escuela Sentido Animal\, C/ Valdemorillo 35\, Alcorcón\, Madrid\, 28925\, España
CATEGORIES:Cursos profesionales,Próximos cursos profesionales
ATTACH;FMTTYPE=:
END:VEVENT
END:VCALENDAR