BEGIN:VCALENDAR
VERSION:2.0
PRODID:-//Sentido Animal - ECPv6.15.13.1//NONSGML v1.0//EN
CALSCALE:GREGORIAN
METHOD:PUBLISH
X-WR-CALNAME:Sentido Animal
X-ORIGINAL-URL:https://sentidoanimalweb.advserver.es
X-WR-CALDESC:Eventos para Sentido Animal
REFRESH-INTERVAL;VALUE=DURATION:PT1H
X-Robots-Tag:noindex
X-PUBLISHED-TTL:PT1H
BEGIN:VTIMEZONE
TZID:Europe/Madrid
BEGIN:DAYLIGHT
TZOFFSETFROM:+0100
TZOFFSETTO:+0200
TZNAME:CEST
DTSTART:20170326T010000
END:DAYLIGHT
BEGIN:STANDARD
TZOFFSETFROM:+0200
TZOFFSETTO:+0100
TZNAME:CET
DTSTART:20171029T010000
END:STANDARD
BEGIN:DAYLIGHT
TZOFFSETFROM:+0100
TZOFFSETTO:+0200
TZNAME:CEST
DTSTART:20180325T010000
END:DAYLIGHT
BEGIN:STANDARD
TZOFFSETFROM:+0200
TZOFFSETTO:+0100
TZNAME:CET
DTSTART:20181028T010000
END:STANDARD
BEGIN:DAYLIGHT
TZOFFSETFROM:+0100
TZOFFSETTO:+0200
TZNAME:CEST
DTSTART:20190331T010000
END:DAYLIGHT
BEGIN:STANDARD
TZOFFSETFROM:+0200
TZOFFSETTO:+0100
TZNAME:CET
DTSTART:20191027T010000
END:STANDARD
END:VTIMEZONE
BEGIN:VEVENT
DTSTART;TZID=Europe/Madrid:20180519T150000
DTEND;TZID=Europe/Madrid:20180519T200000
DTSTAMP:20260421T062736
CREATED:20180105T211142Z
LAST-MODIFIED:20180105T211142Z
UID:5801-1526742000-1526760000@sentidoanimalweb.advserver.es
SUMMARY:Curso de experto en intervenciones asistidas con animales
DESCRIPTION:Las intervenciones asistidas con animales están cada vez más presentes en nuestra sociedad. En ellas\, el animal es parte integral y fundamental de la terapia\, la actividad o el proceso educativo\, y mantiene una motivación difícilmente comparable en otras sesiones de trabajo. \nEl vínculo que se establece con los usuarios\, su espontaneidad y por otro lado\, un trabajo preciso y profesional con el animal\, aportan al experto en intervenciones asistidas con animales un abanico de posibilidades para la consecución de sus objetivos terapéuticos y educativos\, en equipo con el técnico. \n \nDestinatarios\n\nProfesionales relacionados con el mundo sanitario\, social y/o de la educación.\nEstudiantes del ámbito sanitario\, social y/o educacional.\n\nObjetivos\n\nConocer las bases históricas y científicas de las Intervenciones Asistidas con Animales.\nComprender las diferentes conceptualizaciones y características de las Intervenciones Asistidas con Animales.\nInteriorizar la metodología\, protocolos\, objetivos y beneficios a identificar en las Intervenciones Asistidas con Animales.\nConocer los animales y colectivos que participan en Intervenciones Asistidas con Animales.\nManejar métodos de investigación en relación a las Intervenciones Asistidas con Animales.\nAprender el diseño\, programación\, desarrollo y evaluación en los programas de Intervenciones Asistidas con Animales.\n\nDuración\nEl curso tendrá una duración de 50 horas lectivas repartidas de la siguiente manera: \n\n20 horas contenido teórico.\n30 horas de prácticas en sesiones reales.\n\nPide más información de fechas y horarios.
URL:https://sentidoanimalweb.advserver.es/evento/curso-de-experto-en-intervenciones-asistidas-con-animales/
LOCATION:Escuela Sentido Animal\, C/ Valdemorillo 35\, Alcorcón\, Madrid\, 28925\, España
CATEGORIES:Próximos cursos profesionales
ATTACH;FMTTYPE=:
END:VEVENT
BEGIN:VEVENT
DTSTART;TZID=Europe/Madrid:20180519T170000
DTEND;TZID=Europe/Madrid:20180519T200000
DTSTAMP:20260421T062736
CREATED:20180401T192900Z
LAST-MODIFIED:20180401T192900Z
UID:6128-1526749200-1526760000@sentidoanimalweb.advserver.es
SUMMARY:Monográfico de IAA de sordoceguera
DESCRIPTION:Este monográfico ya ha pasado. \nConsulta nuevas fechas.
URL:https://sentidoanimalweb.advserver.es/evento/monografico-de-iaa-de-sordoceguera/
LOCATION:Escuela Sentido Animal\, C/ Valdemorillo 35\, Alcorcón\, Madrid\, 28925\, España
CATEGORIES:Próximos cursos profesionales
ATTACH;FMTTYPE=:
END:VEVENT
BEGIN:VEVENT
DTSTART;TZID=Europe/Madrid:20180526T170000
DTEND;TZID=Europe/Madrid:20180526T200000
DTSTAMP:20260421T062736
CREATED:20180505T094316Z
LAST-MODIFIED:20180505T094316Z
UID:6165-1527354000-1527364800@sentidoanimalweb.advserver.es
SUMMARY:Monográfico de IAA de autismo
DESCRIPTION:Este monográfico ya se realizó.\nConsulta nuevas fechas.
URL:https://sentidoanimalweb.advserver.es/evento/monografico-de-iaa-de-autismo/
CATEGORIES:Cursos profesionales,Próximos talleres y webinarios
ATTACH;FMTTYPE=:
END:VEVENT
BEGIN:VEVENT
DTSTART;TZID=Europe/Madrid:20180527T090000
DTEND;TZID=Europe/Madrid:20180527T113000
DTSTAMP:20260421T062736
CREATED:20180517T175651Z
LAST-MODIFIED:20180517T175651Z
UID:6226-1527411600-1527420600@sentidoanimalweb.advserver.es
SUMMARY:Salida de socialización canina - mayo 2018
DESCRIPTION:Adelantamos nuestra salida de socialización para evitar el calor que ya vamos notando a medio día. \nEl domingo 27 de mayo estaremos en Boadilla del Monte\, en un espacio tranquilo donde poder trabajar sin imprevistos no deseados la socialización de los perros\, su timidez\, su efusividad y sus relaciones sociales. \nDos horas y media de trabajo a la medida de cada equipo perro-persona para poder sacar lo mejor de ellos\, y llevarnos a casa un montón de herramientas para el trabajo diario.
URL:https://sentidoanimalweb.advserver.es/evento/salida-de-socializacion-canina-mayo-2018/
LOCATION:Boadilla del Monte\, Boadilla del Monte\, Madrid\, España
CATEGORIES:Salidas de socialización pasadas
ATTACH;FMTTYPE=:
END:VEVENT
END:VCALENDAR