BEGIN:VCALENDAR
VERSION:2.0
PRODID:-//Sentido Animal - ECPv6.15.13.1//NONSGML v1.0//EN
CALSCALE:GREGORIAN
METHOD:PUBLISH
X-ORIGINAL-URL:https://sentidoanimalweb.advserver.es
X-WR-CALDESC:Eventos para Sentido Animal
REFRESH-INTERVAL;VALUE=DURATION:PT1H
X-Robots-Tag:noindex
X-PUBLISHED-TTL:PT1H
BEGIN:VTIMEZONE
TZID:Europe/Madrid
BEGIN:DAYLIGHT
TZOFFSETFROM:+0100
TZOFFSETTO:+0200
TZNAME:CEST
DTSTART:20170326T010000
END:DAYLIGHT
BEGIN:STANDARD
TZOFFSETFROM:+0200
TZOFFSETTO:+0100
TZNAME:CET
DTSTART:20171029T010000
END:STANDARD
BEGIN:DAYLIGHT
TZOFFSETFROM:+0100
TZOFFSETTO:+0200
TZNAME:CEST
DTSTART:20180325T010000
END:DAYLIGHT
BEGIN:STANDARD
TZOFFSETFROM:+0200
TZOFFSETTO:+0100
TZNAME:CET
DTSTART:20181028T010000
END:STANDARD
BEGIN:DAYLIGHT
TZOFFSETFROM:+0100
TZOFFSETTO:+0200
TZNAME:CEST
DTSTART:20190331T010000
END:DAYLIGHT
BEGIN:STANDARD
TZOFFSETFROM:+0200
TZOFFSETTO:+0100
TZNAME:CET
DTSTART:20191027T010000
END:STANDARD
END:VTIMEZONE
BEGIN:VEVENT
DTSTART;TZID=Europe/Madrid:20180303T100000
DTEND;TZID=Europe/Madrid:20180303T140000
DTSTAMP:20260421T090234
CREATED:20170927T191014Z
LAST-MODIFIED:20170927T191014Z
UID:5329-1520071200-1520085600@sentidoanimalweb.advserver.es
SUMMARY:Charla: Ansiedad por separación
DESCRIPTION:Cuando un perro no es capaz de gestionar una situación en la que debe permanecer solo en casa\, en el coche o incluso a unos metros de la persona que habitualmente le cuida\, estamos en la obligación de hacer lo que esté en nuestra mano para solucionarlo. \nLa ansiedad por separación va mucho más allá de unos destrozos en casa o unos vecinos quejándose por el ruido o los ladridos. La ansiedad por separación pasa por un estado que dificulta que el perro esté mentalmente sano. La necesidad de permanecer en alerta\, temeroso o pendiente del regreso\, no permite un necesario descanso y puede ser el desencadenante de otras conductas\, además de alimentarse a su vez de ellas. \nEn esta charla abordaremos puntos importantes como: \n\nDiagnóstico apropiado: ansiedad o aburrimiento\nPrincipales motivos\nEl mejor remedio: la prevención\nAlternativas a dejarle solo en casa\nManejando el entorno\nTrabajando tiempos y pasatiempos\nMás allá de la ansiedad al marcharse de casa (tratamiento holístico)\n\nFecha y horario\n03 marzo (10h – 14h) \nPrecio\n20 € por persona
URL:https://sentidoanimalweb.advserver.es/evento/charla-ansiedad-por-separacion/
LOCATION:Ventorro del Cano\, Alcorcón\, Valdemorillo\, 35 \, Alcorcón\, Madrid\, 28925\, España
CATEGORIES:Talleres y charlas pasados
ATTACH;FMTTYPE=:
END:VEVENT
BEGIN:VEVENT
DTSTART;TZID=Europe/Madrid:20180307T180000
DTEND;TZID=Europe/Madrid:20180307T193000
DTSTAMP:20260421T090234
CREATED:20180220T105628Z
LAST-MODIFIED:20180220T105628Z
UID:6000-1520445600-1520451000@sentidoanimalweb.advserver.es
SUMMARY:Educación para el día a día / marzo-mayo 2018
DESCRIPTION:Nuevo curso trimestral de educación canina para el día a día\, en los meses de marzo a mayo. \n¿Qué hacemos en las clases?\nVamos moldeando y trabajando la atención y el vínculo\, principalmente\, en base a ejercicios divertidos y entretenidos para los perros asistentes\, que además hagan una buena base en su cabeza permitiendo manejar situaciones habituales de una manera amable y constructiva. Puedes leer más sobre las clases aquí. \nAprenderemos sobre: \n\nManejo de la correa y manipulación del perro\, de manera amable y educada.\nInducir al perro a la relajación y mantenerle tranquilo en entorno o situaciones nuevas.\nJuegos cognitivos y físicos\, como parte del bienestar fundamental del perro.\nRespuesta a las señales: sentarse\, tumbarse\, permanecer quieto\, caminar a nuestro lado\, venir a la llamada.\nSocialización y saludo adecuado con perros y personas.\n\n¿Quién puede apuntarse?\nEn las clases se contemplan tres niveles diferentes: \n\nInicial: personas que comienzan a enseñar a su perro o que tienen dificultades en conseguir los comportamientos deseados; perros que necesitan encontrar la motivación para responder a las señales; personas o perros que hayan pasado por la desagradale experiencia de un adiestramiento basado en el castigo\, el daño o el miedo; adultos o cachorros.\nMedio: guías y perros con bases de adiestramiento respetuoso y cooperativo que pueden comenzar a introducir estímulos  que dificulten la tarea a realizar\, distractores de intensidad baja y media\, manteniendo la calidad y limpieza de los ejercicios. Aumento de reforzadores e inicio de trabajo en la distancia.\nAvanzado: guías y perros con experiencia en el entrenamiento que buscan mejorar la latencia\, la velocidad\, el trabajo en la media distancia; introducción de distractores de intensidad alta.\n\nFechas y horarios\n07\, 14\, 25* marzo (25 de marzo: domingo).\n04\, 11\, 18 y 25 de abril.\n02\, 09\, 16\, 23 y 30 de mayo. \nPrecio\n\nCurso completo (12 sesiones): 190 € por perro\nDía suelto: 20 € por perro
URL:https://sentidoanimalweb.advserver.es/evento/educacion-para-el-dia-a-dia-marzo-mayo-2018/
LOCATION:Escuela Sentido Animal\, C/ Valdemorillo 35\, Alcorcón\, Madrid\, 28925\, España
CATEGORIES:Adiestramiento canino
ATTACH;FMTTYPE=:
END:VEVENT
BEGIN:VEVENT
DTSTART;TZID=Europe/Madrid:20180310T173000
DTEND;TZID=Europe/Madrid:20180310T190000
DTSTAMP:20260421T090234
CREATED:20180303T233219Z
LAST-MODIFIED:20180303T233219Z
UID:6034-1520703000-1520708400@sentidoanimalweb.advserver.es
SUMMARY:Clases grupales para cachorros - marzo
DESCRIPTION:Comenzar la educación de un cachorro a temprana edad es una buena garantía de poder disfrutar de la compañía de un perro equilibrado el resto de tu vida. A veces los inconvenientes del día a día se convierten en problemas que nos afectan diariamente y nos imposibilitan llevar la vida feliz y armoniosa con la que soñamos al traer un cachorro a nuestras vidas. Por eso\, una guía adecuada es un apoyo fundamental en estas edades. \n4 clases al mes pensadas para los más pequeños y para sus acompañantes humanos\, donde aprender\, compartir\, divertirse y poder solventar los problemas del día a día con una visión positiva de la educación. \nTrataremos sobre: \n\nInducción a la relajación.\nAutocontrol delante de otros cachorros.\nLímites: cómo enseñar al perro a no hacer lo que no queremos que haga.\nAutcontrol frente a la comida.\nIntroducción a ejercicios básicos: sentados\, tumbados\, permanecer quietos\, venir a la llamada\, etc.\nReacciones y su manejo para el día a día.\nPropiocepción\, aumento de la confianza y la seguridad en sí mismo.\nGenerando un vínculo fuerte y un apego sano.\n\n¿Quién puede apuntarse?\n\nPerros hasta 5 meses de cualquier tamaño\, raza o condición con los que se quiera tener una convivencia relajada\, feliz y divertida\, basada en el vínculo positivo y el bienestar del peludo.\nObligatorio tener las vacunas al día.\n\nPrecio\nPrecio mensual (4 sesiones): 65 € por perro \nHorario\nSábados de 17h30 a 19h
URL:https://sentidoanimalweb.advserver.es/evento/clases-grupales-para-cachorros-marzo/
LOCATION:Escuela Sentido Animal\, C/ Valdemorillo 35\, Alcorcón\, Madrid\, 28925\, España
CATEGORIES:Eventos para cachorros pasados
ATTACH;FMTTYPE=:
END:VEVENT
BEGIN:VEVENT
DTSTART;TZID=Europe/Madrid:20180317T100000
DTEND;TZID=Europe/Madrid:20180317T203000
DTSTAMP:20260421T090234
CREATED:20180304T202306Z
LAST-MODIFIED:20180304T202306Z
UID:6042-1521280800-1521318600@sentidoanimalweb.advserver.es
SUMMARY:Sesión fotográfica - marzo 2018
DESCRIPTION:El próximo día 17 de marzo vamos a contar con la fantástica Jessica Megía en nuestra escuela para retratar a vuestros compañeros de vida y a vosotros con ellos en nuestra escuela. \nCon la sensibilidad y el amor por los animales que tanto la caracteriza\, Jessica plasma a la perfección a nuestros amigos en una imagen que se quedará para siempre en vuestra retina… ¿hemos dicho una imagen? ¡No! Lo cierto es que la sesión fotográfica incluye varias imágenes para disfrutarlas sin descanso. \n\nSesión fotográfica en estudio de 15 fotografías\nDuración de la sesión: hasta 2h\nEdición digital\nEntrega en formato digital y a máxima calidad\nEntrega asímismo en formato optimizado para las redes sociales\nDescarga de imágenes a través de un enlace web\n\n  \nTarifas\nSesión de 15 fotografías editadas digitalmente: 100 €.\nSegundo animal o sucesivos: -20% descuento.\nFotografía extra: 10 €
URL:https://sentidoanimalweb.advserver.es/evento/sesion-fotografica-marzo-2018/
LOCATION:Escuela Sentido Animal\, C/ Valdemorillo 35\, Alcorcón\, Madrid\, 28925\, España
CATEGORIES:Adiestramiento canino,Sesiones fotográficas de animales
ATTACH;FMTTYPE=:
END:VEVENT
BEGIN:VEVENT
DTSTART;TZID=Europe/Madrid:20180325T103000
DTEND;TZID=Europe/Madrid:20180325T130000
DTSTAMP:20260421T090234
CREATED:20180322T092042Z
LAST-MODIFIED:20180322T092042Z
UID:6082-1521973800-1521982800@sentidoanimalweb.advserver.es
SUMMARY:Salida de socialización – marzo 2018
DESCRIPTION:El próximo domingo 25 de marzo estaremos pasando la mañana en otra de nuestras habituales salidas de socialización\, en un lugar precioso de Boadilla del Monte: una vía pecuaria poco transitada\, donde además de disfrutar de un bonito paisaje\, seguiremos enseñando a los peludos las reglas sociales canina (y humanas) para comportarse en armonía y hacer más sencilla la convivencia.
URL:https://sentidoanimalweb.advserver.es/evento/salida-de-socializacion-marzo-2018/
LOCATION:Boadilla del Monte\, Boadilla del Monte\, Madrid\, España
CATEGORIES:Salidas de socialización pasadas
ATTACH;FMTTYPE=:
END:VEVENT
END:VCALENDAR