BEGIN:VCALENDAR
VERSION:2.0
PRODID:-//Sentido Animal - ECPv6.15.13.1//NONSGML v1.0//EN
CALSCALE:GREGORIAN
METHOD:PUBLISH
X-WR-CALNAME:Sentido Animal
X-ORIGINAL-URL:https://sentidoanimalweb.advserver.es
X-WR-CALDESC:Eventos para Sentido Animal
REFRESH-INTERVAL;VALUE=DURATION:PT1H
X-Robots-Tag:noindex
X-PUBLISHED-TTL:PT1H
BEGIN:VTIMEZONE
TZID:Europe/Madrid
BEGIN:DAYLIGHT
TZOFFSETFROM:+0100
TZOFFSETTO:+0200
TZNAME:CEST
DTSTART:20170326T010000
END:DAYLIGHT
BEGIN:STANDARD
TZOFFSETFROM:+0200
TZOFFSETTO:+0100
TZNAME:CET
DTSTART:20171029T010000
END:STANDARD
BEGIN:DAYLIGHT
TZOFFSETFROM:+0100
TZOFFSETTO:+0200
TZNAME:CEST
DTSTART:20180325T010000
END:DAYLIGHT
BEGIN:STANDARD
TZOFFSETFROM:+0200
TZOFFSETTO:+0100
TZNAME:CET
DTSTART:20181028T010000
END:STANDARD
BEGIN:DAYLIGHT
TZOFFSETFROM:+0100
TZOFFSETTO:+0200
TZNAME:CEST
DTSTART:20190331T010000
END:DAYLIGHT
BEGIN:STANDARD
TZOFFSETFROM:+0200
TZOFFSETTO:+0100
TZNAME:CET
DTSTART:20191027T010000
END:STANDARD
END:VTIMEZONE
BEGIN:VEVENT
DTSTART;TZID=Europe/Madrid:20180106T080000
DTEND;TZID=Europe/Madrid:20180106T170000
DTSTAMP:20260421T114204
CREATED:20180106T155515Z
LAST-MODIFIED:20180106T155515Z
UID:5807-1515225600-1515258000@sentidoanimalweb.advserver.es
SUMMARY:Salida de senderismo - diciembre 2017
DESCRIPTION:¡Estábamos decididos a terminar el año de la mejor forma posible! \nY pasamos unos momentos estupendos en la montaña\, con un sol radiante y una temperatura espectacular. \nLos perretes se adaptaron pronto al entorno y a sus compañeros de camino\, no sin antes trabajar la socialización con aquéllos que tenían algunas dificultades\, y nos regalaron una mañana muy bonita en buena compañía. \n¡Gracias por venir\, y feliz año a todos!
URL:https://sentidoanimalweb.advserver.es/evento/salida-de-senderismo-diciembre-2017/
CATEGORIES:Salidas de socialización pasadas
ATTACH;FMTTYPE=:
END:VEVENT
BEGIN:VEVENT
DTSTART;TZID=Europe/Madrid:20180113T100000
DTEND;TZID=Europe/Madrid:20180113T140000
DTSTAMP:20260421T114204
CREATED:20171019T092706Z
LAST-MODIFIED:20171019T092706Z
UID:5362-1515837600-1515852000@sentidoanimalweb.advserver.es
SUMMARY:Charla: Un cachorro en casa
DESCRIPTION:¡Todo el mundo está entusiasmado cuando un cachorro aparece en sus vidas! Y es que la ternura de un bebé\, sea de la especie que sea\, es comparable a muy poquitas cosas más. \nPero si preguntamos a las personas que han tenido la experiencia de compartir su vida con un peludillo o peludilla\, posiblemente nos contarán que hubo un período difícil de lidiar con los mordiscos\, que no tenían muy claro si lo tenían que dejar encerrado o no\, que los pises y las cacas\, que los muebles\, que los ruidos… \nY es que tener un cachorro en casa es mucho más que ternura… conlleva mucha responsabilidad\, que bien gestionada puede sentar las bases del compañero perfecto con el que las personas sueñan cuando deciden compartir su vida con un perrete. \nEn esta charla abordaremos puntos importantes como: \n\nAntes de llegar a casa: slección\, preparación del hogar\, juguetes y herramientas\nLas necesidades de un cachorro: físicas\, fisiológicas\, afectivas y sociales\nEducar a un cachorro\, ¿es posible? ¿cuándo? ¿cómo?\nJuego sano con un cachorro\nSolo en casa\nEtapas de cachorro a perro adulto… sin olvidar la «adolescencia»\n\nFecha y horario\n13 enero (10h – 14h) \n¿Puedes traer a tu cachorro?\nEn las charlas no vamos a rtrabajar con los perros\, así que esta vez te pediré que lo dejes en casa 🙂 \nPrecio\n20 € por persona
URL:https://sentidoanimalweb.advserver.es/evento/charla-un-cachorro-en-casa/
LOCATION:Ventorro del Cano\, Alcorcón\, Valdemorillo\, 35 \, Alcorcón\, Madrid\, 28925\, España
CATEGORIES:Próximos talleres y webinarios
ATTACH;FMTTYPE=:
END:VEVENT
BEGIN:VEVENT
DTSTART;TZID=Europe/Madrid:20180121T100000
DTEND;TZID=Europe/Madrid:20180121T140000
DTSTAMP:20260421T114204
CREATED:20180102T122739Z
LAST-MODIFIED:20180102T122739Z
UID:5791-1516528800-1516543200@sentidoanimalweb.advserver.es
SUMMARY:Inauguración de Sentido Animal
DESCRIPTION:¡Estamos de estreno! \nSí\, porque estrenamos marca: Sentido Animal\, y ampliamos el equipo; pero no sólo… porque también estrenamos nuestra escuela\, un espacio en el que ampliar nuestros servicios con los perretes pero también con otras especies\, y contar con ponentes\, cursos y actividades animales durante todo el año. ¡Estamos muy ilusionadas! \nY esa ilusión la queremos compartir con todos/as vosotros/as 🙂 \nAsí que hemos preparado una fiesta de inauguración donde podrás venir en compañía de tu animal para hacer una sesión de fotos\, celebrar 2018 con una fabulosa tarta\, dejar que los niños disfruten con un pintacaras o aprender con algunos talleres y charlas quedaremos durante la mañana. ¡Porque queremos que disfrutes con tus animales! \nAsí que resérvate la mañana del 21 de enero y confirma tu asistencia para pasar un rato divertido e interesante. \n¡Nos vemos!
URL:https://sentidoanimalweb.advserver.es/evento/inauguracion-de-sentido-animal/
LOCATION:Escuela Sentido Animal\, C/ Valdemorillo 35\, Alcorcón\, Madrid\, 28925\, España
CATEGORIES:Evento gratis,Próximas actividades,Próximos eventos para cachorros,Próximos talleres y webinarios
ATTACH;FMTTYPE=:
END:VEVENT
BEGIN:VEVENT
DTSTART;TZID=Europe/Madrid:20180124T190000
DTEND;TZID=Europe/Madrid:20180124T200000
DTSTAMP:20260421T114204
CREATED:20180101T134439Z
LAST-MODIFIED:20180101T134439Z
UID:5761-1516820400-1516824000@sentidoanimalweb.advserver.es
SUMMARY:Curso para cachorros
DESCRIPTION:Iniciamos 2018 con un curso para cachorros del CLUB CANINES\, basándonos en la socialización con otros cachorros y con diferentes estímulos. Estaremos atentos a sus reacciones y trabajaremos sobre sus miedos\, su exceso de energía y también su atención a la hora de trabajar algunos ejercicios. \n6 clases pensadas para los más pequeños y para sus acompañantes humanos\, donde aprender\, compartir\, divertirse y poder solventar los problemas del día a día con una visión positiva de la educación. \nTrataremos sobre: \n\nInducción a la relajación.\nAutocontrol delante de otros cachorros.\nLímites: cómo enseñar al perro a no hacer lo que no queremos que haga.\nAutcontrol frente a la comida.\nIntroducción a ejercicios básicos: sentados\, tumbados\, permanecer quietos\, venir a la llamada\, etc.\nReacciones y su manejo para el día a día.\nFechas y horarios de un cachorro.\n\n¿Quién puede apuntarse?\n\nPerros hasta 6 meses de cualquier tamaño\, raza o condición con los que se quiera tener una convivencia relajada\, feliz y divertida\, basada en el vínculo positivo y el bienestar del peludo.\nObligatorio tener las vacunas al día.\n\nPrecio\nCurso completo (5 sesiones de 1 hora): 65 € por perro \nHorario\nMiércoles de 19h a 20h\n(24 y 31 de enero; 07\, 14 y 21 de febrero)
URL:https://sentidoanimalweb.advserver.es/evento/curso-para-cachorros/
LOCATION:Escuela Sentido Animal\, C/ Valdemorillo 35\, Alcorcón\, Madrid\, 28925\, España
CATEGORIES:Eventos para cachorros pasados
ATTACH;FMTTYPE=:
END:VEVENT
BEGIN:VEVENT
DTSTART;TZID=Europe/Madrid:20180128T100000
DTEND;TZID=Europe/Madrid:20180128T123000
DTSTAMP:20260421T114204
CREATED:20180106T162922Z
LAST-MODIFIED:20180106T162922Z
UID:5813-1517133600-1517142600@sentidoanimalweb.advserver.es
SUMMARY:Salida de socialización - enero 2018
DESCRIPTION:Presentaciones tranquilas\, fomentando que los perros puedan relajarse y acercarse a otros perros de manera pausada y respetuosa\, o simplemente sentirse cómodos en un ambiente diferente y con otros congéneres alrededor. \nTrabajo personalizado con cada equipo persona/s – perro. \nCada animal merece ser escuchado y prestarle atención en sus tiempos y necesidades\, y es precisamente eso lo que ponemos a vuestra disposición en las mañanas de socialización\, atendiendo a sus señales y modificando la conducta de las personas para que puedan ser un apoyo inequívoco y valioso para sus acompañantes caninos. \n¿Te apetece probar?
URL:https://sentidoanimalweb.advserver.es/evento/salida-de-socializacion-enero-2018/
LOCATION:Boadilla del Monte\, Boadilla del Monte\, Madrid\, España
CATEGORIES:Salidas de socialización pasadas
ATTACH;FMTTYPE=:
END:VEVENT
END:VCALENDAR