BEGIN:VCALENDAR
VERSION:2.0
PRODID:-//Sentido Animal - ECPv6.15.13.1//NONSGML v1.0//EN
CALSCALE:GREGORIAN
METHOD:PUBLISH
X-WR-CALNAME:Sentido Animal
X-ORIGINAL-URL:https://sentidoanimalweb.advserver.es
X-WR-CALDESC:Eventos para Sentido Animal
REFRESH-INTERVAL;VALUE=DURATION:PT1H
X-Robots-Tag:noindex
X-PUBLISHED-TTL:PT1H
BEGIN:VTIMEZONE
TZID:Europe/Madrid
BEGIN:DAYLIGHT
TZOFFSETFROM:+0100
TZOFFSETTO:+0200
TZNAME:CEST
DTSTART:20160327T010000
END:DAYLIGHT
BEGIN:STANDARD
TZOFFSETFROM:+0200
TZOFFSETTO:+0100
TZNAME:CET
DTSTART:20161030T010000
END:STANDARD
BEGIN:DAYLIGHT
TZOFFSETFROM:+0100
TZOFFSETTO:+0200
TZNAME:CEST
DTSTART:20170326T010000
END:DAYLIGHT
BEGIN:STANDARD
TZOFFSETFROM:+0200
TZOFFSETTO:+0100
TZNAME:CET
DTSTART:20171029T010000
END:STANDARD
BEGIN:DAYLIGHT
TZOFFSETFROM:+0100
TZOFFSETTO:+0200
TZNAME:CEST
DTSTART:20180325T010000
END:DAYLIGHT
BEGIN:STANDARD
TZOFFSETFROM:+0200
TZOFFSETTO:+0100
TZNAME:CET
DTSTART:20181028T010000
END:STANDARD
END:VTIMEZONE
BEGIN:VEVENT
DTSTART;TZID=Europe/Madrid:20171202T100000
DTEND;TZID=Europe/Madrid:20171202T140000
DTSTAMP:20260421T125759
CREATED:20171019T100808Z
LAST-MODIFIED:20171019T100808Z
UID:5378-1512208800-1512223200@sentidoanimalweb.advserver.es
SUMMARY:Charla: El perro adoptado
DESCRIPTION:Adoptar a un perro es una gran obra que merece todo el respeto y el reconocimiento social… pero eso no significa que vayamos a tener un perro complementario con nosotros desde el primer momento. Significa que vamos a dar la oportunidad a un animal con un pasado que le ha llevado hasta aquí\, a tener una nueva vida. Y en nuestras manos está comenzar a ganarnos su confianza desde el principio. \nLa adopción de un perro adulto plantear muchas incógnitas (al igual que lo hace tener un cachorro\, adoptado o no)\, y por eso es fundamental seguir ciertos pasos para ajustar una buena convivencia. \nEn esta charla abordaremos puntos importantes como: \n\nAntes de llegar a casa: slección\, preparación del hogar\, juguetes y herramientas\nLas necesidades de un perro adoptado: físicas\, fisiológicas\, afectivas y sociales; tiempos y espacios\nNormas en casa y convivencia; educación\nSolo en casa\nFantasmas del pasado\nConfianza\, respeto\, vínculo\n\nFecha y horario\n02 diciembre (10h – 14h) \n¿Puedes traer a tu perro adoptado?\nEn las charlas no vamos a trabajar con los perros\, así que esta vez te pediré que lo dejes en casa 🙂 \nPrecio\n20 € por persona
URL:https://sentidoanimalweb.advserver.es/evento/charla-el-perro-adoptado/
LOCATION:Ventorro del Cano\, Alcorcón\, Valdemorillo\, 35 \, Alcorcón\, Madrid\, 28925\, España
CATEGORIES:Talleres y charlas pasados
ATTACH;FMTTYPE=:
END:VEVENT
BEGIN:VEVENT
DTSTART;TZID=Europe/Madrid:20171207T180000
DTEND;TZID=Europe/Madrid:20171207T193000
DTSTAMP:20260421T125759
CREATED:20171106T132145Z
LAST-MODIFIED:20171106T132145Z
UID:5446-1512669600-1512675000@sentidoanimalweb.advserver.es
SUMMARY:Curso trimestral: Educación para el día a día
DESCRIPTION:¡Renovamos el curso trimestral en diciembre! \nDurante estos tres meses de curso nos juntaremos para aprender con los perros la forma correcta de enseñarles sin enfados\, sin luchas de poder\, sin volvernos locos y dejar que la frustración gane la batalla…\, sino con una sonrisa y un perro contento y dispuesto a trabajar\, con un adiestramiento cooperativo y estableciendo los criterios y los niveles adecuados para cada equipo guía-perro. \n\nAprenderemos sobre: \n\nViajar en metro y otros transportes públicos\, y sus normativas\, así como el uso del bozal de una manera amable para el perro\nInducir al perro a la relajación y mantenerle tranquilo en entorno o situaciones nuevas\, incluido estar en una terraza sin que el perro se abalance a la comida\nManejo y guía adecuada del perro\nJuegos cognitivos y físicos\, como parte del bienestar fundamental del perro\nRespuesta inmediata a la llamada\nSocialización y saludo adecuado con perros y personas\nUso del clicker y trucos caninos\n\n¿Quién puede apuntarse?\nEn las clases se contemplan tres niveles diferentes: \n\nInicial: personas que comienzan a enseñar a su perro o que tienen dificultades en conseguir los comportamientos deseados; perros que necesitan encontrar la motivación para responder a las señales; personas o perros que hayan pasado por la desagradale experiencia de un adiestramiento basado en el castigo\, el daño o el miedo; adultos o cachorros.\nMedio: guías y perros con bases de adiestramiento respetuoso y cooperativo que pueden comenzar a introducir estímulos  que dificulten la tarea a realizar\, distractores de intensidad baja y media\, manteniendo la calidad y limpieza de los ejercicios. Aumento de reforzadores e inicio de trabajo en la distancia.\nAvanzado: guías y perros con experiencia en el entrenamiento que buscan mejorar la latencia\, la velocidad\, el trabajo en la media distancia; introducción de distractores de intensidad alta.\n\nFechas y horarios\n07 (jueves)\, 09\, 10\, 16\, 17 (fin de semana) de diciembre\n11\, 18\, (jueves) 28 (domingo) de enero\n01\, 08\, 15\, 22 (jueves) de febrero \nPrecio\n\nCurso completo (12 sesiones): 190 € por perro\nDía suelto: 20 € por perro\nSólo jueves: 125 €\nSólo fines de semana: 90 €
URL:https://sentidoanimalweb.advserver.es/evento/curso-trimestral-educacion-para-el-dia-a-dia/
LOCATION:Ventorro del Cano\, Alcorcón\, Valdemorillo\, 35 \, Alcorcón\, Madrid\, 28925\, España
ATTACH;FMTTYPE=:
END:VEVENT
BEGIN:VEVENT
DTSTART;TZID=Europe/Madrid:20171209T100000
DTEND;TZID=Europe/Madrid:20171209T120000
DTSTAMP:20260421T125759
CREATED:20171003T105836Z
LAST-MODIFIED:20171003T105836Z
UID:5336-1512813600-1512820800@sentidoanimalweb.advserver.es
SUMMARY:Curso de habilidades y clicker
DESCRIPTION:Curso teórico -práctico en el que se enseñarán los principios básicos de la utilización del clicker\, aprendiendo habilidades prácticas con los perros de los asistentes\, enfocadas en un aumento y mejora de su calidad de vida. \nTemario 1er fin de semana\nSábado\n\nCondicionamiento clásico y operante\nEl clicker: condicionamiento\, cualidades\, proceso\nSeñales\nEliminando el clicker\nConsiguiendo comportamientos\n\nDomingo\n\nComienzo de habilidades según lo aprendido el día anterior\, con los perros de cada uno de los asistentes\n\nTemario 2º fin de semana\nSábado y domingo\n\nContinuación de habilidades según lo aprendido durante el primer fin de semana\, con los perros de cada uno de los asistentes\n\n¿Quién puede participar?\n\nCualquier persona interesada en el adiestramiento animal que quiera afinar sus habilidades\, aprender o mejorar el uso del clicker y la relación con su perro\nInteresados en pasar un buen rato con su perro\, aprendiendo y desarrollando su capacidad cognitiva y física\, y fomentando un vínculo sano
URL:https://sentidoanimalweb.advserver.es/evento/curso-de-habilidades-y-clicker/
LOCATION:Ventorro del Cano\, Alcorcón\, Valdemorillo\, 35 \, Alcorcón\, Madrid\, 28925\, España
CATEGORIES:Adiestramiento canino,Talleres y charlas pasados
ATTACH;FMTTYPE=:
END:VEVENT
END:VCALENDAR