BEGIN:VCALENDAR
VERSION:2.0
PRODID:-//Sentido Animal - ECPv6.15.13.1//NONSGML v1.0//EN
CALSCALE:GREGORIAN
METHOD:PUBLISH
X-WR-CALNAME:Sentido Animal
X-ORIGINAL-URL:https://sentidoanimalweb.advserver.es
X-WR-CALDESC:Eventos para Sentido Animal
REFRESH-INTERVAL;VALUE=DURATION:PT1H
X-Robots-Tag:noindex
X-PUBLISHED-TTL:PT1H
BEGIN:VTIMEZONE
TZID:Europe/Madrid
BEGIN:DAYLIGHT
TZOFFSETFROM:+0100
TZOFFSETTO:+0200
TZNAME:CEST
DTSTART:20160327T010000
END:DAYLIGHT
BEGIN:STANDARD
TZOFFSETFROM:+0200
TZOFFSETTO:+0100
TZNAME:CET
DTSTART:20161030T010000
END:STANDARD
BEGIN:DAYLIGHT
TZOFFSETFROM:+0100
TZOFFSETTO:+0200
TZNAME:CEST
DTSTART:20170326T010000
END:DAYLIGHT
BEGIN:STANDARD
TZOFFSETFROM:+0200
TZOFFSETTO:+0100
TZNAME:CET
DTSTART:20171029T010000
END:STANDARD
BEGIN:DAYLIGHT
TZOFFSETFROM:+0100
TZOFFSETTO:+0200
TZNAME:CEST
DTSTART:20180325T010000
END:DAYLIGHT
BEGIN:STANDARD
TZOFFSETFROM:+0200
TZOFFSETTO:+0100
TZNAME:CET
DTSTART:20181028T010000
END:STANDARD
END:VTIMEZONE
BEGIN:VEVENT
DTSTART;TZID=Europe/Madrid:20171116T180000
DTEND;TZID=Europe/Madrid:20171116T193000
DTSTAMP:20260421T142842
CREATED:20171019T093911Z
LAST-MODIFIED:20171019T093911Z
UID:5366-1510855200-1510860600@sentidoanimalweb.advserver.es
SUMMARY:Taller del juego
DESCRIPTION:El juego es una parte fundamental en el desarrollo y en la vida de un perro. Es por ello que debemos darle la misma importancia al juego que deberíamos dársela a los paseos\, al cuidado o a la higiene del can. \nCon el juego podemos enseñar nuevas conductas\, podemos aprender y enseñar a manejar el autocontrol\, podemos ejercitar físicamente al perro y sobretodo\, podemos pasarlo fenomenal en compañía del peludo. \nEn el taller del juego vamos a aprender diferentes maneras para que el perro se divierta\, con o sin nosotros\, con distintos ejercicios para manejar el juego y usarlo en provecho de la educación del perro. \nFechas y horarios\nENTRE SEMANA: 16 noviembre (18h – 19:30h)\nConsulta fechas y horarios para el taller en fin de semana. \nPrecio\n20 € por perro
URL:https://sentidoanimalweb.advserver.es/evento/taller-del-juego/
CATEGORIES:Próximos talleres y webinarios
ATTACH;FMTTYPE=:
END:VEVENT
BEGIN:VEVENT
DTSTART;TZID=Europe/Madrid:20171118T100000
DTEND;TZID=Europe/Madrid:20171118T113000
DTSTAMP:20260421T142842
CREATED:20171019T094038Z
LAST-MODIFIED:20171019T094038Z
UID:5370-1510999200-1511004600@sentidoanimalweb.advserver.es
SUMMARY:Taller del juego
DESCRIPTION:El juego es una parte fundamental en el desarrollo y en la vida de un perro. Es por ello que debemos darle la misma importancia al juego que deberíamos dársela a los paseos\, al cuidado o a la higiene del can. \nCon el juego podemos enseñar nuevas conductas\, podemos aprender y enseñar a manejar el autocontrol\, podemos ejercitar físicamente al perro y sobretodo\, podemos pasarlo fenomenal en compañía del peludo. \nEn el taller del juego vamos a aprender diferentes maneras para que el perro se divierta\, con o sin nosotros\, con distintos ejercicios para manejar el juego y usarlo en provecho de la educación del perro. \nFechas y horarios\nFIN DE SEMANA: 18 noviembre (10h – 11:30h)\nConsulta fechas y horarios para el taller entre semana. \nPrecio\n20 € por perro
URL:https://sentidoanimalweb.advserver.es/evento/taller-del-juego-2/
CATEGORIES:Próximos talleres y webinarios
ATTACH;FMTTYPE=:
END:VEVENT
BEGIN:VEVENT
DTSTART;TZID=Europe/Madrid:20171119T100000
DTEND;TZID=Europe/Madrid:20171119T130000
DTSTAMP:20260421T142842
CREATED:20171108T163323Z
LAST-MODIFIED:20171108T163323Z
UID:5457-1511085600-1511096400@sentidoanimalweb.advserver.es
SUMMARY:Salida de senderismo – noviembre 2017
DESCRIPTION:El día 19 de noviembre vamos a estar aprovechando la mañana para hacer un paseo de senderismo con los perros por Peguerinos. \nComo siempre\, las interacciones y la comunicación animal serán nuestra prioridad durante todo el camino\, para aprender y compartir entre todos\, a la vez que estiramos las piernas y ponemos en funcionamiento las patas. \n\nDistancia: 10 km\nDuración: 3h aproximadamente\nDificultad: media\n\n\nPrecio por perro: 12 €\nPrecio por persona: 3 €
URL:https://sentidoanimalweb.advserver.es/evento/salida-de-senderismo-noviembre-2017/
CATEGORIES:Próximas salidas de socialización
ATTACH;FMTTYPE=:
END:VEVENT
BEGIN:VEVENT
DTSTART;TZID=Europe/Madrid:20171126T100000
DTEND;TZID=Europe/Madrid:20171126T130000
DTSTAMP:20260421T142842
CREATED:20171106T171524Z
LAST-MODIFIED:20171106T171524Z
UID:5452-1511690400-1511701200@sentidoanimalweb.advserver.es
SUMMARY:Salida de socialización – noviembre 2017
DESCRIPTION:Salida de socialización canina por un terreno bastante llano\, sin posibilidad de agua durante la actividad\, una vez comenzamos a alejarnos del punto de llegada. \nComenzamos trabajando los acercamientos con los perretes asistentes y con sus guías\, como viene siendo habitual\, en un lugar alejado de multitudes y de perros que no estén controlados\, por lo que pudimos centrarnos en los ejercicios de socialización. \nTras una amplia primera parte trabajando con los cane\, manteniendo distancias y respetando las señales y necesidades de cada individuo\, hicimos una pequeña caminata de un par de kilómetros y valoramos la posibilidad de soltar a los perretes\, en un terreno amplio y abierto por dos de sus lados\, antes de regresar a los coches. \n\nPipo\, un yorkshire con una historia complicada detrás\, suele tirarse a los perros a morderles «sin previo aviso».\nPipa (sí\, teníamos a Pipo y a Pipa en el grupo 🙂 una jovencita cavalier) comenzó en las clases siendo muy insegura con los perros\, y aunque aún se agobia con algunos perros grandes que no conoce\, está haciendo grandes avances.\nKiwi\, Lisa (chihuahuas) y el benjamín Turrón (salchicha) tienen ansiedad por separación y les cuesta estar a pocos metros de Pilar. Kiwi y Turrón son también inseguros con los perros que no conocen.\nBalto (pastor catalán) tiene dificultades con otros perros y se lanza hacia ellos principalmente cuando está con la correa\, o si suelto le provocan.\nBalú (golden) tiene problemas con machos de tamaño grande y es reactivo con ellos.\nCoco es una mestiza de pastor / malinoise con inseguridad lejos de sus hermanas perrunas y que no lleva demasiado bien que le olfateen por detrás para conocerla.\nBarry (schnauzer) muestra inseguridad a personas\, lugares y perros y le cuesta contener el ladrido.\nY Adín (mestizo pequeño) estaba dispuesto a pasar un buen rato\, a mediar en los conflictos\, y a crear un ambiente de seguridad y tranquilidad entre sus congéneres asistientes.\n\nDespués de los ejercicios y a mitad del paseo\, todos pudieron relajarse sin correa e interactuar\, si así lo querían\, entre ellos. Generando confianza y con el conocimiento de saber cómo evitar todo lo posible los conflictos\, las salidas de socialización de Siente a tu perro son el lugar idóneo para comenzar el cambio con los peludos.
URL:https://sentidoanimalweb.advserver.es/evento/salida-de-socializacion-noviembre-2017/
LOCATION:Prado del Espino\, Boadilla del Monte\, Prado del Espino\, Boadilla del Monte\, Madrid\, 28660\, España
CATEGORIES:Salidas de socialización pasadas
ATTACH;FMTTYPE=:
END:VEVENT
END:VCALENDAR