BEGIN:VCALENDAR
VERSION:2.0
PRODID:-//Sentido Animal - ECPv6.15.13.1//NONSGML v1.0//EN
CALSCALE:GREGORIAN
METHOD:PUBLISH
X-ORIGINAL-URL:https://sentidoanimalweb.advserver.es
X-WR-CALDESC:Eventos para Sentido Animal
REFRESH-INTERVAL;VALUE=DURATION:PT1H
X-Robots-Tag:noindex
X-PUBLISHED-TTL:PT1H
BEGIN:VTIMEZONE
TZID:Europe/Madrid
BEGIN:DAYLIGHT
TZOFFSETFROM:+0100
TZOFFSETTO:+0200
TZNAME:CEST
DTSTART:20160327T010000
END:DAYLIGHT
BEGIN:STANDARD
TZOFFSETFROM:+0200
TZOFFSETTO:+0100
TZNAME:CET
DTSTART:20161030T010000
END:STANDARD
BEGIN:DAYLIGHT
TZOFFSETFROM:+0100
TZOFFSETTO:+0200
TZNAME:CEST
DTSTART:20170326T010000
END:DAYLIGHT
BEGIN:STANDARD
TZOFFSETFROM:+0200
TZOFFSETTO:+0100
TZNAME:CET
DTSTART:20171029T010000
END:STANDARD
BEGIN:DAYLIGHT
TZOFFSETFROM:+0100
TZOFFSETTO:+0200
TZNAME:CEST
DTSTART:20180325T010000
END:DAYLIGHT
BEGIN:STANDARD
TZOFFSETFROM:+0200
TZOFFSETTO:+0100
TZNAME:CET
DTSTART:20181028T010000
END:STANDARD
END:VTIMEZONE
BEGIN:VEVENT
DTSTART;TZID=Europe/Madrid:20170902T100000
DTEND;TZID=Europe/Madrid:20170902T113000
DTSTAMP:20260421T173005
CREATED:20170625T201347Z
LAST-MODIFIED:20170625T201347Z
UID:4877-1504346400-1504351800@sentidoanimalweb.advserver.es
SUMMARY:Curso de Educación para el día a día
DESCRIPTION:Comienza septiembre ¡y con él el curso escolar para nuestros perretes! \n\nLos sábados por la mañana nos juntamos para aprender con los perros la forma correcta de enseñarles sin enfados\, sin luchas de poder\, sin volvernos locos y dejar que la frustración gane la batalla…\, sino con una sonrisa y un perro contento y dispuesto a trabajar\, con un adiestramiento cooperativo y estableciendo los criterios y los niveles adecuados para cada equipo guía-perro. \nAprenderemos sobre: \n\nEjercicios imprescindibles como estar sentado\, tumbado\, permanecer quieto\, posicionarse a nuestro lado\nInducir al perro a la relajación y mantenerle tranquilo en entorno o situaciones nuevas\nManejo y guía adecuada del perro\nPaseo agradable con nosotros\, sin buscar cosas por el suelo\, sin obsesiones\, aumentando el vínculo con nosotros\nRespuesta inmediata a la llamada\nSocialización y saludo adecuado con perros y personas\n\n¿Quién puede apuntarse?\nEn las clases se contemplan tres niveles diferentes: \n\nInicial: personas que comienzan a enseñar a su perro o que tienen dificultades en conseguir los comportamientos deseados; perros que necesitan encontrar la motivación para responder a las señales; personas o perros que hayan pasado por la desagradale experiencia de un adiestramiento basado en el castigo\, el daño o el miedo; adultos o cachorros.\nMedio: guías y perros con bases de adiestramiento respetuoso y cooperativo que pueden comenzar a introducir estímulos  que dificulten la tarea a realizar\, distractores de intensidad baja y media\, manteniendo la calidad y limpieza de los ejercicios. Aumento de reforzadores e inicio de trabajo en la distancia.\nAvanzado: guías y perros con experiencia en el entrenamiento que buscan mejorar la latencia\, la velocidad\, el trabajo en la media distancia; introducción de distractores de intensidad alta.\n\nFechas y horarios\nFIN DE SEMANA:\nSeptiembre: 02\, 09\, 16\, 23\, 24 (domingo) (10h – 11:30h)\nOctubre: 07\, 21\, 28 (10h – 11:30h)\nNoviembre: 04\, 11\, 18\, 25 (10h – 11:30h)\nConsulta fechas y horarios para el taller entre semana. \nPrecio\n\nCurso completo (12 sesiones): 190 € por perro\nDía suelto: 20 € por perro
URL:https://sentidoanimalweb.advserver.es/evento/curso-de-educacion-para-el-dia-a-dia/
LOCATION:Ventorro del Cano\, Alcorcón\, Valdemorillo\, 35 \, Alcorcón\, Madrid\, 28925\, España
CATEGORIES:Adiestramiento canino
ATTACH;FMTTYPE=:
END:VEVENT
BEGIN:VEVENT
DTSTART;TZID=Europe/Madrid:20170907T180000
DTEND;TZID=Europe/Madrid:20170907T193000
DTSTAMP:20260421T173005
CREATED:20170626T115159Z
LAST-MODIFIED:20170626T115159Z
UID:4880-1504807200-1504812600@sentidoanimalweb.advserver.es
SUMMARY:Curso de Educación canina para el día a día
DESCRIPTION:Comienza septiembre ¡y con él el curso escolar para nuestros perretes! \n\nLos sábados por la mañana nos juntamos para aprender con los perros la forma correcta de enseñarles sin enfados\, sin luchas de poder\, sin volvernos locos y dejar que la frustración gane la batalla…\, sino con una sonrisa y un perro contento y dispuesto a trabajar\, con un adiestramiento cooperativo y estableciendo los criterios y los niveles adecuados para cada equipo guía-perro. \nAprenderemos sobre: \n\nEjercicios imprescindibles como estar sentado\, tumbado\, permanecer quieto\, posicionarse a nuestro lado\nInducir al perro a la relajación y mantenerle tranquilo en entorno o situaciones nuevas\nManejo y guía adecuada del perro\nPaseo agradable con nosotros\, sin buscar cosas por el suelo\, sin obsesiones\, aumentando el vínculo con nosotros\nRespuesta inmediata a la llamada\nSocialización y saludo adecuado con perros y personas\n\n¿Quién puede apuntarse?\nEn las clases se contemplan tres niveles diferentes: \n\nInicial: personas que comienzan a enseñar a su perro o que tienen dificultades en conseguir los comportamientos deseados; perros que necesitan encontrar la motivación para responder a las señales; personas o perros que hayan pasado por la desagradale experiencia de un adiestramiento basado en el castigo\, el daño o el miedo; adultos o cachorros.\nMedio: guías y perros con bases de adiestramiento respetuoso y cooperativo que pueden comenzar a introducir estímulos  que dificulten la tarea a realizar\, distractores de intensidad baja y media\, manteniendo la calidad y limpieza de los ejercicios. Aumento de reforzadores e inicio de trabajo en la distancia.\nAvanzado: guías y perros con experiencia en el entrenamiento que buscan mejorar la latencia\, la velocidad\, el trabajo en la media distancia; introducción de distractores de intensidad alta.\n\nFechas y horarios\nENTRE SEMANA:\nSeptiembre: 07\, 14\, 21\, 24 (domingo)\, 28 (18h – 19:30h)\nOctubre: 05\, 19\, 26 (18h – 19:30h)\nNoviembre: 02\, 09\, 16\, 23 (18h – 19:30h)\nConsulta fechas y horarios para el curso en fin de semana. \nPrecio\n\nCurso completo (12 sesiones): 190 € por perro\nDía suelto: 20 € por perro
URL:https://sentidoanimalweb.advserver.es/evento/curso-de-educacion-canina-para-el-dia-a-dia/
LOCATION:Ventorro del Cano\, Alcorcón\, Valdemorillo\, 35 \, Alcorcón\, Madrid\, 28925\, España
CATEGORIES:Adiestramiento canino
ATTACH;FMTTYPE=:
END:VEVENT
BEGIN:VEVENT
DTSTART;TZID=Europe/Madrid:20170909T123000
DTEND;TZID=Europe/Madrid:20170909T140000
DTSTAMP:20260421T173005
CREATED:20170626T170921Z
LAST-MODIFIED:20170626T170921Z
UID:4887-1504960200-1504965600@sentidoanimalweb.advserver.es
SUMMARY:Taller: Paseo tranquilo en protectora CICAM
DESCRIPTION:Los perros encerrados en las protectoras suelen pasear\, con el trabajo diario de muchos/as voluntarios/as que se acercan día a día a sacar a los perros de sus jaulas y cheniles para tener un rato de esparcimiento. \nEs importante hablar y practicar los paseos con los perros de una manera controlada para aportarles un mayor beneficio\, y para enseñarles una manera adecuada de salir con la correa con vistas a una posible (y pronta) adopción. \nDentro de la serie de charlas y talleres que voy a hacer este año en la protectora\, he comenzado con esta porque me parece fundamental para el bienestar de los peludos. \n \n¿Quién pudo asistir?\n\nVoluntarios/as de CICAM Majadahonda o de cualquier otra protectora en la que regalan parte de su tiempo a los peludos.\nPersonas interesadas en comenzar un voluntariado en alguna protectora y quieran aprender sobre un manejo adecuado a la hora de pasear.\nAdoptantes de perros con problemas a la hora de sacarles a la calle y con dificultades para hacer un paseo tranquilo.\nCualquier persona interesada en aprender más sobre el trato y los paseos a los perros\, para poder ponerlo en práctica con sus peludos ahora o para hacerlo en un futuro\n\n¿Qué precio tuvo?\nEl evento fue gratuito\, aunque necesaria la inscripción previa.\nTuvimos también aportaciones de chuches\, juguetes cognitivos\, huesos prensados\, orejas de cerdo\, pezuñas o astas de ciervo para agradecerle a nuestros maestros peludos su colaboración 😉 \n\nAquí os dejo el vídeo de la charla inicial:
URL:https://sentidoanimalweb.advserver.es/evento/taller-paseo-tranquilo-en-protectora-cicam/
LOCATION:CICAM Majadahonda\, Ctra. Majadahonda a Villanueva del Pardillo\, Majadahonda\, Madrid\, 28220\, España
CATEGORIES:Evento gratis,Talleres y charlas pasados
ATTACH;FMTTYPE=:
END:VEVENT
BEGIN:VEVENT
DTSTART;TZID=Europe/Madrid:20170914T180000
DTEND;TZID=Europe/Madrid:20170914T193000
DTSTAMP:20260421T173005
CREATED:20170717T093633Z
LAST-MODIFIED:20170717T093633Z
UID:4940-1505412000-1505417400@sentidoanimalweb.advserver.es
SUMMARY:Taller: paseo tranquilo
DESCRIPTION:Pasear con nuestros perros debería ser una actividad placentera\, y en muchos casos no lo es.\nTirones para que no coma cosas del suelo\, tirones porque el perro se abalanza hacia un olor\, cambios continuos de dirección y de posición del perro… mala comunicación en definitiva. \nEl paseo comienza desde un buen vínculo con el perro\, pasando por una buena comunicación y unas reglas de juego para que tanto tú como tu peludo podáis disfrutar del paseo y que sea agradable para ambos. \nDurante este taller abordaremos los pasos a seguir para comenzar a trabajar un paseo cómodo y en el que poder dedicar un tiempo de calidad con vuestros perretes. \nSegún el paseo que tengáis\, avanzaremos desde los comienzos hasta niveles más complicados donde los estímulos presentes os ayuden a saltar los obstáculos del día a día. \nFechas y horarios\nENTRE SEMANA: 14 septiembre (18h – 19:30h)\nConsulta fechas y horarios para el taller de fin de semana. \nPrecio\n20 € por perro
URL:https://sentidoanimalweb.advserver.es/evento/taller-paseo-tranquilo-sept-17/
LOCATION:Ventorro del Cano\, Alcorcón\, Valdemorillo\, 35 \, Alcorcón\, Madrid\, 28925\, España
CATEGORIES:Próximos talleres y webinarios
ATTACH;FMTTYPE=:
END:VEVENT
BEGIN:VEVENT
DTSTART;TZID=Europe/Madrid:20170916T100000
DTEND;TZID=Europe/Madrid:20170916T113000
DTSTAMP:20260421T173005
CREATED:20170717T105940Z
LAST-MODIFIED:20170717T105940Z
UID:4947-1505556000-1505561400@sentidoanimalweb.advserver.es
SUMMARY:Taller: paseo tranquilo
DESCRIPTION:Pasear con nuestros perros debería ser una actividad placentera\, y en muchos casos no lo es.\nTirones para que no coma cosas del suelo\, tirones porque el perro se abalanza hacia un olor\, cambios continuos de dirección y de posición del perro… mala comunicación en definitiva. \nEl paseo comienza desde un buen vínculo con el perro\, pasando por una buena comunicación y unas reglas de juego para que tanto tú como tu peludo podáis disfrutar del paseo y que sea agradable para ambos. \nDurante este taller abordaremos los pasos a seguir para comenzar a trabajar un paseo cómodo y en el que poder dedicar un tiempo de calidad con vuestros perretes. \nSegún el paseo que tengáis\, avanzaremos desde los comienzos hasta niveles más complicados donde los estímulos presentes os ayuden a saltar los obstáculos del día a día. \nFechas y horarios\nFIN DE SEMANA: 14 septiembre (10h – 11:30h)\nConsulta fechas y horarios para el taller entre semana. \nPrecio\n20 € por perro
URL:https://sentidoanimalweb.advserver.es/evento/taller-paseo-tranquilo-sept-17-2/
LOCATION:Estación de tren Alcorcón Central\, Avenida de Móstoles\, Alcorcón\, Madrid\, 28922\, España
CATEGORIES:Próximos talleres y webinarios
ATTACH;FMTTYPE=:
END:VEVENT
BEGIN:VEVENT
DTSTART;TZID=Europe/Madrid:20170917T100000
DTEND;TZID=Europe/Madrid:20170917T130000
DTSTAMP:20260421T173005
CREATED:20170707T164404Z
LAST-MODIFIED:20170707T164404Z
UID:4912-1505642400-1505653200@sentidoanimalweb.advserver.es
SUMMARY:Salida de senderismo - septiembre 2017
DESCRIPTION:En la primera salida de senderismo del año\, hemos hecho una rutilla de 7 km por los alrededores del embalse de la Jarosa\, con un ascenso de 261 m y una duración de 3h\, incluida una parada al inicio para que los perretes se mojaran y chapotearan a conciencia. \nCon una temperatura estupenda\, hemos disfrutado del campo y la naturaleza\, pudiendo observar y aprender sobre la comunicación canina y las interacciones de nuestros peludos. \n \nEl comienzo ha sido duro para los peludos acostumbrados a correr por el campo nada más bajar del coche\, pues hemos mantenido la correa prácticamente hasta llegar al embalse y acomodarnos en un lugar retirado donde han podido darse un chapuzón. \nMuchos perros se emocionan con el agua\, como nos hemos emocionado el resto con el bonito paisaje\, pero con algunos de ellos hemos tenido que bajar su intensidad y trabajar cambios de activación. \nUn bonito paseo en buena compañía\, y un fantástico plan para la mañana del domingo 😉
URL:https://sentidoanimalweb.advserver.es/evento/salida-de-senderismo-septiembre-2017/
CATEGORIES:Salidas de socialización pasadas
ATTACH;FMTTYPE=:
END:VEVENT
BEGIN:VEVENT
DTSTART;TZID=Europe/Madrid:20170923T100000
DTEND;TZID=Europe/Madrid:20170923T113000
DTSTAMP:20260421T173005
CREATED:20170821T152111Z
LAST-MODIFIED:20170821T152111Z
UID:5137-1506160800-1506166200@sentidoanimalweb.advserver.es
SUMMARY:Taller: llamada fiable
DESCRIPTION:Llamar a tu perro y que venga lo más rápido posible no es ciencia-ficción. Es tan importante tener una llamada fiable que debería ser lo primero en lo que las personas se empeñaran en conseguir\, una vez llega el perro a casa. \nCualquier perro de cualquier edad puede aprenderlo\, y por su seguridad – y nuestra tranquilidad – deberíamos corregir cuanto antes los comportamientos de perros que permanecen «remoloneando» alrededor de olores\, personas\, perros o cualquier estímulo\, cuando les hemos pedido que regresen a nuestro lado. \nDurante este taller trabajaremos diferentes intensidades según la preparación de perros y guías\, y pondremos las bases para que los asistentes puedan continuar avanzando en situaciones cada vez más estimulantes. \nFechas y horarios\nFIN DE SEMANA: 23 septiembre y 07 octubre (10h – 11:30h)\nConsulta fechas y horarios para el taller entre semana. \nPrecio\n36 € por perro
URL:https://sentidoanimalweb.advserver.es/evento/taller-llamada-fiable-2/
CATEGORIES:Próximos talleres y webinarios
ATTACH;FMTTYPE=:
END:VEVENT
BEGIN:VEVENT
DTSTART;TZID=Europe/Madrid:20170923T180000
DTEND;TZID=Europe/Madrid:20170923T193000
DTSTAMP:20260421T173005
CREATED:20170619T161117Z
LAST-MODIFIED:20170619T161117Z
UID:4854-1506189600-1506195000@sentidoanimalweb.advserver.es
SUMMARY:Jugando con los peludos: PROPIOCEPCIÓN
DESCRIPTION:Comenzamos este año una serie de actividades divertidas donde aprender con tu perro y enseñarle bajo un marco lúdico\, con diferentes propuestas a lo largo del año. \nEn esta ocasión vamos a trabajar la propiocepción\, o lo que es lo mismo\, la conciencia del perro de su propio cuerpo en el espacio. \n \nLos beneficios son muchos\, como bien pone en el cartel de este evento: \n\nEquilibrio\, coordinación y estabilidad: que se practica con los diversos ejercicios que vamos a realizar. El perro tendrá que estar atento y concentrado en sus paras y la posición de su cuerpo.\nTonifica\, mejora y fortalece la musculatura\, pues estaremos trabajando los músculos\, algunos de ellos incluso poco trabajados en los movimientos habituales de su día a día.\nAyuda al perro a tener más seguridad en sí mismo\, pues algunos de los ejercicios peden generarle un leve estrés o conflicto para solucionarlo\, y ser capaz de hacerlo ayudará a confiar más en sus capacidades.\nFortalece el vínculo vuestro mediante el apoyo que tú como guía vas a aportar a tu perro. Ser capaz de superar una situación juntos y escuchar lo buen perro que es de tus propios labios\, es muy importante para vuestra relación y para estrechar vuestros lazos.\n\nSi te apetece disfrutar de tu perro y aportarle beneficios para su día a día\, ¡no te pierdas estos juegos de propiocepción!
URL:https://sentidoanimalweb.advserver.es/evento/jugando-con-los-peludos-propiocepcion/
LOCATION:Ventorro del Cano\, Alcorcón\, Valdemorillo\, 35 \, Alcorcón\, Madrid\, 28925\, España
CATEGORIES:Adiestramiento canino,Próximos eventos para cachorros,Próximos talleres y webinarios
ATTACH;FMTTYPE=:
END:VEVENT
BEGIN:VEVENT
DTSTART;TZID=Europe/Madrid:20170924T100000
DTEND;TZID=Europe/Madrid:20170924T130000
DTSTAMP:20260421T173005
CREATED:20170707T165513Z
LAST-MODIFIED:20170707T165513Z
UID:4935-1506247200-1506258000@sentidoanimalweb.advserver.es
SUMMARY:Salida de socialización - septiembre 2017
DESCRIPTION:Nada mejor que un ambiente tranquilo para poder trabajar las habilidades sociales de nuestros compañeros caninos. \n \nCentrados en las señales y la comunicación canina\, comenzamos como es habitual con ejercicios enfocados en los acercamientos y la observación de los estados emocionales de los perretes asistentes\, para continuar con una caminata tranquila donde tendremos la oportunidad de ir trabajando el paseo\, dándoles permisos para olfatear y curiosear\, y enseñándoles a caminar sin tensión en la correa y sin tirones. \n¡Un paseo para toda la familia!
URL:https://sentidoanimalweb.advserver.es/evento/salida-de-socializacion-septiembre-2017/
LOCATION:Prado del Espino\, Boadilla del Monte\, Prado del Espino\, Boadilla del Monte\, Madrid\, 28660\, España
CATEGORIES:Próximas salidas de socialización
ATTACH;FMTTYPE=:
END:VEVENT
BEGIN:VEVENT
DTSTART;TZID=Europe/Madrid:20170928T180000
DTEND;TZID=Europe/Madrid:20170928T193000
DTSTAMP:20260421T173005
CREATED:20170821T151914Z
LAST-MODIFIED:20170821T151914Z
UID:4951-1506621600-1506627000@sentidoanimalweb.advserver.es
SUMMARY:Taller: llamada fiable
DESCRIPTION:Llamar a tu perro y que venga lo más rápido posible no es ciencia-ficción. Es tan importante tener una llamada fiable que debería ser lo primero en lo que las personas se empeñaran en conseguir\, una vez llega el perro a casa. \nCualquier perro de cualquier edad puede aprenderlo\, y por su seguridad – y nuestra tranquilidad – deberíamos corregir cuanto antes los comportamientos de perros que permanecen «remoloneando» alrededor de olores\, personas\, perros o cualquier estímulo\, cuando les hemos pedido que regresen a nuestro lado. \nDurante este taller trabajaremos diferentes intensidades según la preparación de perros y guías\, y pondremos las bases para que los asistentes puedan continuar avanzando en situaciones cada vez más estimulantes. \nFechas y horarios\nENTRE SEMANA: 28 septiembre y 05 octubre (18h – 19:30h)\nConsulta fechas y horarios para el taller en fin de semana. \nPrecio\n36 € por perro
URL:https://sentidoanimalweb.advserver.es/evento/taller-llamada-fiable/
LOCATION:Ventorro del Cano\, Alcorcón\, Valdemorillo\, 35 \, Alcorcón\, Madrid\, 28925\, España
CATEGORIES:Próximos talleres y webinarios
ATTACH;FMTTYPE=:
END:VEVENT
END:VCALENDAR