BEGIN:VCALENDAR
VERSION:2.0
PRODID:-//Sentido Animal - ECPv6.15.13.1//NONSGML v1.0//EN
CALSCALE:GREGORIAN
METHOD:PUBLISH
X-ORIGINAL-URL:https://sentidoanimalweb.advserver.es
X-WR-CALDESC:Eventos para Sentido Animal
REFRESH-INTERVAL;VALUE=DURATION:PT1H
X-Robots-Tag:noindex
X-PUBLISHED-TTL:PT1H
BEGIN:VTIMEZONE
TZID:Europe/Madrid
BEGIN:DAYLIGHT
TZOFFSETFROM:+0100
TZOFFSETTO:+0200
TZNAME:CEST
DTSTART:20160327T010000
END:DAYLIGHT
BEGIN:STANDARD
TZOFFSETFROM:+0200
TZOFFSETTO:+0100
TZNAME:CET
DTSTART:20161030T010000
END:STANDARD
BEGIN:DAYLIGHT
TZOFFSETFROM:+0100
TZOFFSETTO:+0200
TZNAME:CEST
DTSTART:20170326T010000
END:DAYLIGHT
BEGIN:STANDARD
TZOFFSETFROM:+0200
TZOFFSETTO:+0100
TZNAME:CET
DTSTART:20171029T010000
END:STANDARD
BEGIN:DAYLIGHT
TZOFFSETFROM:+0100
TZOFFSETTO:+0200
TZNAME:CEST
DTSTART:20180325T010000
END:DAYLIGHT
BEGIN:STANDARD
TZOFFSETFROM:+0200
TZOFFSETTO:+0100
TZNAME:CET
DTSTART:20181028T010000
END:STANDARD
END:VTIMEZONE
BEGIN:VEVENT
DTSTART;TZID=Europe/Madrid:20170504T173000
DTEND;TZID=Europe/Madrid:20170504T190000
DTSTAMP:20260421T231258
CREATED:20170324T114847Z
LAST-MODIFIED:20170324T114847Z
UID:4178-1493919000-1493924400@sentidoanimalweb.advserver.es
SUMMARY:TALLER: Viajar en metro y otros transportes públicos (sesión 3)
DESCRIPTION:Tercer y último día de taller «Viajar en metro y otros transportes públicos. \nEn esta última clase\, entraremos en el metro y pondremos en práctica todo lo aprendido en las otras dos clases anteriores. \nPrecio\n\nDía suelto: 25 € por perro
URL:https://sentidoanimalweb.advserver.es/evento/taller-viajar-en-metro-y-otros-transportes-publicos-sesion-3-2/
LOCATION:Estación de tren Alcorcón Central\, Avenida de Móstoles\, Alcorcón\, Madrid\, 28922\, España
CATEGORIES:Adiestramiento canino,Próximos talleres y webinarios
ATTACH;FMTTYPE=:
END:VEVENT
BEGIN:VEVENT
DTSTART;TZID=Europe/Madrid:20170506T100000
DTEND;TZID=Europe/Madrid:20170506T113000
DTSTAMP:20260421T231258
CREATED:20170324T114033Z
LAST-MODIFIED:20170324T114033Z
UID:4174-1494064800-1494070200@sentidoanimalweb.advserver.es
SUMMARY:TALLER: Viajar en metro y otros transportes públicos (sesión 3)
DESCRIPTION:Tercer y último día de taller «Viajar en metro y otros transportes públicos. \nEn esta última clase\, entraremos en el metro y pondremos en práctica todo lo aprendido en las otras dos clases anteriores. \nPrecio\n\nDía suelto: 25 € por perro
URL:https://sentidoanimalweb.advserver.es/evento/taller-viajar-en-metro-y-otros-transportes-publicos-sesion-3/
LOCATION:Estación de tren Alcorcón Central\, Avenida de Móstoles\, Alcorcón\, Madrid\, 28922\, España
CATEGORIES:Adiestramiento canino,Próximos talleres y webinarios
ATTACH;FMTTYPE=:
END:VEVENT
BEGIN:VEVENT
DTSTART;TZID=Europe/Madrid:20170506T123000
DTEND;TZID=Europe/Madrid:20170506T133000
DTSTAMP:20260421T231258
CREATED:20170330T174506Z
LAST-MODIFIED:20170330T174506Z
UID:4347-1494073800-1494077400@sentidoanimalweb.advserver.es
SUMMARY:Socialización de cachorros
DESCRIPTION:Con tan sólo 5 plazas\, estrenamos el CLUB CANINES con una socialización donde les presentaremos otros cachorros y diferentes estímulos. Estaremos atentos a sus reacciones y trabajaremos sobre sus miedos\, su exceso de energía y también su atención a la hora de trabajar algunos ejercicios. \n2 fines de semana alternos para conseguir mejores resultados y mejor manejo. \n\nAprenderemos sobre: \n\nInducción a la relajación.\nAutocontrol delante de otros cachorros.\nLímites: cómo enseñar al perro a no hacer lo que no queremos que haga.\nAutcontrol frente a la comida.\nIntroducción a ejercicios básicos.\nReacciones y su manejo para el día a día.\n\nFechas y horarios\nFIN DE SEMANA: 06 y 20 de mayo (12h30 – 13h30) \nPrecio\n\nTaller: 10 € por perro (2 días de taller)
URL:https://sentidoanimalweb.advserver.es/evento/socializacion-de-cachorros/
LOCATION:Ventorro del Cano\, Alcorcón\, Valdemorillo\, 35 \, Alcorcón\, Madrid\, 28925\, España
CATEGORIES:Próximos eventos para cachorros
ATTACH;FMTTYPE=:
END:VEVENT
BEGIN:VEVENT
DTSTART;TZID=Europe/Madrid:20170507T100000
DTEND;TZID=Europe/Madrid:20170507T113000
DTSTAMP:20260421T231258
CREATED:20170324T130512Z
LAST-MODIFIED:20170324T130512Z
UID:4200-1494151200-1494156600@sentidoanimalweb.advserver.es
SUMMARY:TALLER Paseo tranquilo (sesión 1)
DESCRIPTION:Sacamos al perro varias veces al día y si no enseñamos a que no tiren de la correa\, no vayan corriendo a olfatear cualquier cosa o no intenten correr para saludar a algún perro o persona\, los paseos se pueden hacer cuesta arriba. \nTaller de 2 días de duración para aprender a manejar los paseos de forma agradable\, sin tirones ni «peleas» por llegar a los sitios. \nAprenderemos sobre: \n\nVínculo y su importancia en el paseo.\nReforzadores disponibles durante el paseo: qué le gusta a tu perro.\nUso de ejercicios básicos\, atención y respuesta a señales.\nTransmitiendo las opciones: qué sí y qué no puede hacer y en qué momentos.\nAumentando la dificultad y manteniendo un paseo tranquilo.\n\nFechas y horarios\nFIN DE SEMANA: 07 y 27 de mayo (10h – 11:30h)\nConsulta fechas y horarios para el taller entre semana. \nPrecio\n\nTaller completo (2 días): 36 € por perro\nDía suelto: 25 € por perro
URL:https://sentidoanimalweb.advserver.es/evento/taller-paseo-tranquilo/
LOCATION:Majadahonda\, Majadahonda\, Madrid\, 28220\, España
CATEGORIES:Próximos talleres y webinarios
ATTACH;FMTTYPE=:
END:VEVENT
BEGIN:VEVENT
DTSTART;TZID=Europe/Madrid:20170511T173000
DTEND;TZID=Europe/Madrid:20170511T190000
DTSTAMP:20260421T231258
CREATED:20170324T130848Z
LAST-MODIFIED:20170324T130848Z
UID:4214-1494523800-1494529200@sentidoanimalweb.advserver.es
SUMMARY:TALLER Paseo tranquilo (sesión 1)
DESCRIPTION:Sacamos al perro varias veces al día y si no enseñamos a que no tiren de la correa\, no vayan corriendo a olfatear cualquier cosa o no intenten correr para saludar a algún perro o persona\, los paseos se pueden hacer cuesta arriba. \nTaller de 2 días de duración para aprender a manejar los paseos de forma agradable\, sin tirones ni «peleas» por llegar a los sitios. \nAprenderemos sobre: \n\nVínculo y su importancia en el paseo.\nReforzadores disponibles durante el paseo: qué le gusta a tu perro.\nUso de ejercicios básicos\, atención y respuesta a señales.\nTransmitiendo las opciones: qué sí y qué no puede hacer y en qué momentos.\nAumentando la dificultad y manteniendo un paseo tranquilo.\n\nFechas y horarios\nENTRE SEMANA: 11 y 18 de mayo (17:30h – 19h)\nConsulta fechas y horarios para el taller en fin de semana. \nPrecio\n\nTaller completo (2 días): 36 € por perro\nDía suelto: 25 € por perro
URL:https://sentidoanimalweb.advserver.es/evento/taller-paseo-tranquilo-sesion-1/
LOCATION:Majadahonda\, Majadahonda\, Madrid\, 28220\, España
CATEGORIES:Próximos talleres y webinarios
ATTACH;FMTTYPE=:
END:VEVENT
BEGIN:VEVENT
DTSTART;TZID=Europe/Madrid:20170517T100000
DTEND;TZID=Europe/Madrid:20170517T113000
DTSTAMP:20260421T231258
CREATED:20170401T165612Z
LAST-MODIFIED:20170401T165612Z
UID:4371-1495015200-1495020600@sentidoanimalweb.advserver.es
SUMMARY:TALLER Fin del efecto aspiradora (sesión 1)
DESCRIPTION:Es incómodo\, desagradable e incluso peligroso ver cómo nuestro perro se come todo lo que encuentra por la calle… ¡y por casa! \nAquí nos centramos en enseñar a nuestro perro a no lanzarse a comer cualquier cosa. \nAprenderemos sobre: \n\nEnseñar al perro a que no siga su primer impulso: comer cualquier cosa a su alcance\nRedireccionar su afán de buscar la comida a otros comportamientos más cooperativos\nRespuesta a señales en presencia de comida\nComer a la señal\, y permanecer en una posición hasta que se le indique lo contrario\n\nFechas y horarios\nENTRE SEMANA: 17 de mayo\, 01 y 15 de junio (17:30h – 19h)\nConsulta fechas y horarios para el taller de fin de semana. \nPrecio\n\nTaller completo (3 días): 50 € por perro\nDía suelto: 25 € por perro
URL:https://sentidoanimalweb.advserver.es/evento/taller-fin-del-efecto-aspiradora-sesion-1/
CATEGORIES:Próximos talleres y webinarios
ATTACH;FMTTYPE=:
END:VEVENT
BEGIN:VEVENT
DTSTART;TZID=Europe/Madrid:20170518T173000
DTEND;TZID=Europe/Madrid:20170518T190000
DTSTAMP:20260421T231258
CREATED:20170403T164755Z
LAST-MODIFIED:20170403T164755Z
UID:4441-1495128600-1495134000@sentidoanimalweb.advserver.es
SUMMARY:TALLER Paseo tranquilo (sesión 2)
DESCRIPTION:Segundo día del taller para aprender a pasear de una manera tranquila y agradable con nuestros perros. \nEn la clase de hoy\, trabajaremos: \n\nReforzadores disponibles durante el paseo: qué le gusta a tu perro.\nUso de ejercicios básicos\, atención y respuesta a señales.\nTransmitiendo las opciones: qué sí y qué no puede hacer y en qué momentos.\nAumentando la dificultad y manteniendo un paseo tranquilo.\n\nPrecio\n\nDía suelto: 25 € por perro
URL:https://sentidoanimalweb.advserver.es/evento/taller-paseo-tranquilo-sesion-2-2/
CATEGORIES:Próximos talleres y webinarios
ATTACH;FMTTYPE=:
END:VEVENT
BEGIN:VEVENT
DTSTART;TZID=Europe/Madrid:20170520T100000
DTEND;TZID=Europe/Madrid:20170520T113000
DTSTAMP:20260421T231258
CREATED:20170403T163601Z
LAST-MODIFIED:20170403T163601Z
UID:4433-1495274400-1495279800@sentidoanimalweb.advserver.es
SUMMARY:TALLER Fin del efecto aspiradora (sesión 1)
DESCRIPTION:Es incómodo\, desagradable e incluso peligroso ver cómo nuestro perro se come todo lo que encuentra por la calle… ¡y por casa! \nAquí nos centramos en enseñar a nuestro perro a no lanzarse a comer cualquier cosa. \nAprenderemos sobre: \nEnseñar al perro a que no siga su primer impulso: comer cualquier cosa a su alcance\nRedireccionar su afán de buscar la comida a otros comportamientos más cooperativos\nRespuesta a señales en presencia de comida\nComer a la señal\, y permanecer en una posición hasta que se le indique lo contrario \nFechas y horarios\nFIN DE SEMANA: 20 de mayo\, 03 y 10 de junio (10h – 11:30h)\nConsulta fechas y horarios para el taller entre semana. \nPrecio\nTaller completo (3 días): 50 € por perro\nDía suelto: 25 € por perro y
URL:https://sentidoanimalweb.advserver.es/evento/taller-fin-del-efecto-aspiradora-sesion-1-2/
CATEGORIES:Próximos talleres y webinarios
ATTACH;FMTTYPE=:
END:VEVENT
BEGIN:VEVENT
DTSTART;TZID=Europe/Madrid:20170527T100000
DTEND;TZID=Europe/Madrid:20170527T113000
DTSTAMP:20260421T231258
CREATED:20170403T164628Z
LAST-MODIFIED:20170403T164628Z
UID:4439-1495879200-1495884600@sentidoanimalweb.advserver.es
SUMMARY:TALLER Paseo tranquilo (sesión 2)
DESCRIPTION:Segundo día del taller para aprender a pasear de una manera tranquila y agradable con nuestros perros. \nEn la clase de hoy\, trabajaremos: \n\nReforzadores disponibles durante el paseo: qué le gusta a tu perro.\nUso de ejercicios básicos\, atención y respuesta a señales.\nTransmitiendo las opciones: qué sí y qué no puede hacer y en qué momentos.\nAumentando la dificultad y manteniendo un paseo tranquilo.\n\nPrecio\n\nDía suelto: 25 € por perro
URL:https://sentidoanimalweb.advserver.es/evento/taller-paseo-tranquilo-sesion-2/
CATEGORIES:Próximos talleres y webinarios
ATTACH;FMTTYPE=:
END:VEVENT
BEGIN:VEVENT
DTSTART;TZID=Europe/Madrid:20170528T100000
DTEND;TZID=Europe/Madrid:20170528T130000
DTSTAMP:20260421T231258
CREATED:20170403T180821Z
LAST-MODIFIED:20170403T180821Z
UID:4443-1495965600-1495976400@sentidoanimalweb.advserver.es
SUMMARY:Salida de socialización - mayo 2017
DESCRIPTION:Siempre es un placer pasear por la dehesa de Majadahonda y aprovechar los pinos\, las sombras y la naturaleza para dejar que los perros se relacionen entre sí a la vez que seguimos aprendiendo sobre la comunicación canina. \nEl pasado domingo estuvimos aprovechando el día nublado (¡que al final resultó no ser tan fresco como aparentaba!) y dimos una vuelta por los alrededores de la Dehesa. Cambiando un poco la ruta por los perretes que participaron y por los perros que andaban sueltos por la Dehesa\, pudimos soltar a algunos de ellos mientras Ozzy y Kima mantenían las distancias. Demasiadas revoluciones para la peludita que gracias a las atenciones de Alberto y María tuvieron que abandonar la segunda parte de la salida\, la mañana continuó con tranquilidad\, salvo raras excepciones donde la distancia se hizo imprescindible. \nUna mañana muy a gustito con todos vosotros. \n¡Gracias por venir y hasta la próxima!
URL:https://sentidoanimalweb.advserver.es/evento/salida-de-socializacion-mayo-2017/
CATEGORIES:Próximas salidas de socialización
ATTACH;FMTTYPE=:
END:VEVENT
END:VCALENDAR