BEGIN:VCALENDAR
VERSION:2.0
PRODID:-//Sentido Animal - ECPv6.15.13.1//NONSGML v1.0//EN
CALSCALE:GREGORIAN
METHOD:PUBLISH
X-ORIGINAL-URL:https://sentidoanimalweb.advserver.es
X-WR-CALDESC:Eventos para Sentido Animal
REFRESH-INTERVAL;VALUE=DURATION:PT1H
X-Robots-Tag:noindex
X-PUBLISHED-TTL:PT1H
BEGIN:VTIMEZONE
TZID:Europe/Madrid
BEGIN:DAYLIGHT
TZOFFSETFROM:+0100
TZOFFSETTO:+0200
TZNAME:CEST
DTSTART:20160327T010000
END:DAYLIGHT
BEGIN:STANDARD
TZOFFSETFROM:+0200
TZOFFSETTO:+0100
TZNAME:CET
DTSTART:20161030T010000
END:STANDARD
BEGIN:DAYLIGHT
TZOFFSETFROM:+0100
TZOFFSETTO:+0200
TZNAME:CEST
DTSTART:20170326T010000
END:DAYLIGHT
BEGIN:STANDARD
TZOFFSETFROM:+0200
TZOFFSETTO:+0100
TZNAME:CET
DTSTART:20171029T010000
END:STANDARD
BEGIN:DAYLIGHT
TZOFFSETFROM:+0100
TZOFFSETTO:+0200
TZNAME:CEST
DTSTART:20180325T010000
END:DAYLIGHT
BEGIN:STANDARD
TZOFFSETFROM:+0200
TZOFFSETTO:+0100
TZNAME:CET
DTSTART:20181028T010000
END:STANDARD
END:VTIMEZONE
BEGIN:VEVENT
DTSTART;TZID=Europe/Madrid:20170401T100000
DTEND;TZID=Europe/Madrid:20170401T113000
DTSTAMP:20260422T003916
CREATED:20170323T164129Z
LAST-MODIFIED:20170323T164129Z
UID:4098-1491040800-1491046200@sentidoanimalweb.advserver.es
SUMMARY:TALLER: Viajar en metro y otros transportes públicos (sesión 1)
DESCRIPTION:Este taller de 3 clases grupales de hora y media de duración cada una\, está destinado a particulares que quieran aprender a introducir a su perro en los transportes públicos (metro\, tren y metro ligero) de manera agradable\, sin miedos ni incomodidades. \nAprenderemos sobre: \n\nNormativa para viajar en transporte público.\nPreparación\, manejo y colocación adecuada del bozal\, como un objeto agradable.\nPermaneciendo sentado o tumbado.\nLidiando con los ruidos\, la gente\, el movimiento y los trenes.\nViajando en metro.\n\nFechas y horarios\nFIN DE SEMANA: 01 y 22 de abril y 06 de mayo (10h – 11:30h)\nConsulta fechas y horarios para el taller entre semana. \nPrecio\n\nTaller completo (3 días): 50 € por perro\nDía suelto: 25 € por perro
URL:https://sentidoanimalweb.advserver.es/evento/taller-viajar-en-metro-y-otros-transportes-publicos/
LOCATION:Ventorro del Cano\, Alcorcón\, Valdemorillo\, 35 \, Alcorcón\, Madrid\, 28925\, España
CATEGORIES:Adiestramiento canino,Próximos talleres y webinarios
ATTACH;FMTTYPE=:
END:VEVENT
BEGIN:VEVENT
DTSTART;TZID=Europe/Madrid:20170406T173000
DTEND;TZID=Europe/Madrid:20170406T190000
DTSTAMP:20260422T003916
CREATED:20170324T102736Z
LAST-MODIFIED:20170324T102736Z
UID:4161-1491499800-1491505200@sentidoanimalweb.advserver.es
SUMMARY:TALLER Viajar en metro y otros transportes públicos (sesión 1)
DESCRIPTION:Este taller de 3 clases grupales de hora y media de duración cada una\, está destinado a particulares que quieran aprender a introducir a su perro en los transportes públicos (metro\, tren y metro ligero) de manera agradable\, sin miedos ni incomodidades. \nAprenderemos sobre: \n\nNormativa para viajar en transporte público.\nPreparación\, manejo y colocación adecuada del bozal\, como un objeto agradable.\nPermaneciendo sentado o tumbado.\nLidiando con los ruidos\, la gente\, el movimiento y los trenes.\nViajando en metro.\n\nFechas y horarios\nENTRE SEMANA: 06 y 20 de abril y 04 de mayo (17:30 – 19h)\nConsulta fechas y horarios para el taller en fin de semana. \nPrecio\n\nTaller completo (3 días): 50 € por perro\nDía suelto: 25 € por perro
URL:https://sentidoanimalweb.advserver.es/evento/taller-viajar-en-metro-y-otros-transportes-publicos-entre-semana/
LOCATION:Ventorro del Cano\, Alcorcón\, Valdemorillo\, 35 \, Alcorcón\, Madrid\, 28925\, España
CATEGORIES:Adiestramiento canino,Próximos talleres y webinarios
ATTACH;FMTTYPE=:
END:VEVENT
BEGIN:VEVENT
DTSTART;TZID=Europe/Madrid:20170408T100000
DTEND;TZID=Europe/Madrid:20170408T113000
DTSTAMP:20260422T003916
CREATED:20170324T111513Z
LAST-MODIFIED:20170324T111513Z
UID:4164-1491645600-1491651000@sentidoanimalweb.advserver.es
SUMMARY:TALLER Tomando algo en una terraza
DESCRIPTION:El próximo 08 de abril estaremos en una de las clases grupales de hora y media de duración\, tomando un café o refresco en una terracita y trabajando con nuestros perros que se sientan simplemente cómodos y tranquilos. \nAprenderemos sobre: \n\nInducción a la relajación.\nAutocontrol frente tránsito de gente\, ruidos\, otros perros.\nAutcontrol frente a la comida por el suelo y la comida por la mesa.\n\nFechas y horarios\nFIN DE SEMANA: 08 de abril (10h – 11:30h)\nConsulta fechas y horarios para el taller entre semana. \nPrecio\n\nTaller: 22 € por perro (¡incluye refresco!)
URL:https://sentidoanimalweb.advserver.es/evento/taller-tomando-algo-en-una-terraza-fin-de-semana/
LOCATION:Ventorro del Cano\, Alcorcón\, Valdemorillo\, 35 \, Alcorcón\, Madrid\, 28925\, España
CATEGORIES:Adiestramiento canino,Próximos talleres y webinarios
ATTACH;FMTTYPE=:
END:VEVENT
BEGIN:VEVENT
DTSTART;TZID=Europe/Madrid:20170419T173000
DTEND;TZID=Europe/Madrid:20170419T190000
DTSTAMP:20260422T003916
CREATED:20170324T111810Z
LAST-MODIFIED:20170324T111810Z
UID:4169-1492623000-1492628400@sentidoanimalweb.advserver.es
SUMMARY:TALLER Tomando algo en una terraza
DESCRIPTION:El próximo 08 de abril estaremos en una de las clases grupales de hora y media de duración\, tomando un café o refresco en una terracita y trabajando con nuestros perros que se sientan simplemente cómodos y tranquilos. \nAprenderemos sobre: \n\nInducción a la relajación.\nAutocontrol frente tránsito de gente\, ruidos\, otros perros.\nAutcontrol frente a la comida por el suelo y la comida por la mesa.\n\nFechas y horarios\nENTRE SEMANA: 19 de abril (17:30h – 19h)\nConsulta fechas y horarios para el taller de fin de semana. \nPrecio\n\nTaller: 22 € por perro (¡incluye refresco!)
URL:https://sentidoanimalweb.advserver.es/evento/taller-tomando-algo-en-una-terraza-entre-semana/
LOCATION:Ventorro del Cano\, Alcorcón\, Valdemorillo\, 35 \, Alcorcón\, Madrid\, 28925\, España
CATEGORIES:Adiestramiento canino,Próximos talleres y webinarios
ATTACH;FMTTYPE=:
END:VEVENT
BEGIN:VEVENT
DTSTART;TZID=Europe/Madrid:20170420T173000
DTEND;TZID=Europe/Madrid:20170420T190000
DTSTAMP:20260422T003916
CREATED:20170324T114440Z
LAST-MODIFIED:20170324T114440Z
UID:4176-1492709400-1492714800@sentidoanimalweb.advserver.es
SUMMARY:TALLER: Viajar en metro y otros transportes públicos (sesión 2)
DESCRIPTION:Segundo día de taller para trabajar con nuestros perros poder entrar en los trasportes públicos. \nLa clase de hoy incluye: \n\nPermaneciendo sentado o tumbado.\nLidiando con los ruidos\, la gente\, el movimiento y los trenes.\n\nPrecio\n\nDía suelto: 25 € por perro
URL:https://sentidoanimalweb.advserver.es/evento/taller-viajar-en-metro-y-otros-transportes-publicos-sesion-2-2/
LOCATION:Estación de tren Alcorcón Central\, Avenida de Móstoles\, Alcorcón\, Madrid\, 28922\, España
CATEGORIES:Próximos talleres y webinarios
ATTACH;FMTTYPE=:
END:VEVENT
BEGIN:VEVENT
DTSTART;TZID=Europe/Madrid:20170422T100000
DTEND;TZID=Europe/Madrid:20170422T113000
DTSTAMP:20260422T003916
CREATED:20170324T113722Z
LAST-MODIFIED:20170324T113722Z
UID:4171-1492855200-1492860600@sentidoanimalweb.advserver.es
SUMMARY:TALLER: Viajar en metro y otros transportes públicos (sesión 2)
DESCRIPTION:Segundo día de taller para trabajar con nuestros perros poder entrar en los trasportes públicos. \nLa clase de hoy incluye: \n\nPermaneciendo sentado o tumbado.\nLidiando con los ruidos\, la gente\, el movimiento y los trenes.\n\nPrecio\n\nDía suelto: 25 € por perro
URL:https://sentidoanimalweb.advserver.es/evento/taller-viajar-en-metro-y-otros-transportes-publicos-sesion-2/
LOCATION:Estación de tren Alcorcón Central\, Avenida de Móstoles\, Alcorcón\, Madrid\, 28922\, España
CATEGORIES:Próximos talleres y webinarios
ATTACH;FMTTYPE=:
END:VEVENT
BEGIN:VEVENT
DTSTART;TZID=Europe/Madrid:20170423T103000
DTEND;TZID=Europe/Madrid:20170423T133000
DTSTAMP:20260422T003916
CREATED:20170324T122858Z
LAST-MODIFIED:20170324T122858Z
UID:4183-1492943400-1492954200@sentidoanimalweb.advserver.es
SUMMARY:Salida de socialización - abril 2017
DESCRIPTION:¡Qué bien lo hemos pasado! \nEl embalse de Valmayor es siempre un lugar agradable para ir con nuestro peludos a pasar la mañana\, y el esta vez no ha sido una excepción. \nComo siempre hemos comenzado con unos ejercicios de socialización para que los perretes se sintieran cómodos y se conocieran\, y hemos continuado nuestra marcha. Todos parecían terner muy buena armonía entre sí y los que en un principio han tenido que guardar más las distancias\, se han ido sintiendo más y más cómodos hasta que han podido acercarse e interactuar incluso\, olfateándose para conocerse un poquito mejor. \nComo siempre en este lugar\, ha sido un verdadero disfrute verlos correr\, jugar con nuevos compañeros de carreras y en alguna ocasión\, probar y adorar el agua al mismo tiempo. \nLos perretes que ya han venido a algunas de las salidas y que se mostraban inseguros\, se les ve ya con soltura y confianza entre sus congéneres. \nUna mañana fantástica en una compañía encantadora\, de personas grandes y pequeñas\, y de peludos de todo tipo. \n¡Gracias por venir y hasta la próxima! \n  \n \n  \n\n 
URL:https://sentidoanimalweb.advserver.es/evento/salida-de-socializacion-abril-2017/
LOCATION:Embalse de Valmayor\, Valdemorillo\, Madrid\, 28210\, España
CATEGORIES:Salidas de socialización pasadas
ATTACH;FMTTYPE=:
END:VEVENT
END:VCALENDAR