BEGIN:VCALENDAR
VERSION:2.0
PRODID:-//Sentido Animal - ECPv6.15.13.1//NONSGML v1.0//EN
CALSCALE:GREGORIAN
METHOD:PUBLISH
X-WR-CALNAME:Sentido Animal
X-ORIGINAL-URL:https://sentidoanimalweb.advserver.es
X-WR-CALDESC:Eventos para Sentido Animal
REFRESH-INTERVAL;VALUE=DURATION:PT1H
X-Robots-Tag:noindex
X-PUBLISHED-TTL:PT1H
BEGIN:VTIMEZONE
TZID:Europe/Madrid
BEGIN:DAYLIGHT
TZOFFSETFROM:+0100
TZOFFSETTO:+0200
TZNAME:CEST
DTSTART:20160327T010000
END:DAYLIGHT
BEGIN:STANDARD
TZOFFSETFROM:+0200
TZOFFSETTO:+0100
TZNAME:CET
DTSTART:20161030T010000
END:STANDARD
BEGIN:DAYLIGHT
TZOFFSETFROM:+0100
TZOFFSETTO:+0200
TZNAME:CEST
DTSTART:20170326T010000
END:DAYLIGHT
BEGIN:STANDARD
TZOFFSETFROM:+0200
TZOFFSETTO:+0100
TZNAME:CET
DTSTART:20171029T010000
END:STANDARD
BEGIN:DAYLIGHT
TZOFFSETFROM:+0100
TZOFFSETTO:+0200
TZNAME:CEST
DTSTART:20180325T010000
END:DAYLIGHT
BEGIN:STANDARD
TZOFFSETFROM:+0200
TZOFFSETTO:+0100
TZNAME:CET
DTSTART:20181028T010000
END:STANDARD
END:VTIMEZONE
BEGIN:VEVENT
DTSTART;TZID=Europe/Madrid:20170325T120000
DTEND;TZID=Europe/Madrid:20170325T140000
DTSTAMP:20260422T020244
CREATED:20170203T123415Z
LAST-MODIFIED:20170203T123415Z
UID:2790-1490443200-1490450400@sentidoanimalweb.advserver.es
SUMMARY:Charla para voluntarios
DESCRIPTION:El pasado 25 de marzo estuvimos en la protectora CICAM Majadahonda compartiendo con los voluntarios de ésta y otras protectoras\, pautas básicas que necesitamos a la hora de tratar e interactuar con los perros y gatos que\, desafortunadamente\, viven en las protectoras de nuestro país. \nHemos hablado de cómo evitar situaciones indeseadas\, cómo estimularles física y cognitivamente de la manera correcta\, evitar su estrés y acostumbrarlos a las caricias\, los juegos\, la manipulación y la presencia de personas sin que para ello tengan que sentir miedo\, nerviosismo o excitación excesiva. \nAdemás\, hemos tenido la oportunidad de conocer a nuestros compañeros de 4 patas y ver acciones del día a día\, como ponerles los arneses o sacarlos a dar una vuelta \n¡Gracias a todos por asistir y por preocuparos por mejorar el bienestar de los animales!
URL:https://sentidoanimalweb.advserver.es/evento/charla-para-voluntarios/
LOCATION:CICAM Majadahonda\, Ctra. Majadahonda a Villanueva del Pardillo\, Majadahonda\, Madrid\, 28220\, España
CATEGORIES:Talleres y charlas pasados
ATTACH;FMTTYPE=:
END:VEVENT
BEGIN:VEVENT
DTSTART;TZID=Europe/Madrid:20170326T100000
DTEND;TZID=Europe/Madrid:20170326T130000
DTSTAMP:20260422T020244
CREATED:20170214T180947Z
LAST-MODIFIED:20170214T180947Z
UID:2847-1490522400-1490533200@sentidoanimalweb.advserver.es
SUMMARY:Salida de socialización - marzo 2017
DESCRIPTION:El último domingo de marzo volveremos a realizar nuestra clásica socialización canina. \nSiempre bajo la atenta mirada profesional de nuestros instructores\, iniciamos el calentamiento de la mañana con algunos ejercicios prácticos para que los perretes se sientan cómodos y puedan conocerse y comunicarse con la distancia adecuada\, cada uno la que necesite. \nEn el clima estupendo que se forma en cada una de las salidas\, estaremos pendientes de la comunicación canina\, de cómo ayudarles a gestionar situaciones que pueden ser molestas y les dejaremos jugar y divertirse entre ellos si la situación es apropiada para ellos. \nEl paseo de aproximadamente 3 horas será tranquilo y fácil de transitar\, por lo que la salida es apta para todos los públicos. \n\nPrecio por perro: 12 €\nPrecio por persona: 3 € (alumnos de la escuela ¡gratis!)\n\n¡Te esperamos!
URL:https://sentidoanimalweb.advserver.es/evento/salida-de-socializacion-marzo-2017/
LOCATION:Prado del Espino\, Boadilla del Monte\, Prado del Espino\, Boadilla del Monte\, Madrid\, 28660\, España
CATEGORIES:Adiestramiento canino,Salidas de socialización pasadas
ATTACH;FMTTYPE=:
END:VEVENT
END:VCALENDAR