BEGIN:VCALENDAR
VERSION:2.0
PRODID:-//Sentido Animal - ECPv6.15.13.1//NONSGML v1.0//EN
CALSCALE:GREGORIAN
METHOD:PUBLISH
X-WR-CALNAME:Sentido Animal
X-ORIGINAL-URL:https://sentidoanimalweb.advserver.es
X-WR-CALDESC:Eventos para Sentido Animal
REFRESH-INTERVAL;VALUE=DURATION:PT1H
X-Robots-Tag:noindex
X-PUBLISHED-TTL:PT1H
BEGIN:VTIMEZONE
TZID:Europe/Madrid
BEGIN:DAYLIGHT
TZOFFSETFROM:+0100
TZOFFSETTO:+0200
TZNAME:CEST
DTSTART:20180325T010000
END:DAYLIGHT
BEGIN:STANDARD
TZOFFSETFROM:+0200
TZOFFSETTO:+0100
TZNAME:CET
DTSTART:20181028T010000
END:STANDARD
BEGIN:DAYLIGHT
TZOFFSETFROM:+0100
TZOFFSETTO:+0200
TZNAME:CEST
DTSTART:20190331T010000
END:DAYLIGHT
BEGIN:STANDARD
TZOFFSETFROM:+0200
TZOFFSETTO:+0100
TZNAME:CET
DTSTART:20191027T010000
END:STANDARD
BEGIN:DAYLIGHT
TZOFFSETFROM:+0100
TZOFFSETTO:+0200
TZNAME:CEST
DTSTART:20200329T010000
END:DAYLIGHT
BEGIN:STANDARD
TZOFFSETFROM:+0200
TZOFFSETTO:+0100
TZNAME:CET
DTSTART:20201025T010000
END:STANDARD
END:VTIMEZONE
BEGIN:VEVENT
DTSTART;TZID=Europe/Madrid:20190921T103000
DTEND;TZID=Europe/Madrid:20190921T123000
DTSTAMP:20260420T105413
CREATED:20190825T161202Z
LAST-MODIFIED:20190825T161202Z
UID:8333-1569061800-1569069000@sentidoanimalweb.advserver.es
SUMMARY:Socialización canina y paseo – septiembre 2019 (2)
DESCRIPTION:Volvemos a las rutinas poco a poco\, y eso pasa también por volver a prestar atención a una buena socialización de nuestros perros. \nEl día 21 de septiembre estaremos en una zona amplia\, con sombras y con acceso al río para que los perros se puedan refrescar\, trabajando su socialización y acercamientos pautados y controlados\, para evitar mucha efusividad o inseguridad. El objetivo de la actividad es enseñarles a tolerarse y a hacer presentaciones educadas. Si de ahí surge el juego o los grandes amigos\, ¡será más que bienvenido! \nSalida tranquila para trabajar bien la socialización y el autocontrol con perros que se sientan cómodos entre sus congéneres. Algunas bicis o personas corriendo nos servirán cmo distractores y podremos también trabajar con los peludos en caso de que tengan reactividad hacia ellos. \n¡Pasaremos otra fantástica mañana aprendiendo de las interacciones de nuestros amigos de orejas largas! \nPrecio\n12 € por perro y 3 € por persona. \n\n￼
URL:https://sentidoanimalweb.advserver.es/evento/socializacion-canina-y-paseo-septiembre-2019-2/
LOCATION:Boadilla del Monte\, Boadilla del Monte\, Madrid\, España
CATEGORIES:Adiestramiento canino,Próximas salidas de socialización,Próximos eventos para cachorros
ATTACH;FMTTYPE=:
END:VEVENT
BEGIN:VEVENT
DTSTART;TZID=Europe/Madrid:20190921T120000
DTEND;TZID=Europe/Madrid:20190921T140000
DTSTAMP:20260420T105413
CREATED:20190911T121204Z
LAST-MODIFIED:20190911T121204Z
UID:8429-1569067200-1569074400@sentidoanimalweb.advserver.es
SUMMARY:Formación de voluntarios en CICAM Majadahonda
DESCRIPTION:La formación para las personas que acuden como voluntarias a los centros de protección animal es indispensable para remar todas juntas hacia el bienestar de los animales. \nCon ella se puede realizar un trabajo ordenado y llegar a la consecución de unos objetivos que están siempre enfocados en su bienestar en el centro\, y su adopción por la familia adecuada y en el menor tiempo posible. \nEl sábado 21 hablaremos de: \n\nLenguaje canino\nNecesidades de los perros y gatos del centro\nEnfocándonos en conseguir adopciones\nCómo trabajamos con los perros\n\nY os esperamos a todas las personas que ponen su trabajo\, su cariño\, su esfuerzo y su tiempo al servicio de los animales que lo necesitan en la protectora de CICAM Majadahonda. \nSi quieres venir a hacer voluntariado\, éste es el momento de comenzar. \n 
URL:https://sentidoanimalweb.advserver.es/evento/formacion-de-voluntarios-en-cicam-majadahonda/
LOCATION:CICAM Majadahonda\, Ctra. Majadahonda a Villanueva del Pardillo\, Majadahonda\, Madrid\, 28220\, España
ATTACH;FMTTYPE=:
END:VEVENT
END:VCALENDAR