BEGIN:VCALENDAR
VERSION:2.0
PRODID:-//Sentido Animal - ECPv6.15.13.1//NONSGML v1.0//EN
CALSCALE:GREGORIAN
METHOD:PUBLISH
X-ORIGINAL-URL:https://sentidoanimalweb.advserver.es
X-WR-CALDESC:Eventos para Sentido Animal
REFRESH-INTERVAL;VALUE=DURATION:PT1H
X-Robots-Tag:noindex
X-PUBLISHED-TTL:PT1H
BEGIN:VTIMEZONE
TZID:Europe/Madrid
BEGIN:DAYLIGHT
TZOFFSETFROM:+0100
TZOFFSETTO:+0200
TZNAME:CEST
DTSTART:20180325T010000
END:DAYLIGHT
BEGIN:STANDARD
TZOFFSETFROM:+0200
TZOFFSETTO:+0100
TZNAME:CET
DTSTART:20181028T010000
END:STANDARD
BEGIN:DAYLIGHT
TZOFFSETFROM:+0100
TZOFFSETTO:+0200
TZNAME:CEST
DTSTART:20190331T010000
END:DAYLIGHT
BEGIN:STANDARD
TZOFFSETFROM:+0200
TZOFFSETTO:+0100
TZNAME:CET
DTSTART:20191027T010000
END:STANDARD
BEGIN:DAYLIGHT
TZOFFSETFROM:+0100
TZOFFSETTO:+0200
TZNAME:CEST
DTSTART:20200329T010000
END:DAYLIGHT
BEGIN:STANDARD
TZOFFSETFROM:+0200
TZOFFSETTO:+0100
TZNAME:CET
DTSTART:20201025T010000
END:STANDARD
END:VTIMEZONE
BEGIN:VEVENT
DTSTART;TZID=Europe/Madrid:20190908T130000
DTEND;TZID=Europe/Madrid:20190908T163000
DTSTAMP:20260420T145843
CREATED:20190522T092147Z
LAST-MODIFIED:20190522T092147Z
UID:7904-1567947600-1567960200@sentidoanimalweb.advserver.es
SUMMARY:Concierto solidario para financiación de programa para personas con parálisis cerebral
DESCRIPTION:¡Un evento solidario para toda la familia! \nEl próximo domingo 08 de septiembre vamos a celebrar un evento solidario con el que queremos recaudar fondos para continuar un programa de Intervenciones Asistidas con Animales para la Asociación ATENPACE\, de personas con parálisis cerebral. \nTe ofrecemos un plan genial para el domingo\, que hará felices a muchas personas motivadas con nuestra maravillosa perra de terapias: Sasha. \n \n¿En qué consiste?\nA partir de las 13h se abrirán las puertas\, y sobre las 13h30 dará comienzo una actividad lúdica con los perretes donde disfrutarán nuestros queridos asistentes al programa de Intervenciones Asistidas con Sasha de Atenpace\, y los niños que quieran disfrutar de esta actividad con nuestros perros de terapia. \nSeguiremos con dos conciertos ofrecidos por Steady Rockers y Sally Brown para amenizar la sobremesa\, donde podremos deleitarnos con tapas gratis de cocina casera con imaginación\, con las cervezas y vermuts. \n¿Cuánto cuesta?\n\nLa entrada tiene un precio de 5 € por persona.\nEntrada solidaria: 10 € por persona\n\nSi no puedes acudir pero quieres colaborar para que este programa se continúe con tu aportación\, tenemos una fila cero para ti. Pincha aquí para hacer tu compra. \nPuedes hacer la compra a través de la web movingtickets.com  para la fila 0 (si no puedes acudir)\, en ATENPACE (Calle Islas Marquesas\, 27\, 28035 Madrid) o en las instalaciones de Sentido Animal (Calle Valdemorillo 35\, Alcorcón) \n¿Se puede hacer una aportación mayor?\n¡Por supuesto! Puedes comprar todas las entradas de la fila cero que quieras\, ayudándonos a conseguir nuestro objetivo. \nTodo el dinero recaudado irá en beneficio de los alumnos del Centro de Día de ATENPACE. Necesitamos recaudar fondos para poder llevar a cabo un año más\, la terapia con Sasha con la que ya llevamos 3 años y que está teniendo buenísimos resultados. \n¿Por qué necesitamos hacer un evento solidario?\nLamentablemente\, los gastos que las familias tienen que afrontar son muy altos\, y el centro ha podido aportarlo gracias a ayudas externas durante los dos primeros años\, pero cada vez las ayudas sociales se ven más mermadas y sus posibilidades de mantener el programa se reducen drásticamente. \nMantener este programa tiene un coste de 2.000 € para todo el curso escolar\, y unos 30 alumnos se ven incluidos en él con una sesión mensual (5 sesiones\, una para cada clase). Nos encantaría poder hacer más de una sesión al mes\, pero estaremos encantadas de poder mantener al menos un trabajo de una hora mensual con cada uno de ellos. \n¿En qué consiste el programa?\nCada mes\, Miriam y Sasha se acercan a ATENPACE a trabajar con los alumnos adultos del Centro de Día diferentes habilidades que están dentro de sus actividades cotidianas para desenvolverse en su día a día. \nEn cada sesión vamos valorando junto con los educadores del centro sus avances y programamos la siguiente sesión en base a ello. Estas son algunos de los campos que trabajamos con ellos: \nÁrea psicomotriz \n\nDesarrollar las facultades psicomotoras.\nMejorar aspectos relacionados con la motricidad gruesa y fina.\nIncrementar la actividad física dirigida.\nAumentar el nivel de coordinación.\nMejorar el equilibrio.\nProducir una estimulación multisensorial.\n\nÁrea del lenguaje \n\nPromover el uso de la comunicación y del lenguaje en general: funciones comunicativas\, vocabulario\, etc. para una mayor interacción y aprendizaje en grupo.\nIncrementar la comunicación y/o la intención comunicativa.\nPotenciar el contacto visual.\nDesarrollar habilidades de comunicación verbal y no verbal.\nDesarrollar y mejorar el lenguaje oral mediante comandos verbales para obtener una respuesta de Sasha.\n\nÁrea cognitiva \n\nMejorar la memoria y la atención sostenida\nDesarrollar las facultades organizativas\nDesarrollar las capacidades intelectivas (imaginación\, inteligencia creadora\, atención\, memoria\, observación\, agilidad mental\, fantasía…).\nDesarrollar y mejorar la memoria y la atención. Mejorar la capacidad de atención mediante la disminución de la ansiedad y estrés.\nMejorar el conocimiento de conceptos espaciales\, temporales\, colores\, formas\, etc.\n\nÁrea socio-emocional \n\nFomentar la interacción social y promover la creación o el aumento de vínculos entre iguales.\nAprender y respetar las normas de convivencia y relación social.\nFavorecer el desarrollo emocional.\nMejorar el autoconocimiento y la autoestima.\nAumentar la confianza y seguridad en sí mismos y en los demás\nPotenciar las habilidades sociales y comunicativas para aumentar y fomentar la afectividad y relación entre compañeros.\nFavorecer la inteligencia emocional.\nReflexionar sobre emociones asociadas a ciertas conductas sociales y sobre las reacciones conductuales ante las mismas\, para poder anticiparlas y planificar una conducta lo más equilibrada posible.\nCompartir con otras personas sentimientos de alegría\, ilusión\, etc. frente a las actividades propuestas.\nAumentar la motivación hacia actividades grupales y la interacción con otras personas.\nDesarrollar habilidades de ocio.\nReducir la ansiedad.\nReforzar la autoestima mediante la autorrealización.\n\nÁrea de trabajo conductual \n\nReducir conductas estereotipadas o disruptivas.\nConseguir un aumento del nivel de relajación.\nAdquirir una actitud de respeto y responsabilidad en la relación con el animal para posteriormente poder extrapolarla a otros contextos sociales.\n\nÁrea de autonomía persona \n\nPotenciar la autonomía en la deambulación y en las actividades de la vida diaria: alimentación\, control de esfínteres\, higiene\, vestirse-desvestirse…\nMejorar hábitos de higiene.\nAdquirir autonomía en los desplazamientos dentro del centro.\nConocimiento del entorno (educación vial\, compras\, etc.).\nDesarrollar hábitos de autonomía hacia el cuidado de los animales y de sí mismos/as.\n\n¿Por qué tiene que ir Sasha?\nLas intervenciones asistidas con Sasha en el entorno de la persona\, aportan: \n\nMayor motivación hacia las sesiones.\nNaturalización de los espacios.\nActúa como catalizador emocional.\nMayor dosis de espontaneidad.\nAumento del clima de distensión y confianza.\nMejora de la convivencia.\nAsunción de responsabilidades de manera más divertida.\nMejor relación entre profesionales y alumnos/as\, vínculo más fuerte y rápido en consolidarse.\nAumento de interrelación y cooperación entre las personas participantes de los grupos.\nApertura de nuevas posibilidades de conversación: poner en palabras a través del perro.\nMayor rapidez en consecución de objetivos y solidez de los mismos.\nApoyo emocional.\nAumento de redes sociales y mejora en las relaciones con las mismas.\n\nAquí os dejamos algunos de los bonitos momentos que hemos vivido con Sasha y los alumnos durante los últimos 3 años\, y que nos encantaría seguir viviendo.
URL:https://sentidoanimalweb.advserver.es/evento/concierto-solidario-para-financiacion-de-programa-para-personas-con-paralisis-cerebral/
LOCATION:Gruta77\, Cuclillo 6 (esq. Nicolás Morales)\, Madrid\, Madrid\, 28019\, Spain
CATEGORIES:Evento solidario,Próximas actividades
ATTACH;FMTTYPE=:
END:VEVENT
END:VCALENDAR