BEGIN:VCALENDAR
VERSION:2.0
PRODID:-//Sentido Animal - ECPv6.15.13.1//NONSGML v1.0//EN
CALSCALE:GREGORIAN
METHOD:PUBLISH
X-ORIGINAL-URL:https://sentidoanimalweb.advserver.es
X-WR-CALDESC:Eventos para Sentido Animal
REFRESH-INTERVAL;VALUE=DURATION:PT1H
X-Robots-Tag:noindex
X-PUBLISHED-TTL:PT1H
BEGIN:VTIMEZONE
TZID:Europe/Madrid
BEGIN:DAYLIGHT
TZOFFSETFROM:+0100
TZOFFSETTO:+0200
TZNAME:CEST
DTSTART:20180325T010000
END:DAYLIGHT
BEGIN:STANDARD
TZOFFSETFROM:+0200
TZOFFSETTO:+0100
TZNAME:CET
DTSTART:20181028T010000
END:STANDARD
BEGIN:DAYLIGHT
TZOFFSETFROM:+0100
TZOFFSETTO:+0200
TZNAME:CEST
DTSTART:20190331T010000
END:DAYLIGHT
BEGIN:STANDARD
TZOFFSETFROM:+0200
TZOFFSETTO:+0100
TZNAME:CET
DTSTART:20191027T010000
END:STANDARD
BEGIN:DAYLIGHT
TZOFFSETFROM:+0100
TZOFFSETTO:+0200
TZNAME:CEST
DTSTART:20200329T010000
END:DAYLIGHT
BEGIN:STANDARD
TZOFFSETFROM:+0200
TZOFFSETTO:+0100
TZNAME:CET
DTSTART:20201025T010000
END:STANDARD
END:VTIMEZONE
BEGIN:VEVENT
DTSTART;TZID=Europe/Madrid:20190907T080000
DTEND;TZID=Europe/Madrid:20190907T170000
DTSTAMP:20260420T104135
CREATED:20190907T184737Z
LAST-MODIFIED:20190907T184737Z
UID:8417-1567843200-1567875600@sentidoanimalweb.advserver.es
SUMMARY:Habilidades y clicker - sept-nov 2019
DESCRIPTION:¡Comenzamos las clases grupales de habilidades y clicker! \nSi te apetece comprobar hasta dónde podéis llegar con vuestra imaginación… ¡éste es el lugar reservado para ti! Realizar nuevos ejercicios y aumentar tus capacidades para guiar a tu perrete\, de una forma divertida y eficiente\, es la finalidad de estas clases. \n \nLas clases grupales están diseñadas para dotaros\, de forma progresiva\, de herramientas prácticas para las sesiones de trabajo desde el respeto y el bienestar animal. \n¿Qué vais a aprender juntos tu compi y tú?\n\nUtilización y perfeccionamiento del uso del clicker\nEliminación progresiva del clicker de un comportamiento aprendido\nConstrucción de habilidades diversas bajo una señal determinada\nUso de señales verbales y gestuales\nCadena de comportamientos bajo una única señal\n\n12 clases grupales\n\n12\, 19\, 26 sept\n03\, 10\, 17\, 24\, 31 oct\n07\, 14\, 21\, 28 nov\n\n¿Qué necesitas para acudir?\n\nComida (pienso\, pavo sin sal u otra alimentación que le guste) y una bolsita o riñonera (para tener la comida a mano).\nJuguetes\, huesos\, mordedores… (todo lo que creas que pueda gustarle a tu perro).\nCorrea y arnés o collar.\nAgua:  aunque en clase habrá\, pero nunca está de más\, pues a algunos perros no les gusta compartir el agua. \nSi tu perro se siente cómodo con una mantita o transportín\, no dudes en traerlo.\nEnviarnos por correo electrónico su cartilla veterinaria con las vacunas obligatorias al día.\n\n 
URL:https://sentidoanimalweb.advserver.es/evento/habilidades-y-clicker-sept-nov-2019/
LOCATION:Escuela Sentido Animal\, C/ Valdemorillo 35\, Alcorcón\, Madrid\, 28925\, España
CATEGORIES:Adiestramiento canino,Cursos de entrenamiento de animales
ATTACH;FMTTYPE=:
END:VEVENT
BEGIN:VEVENT
DTSTART;TZID=Europe/Madrid:20190907T100000
DTEND;TZID=Europe/Madrid:20190907T130000
DTSTAMP:20260420T104135
CREATED:20190717T142540Z
LAST-MODIFIED:20190717T142540Z
UID:8219-1567850400-1567861200@sentidoanimalweb.advserver.es
SUMMARY:Senderismo con perros - septiembre 2019
DESCRIPTION:Comenzamos el curso escolar con una salida de senderismo ¡muy refrescante! A las 10h quedaremos en el punto de encuentro para comenzar una rutilla sencilla\, con alguna cuesta pronunciada pero con un camino muy agradable para pasar la mañana de sábado. \nEl lugar\nTranquilo aunque con posibilidad de encontrarnos otros perros\, ciclistas o viandantes\, en caminos de montaña no demasiado estrechos\, salvo alguna excepción. \nHablando de agua…\nDurante la primera parte del recorrido tendremos agua a disposición gracias al arroyo del Picazuelo que llega al lago. Comenzaremos nuestras andanzas en una esquinita del lago\, donde podremos bajar y acompañar a un pequeño chapuzón a nuestros peludos. El resto del tiempo\, un poco más de la mitad\, habrá que tener preparada agua en la mochila para refrescar tanto a perretes como a personas. \nDificultad\nMedia-baja.\nSiempre que hablamos de montaña debemos pensar en piedras\, palos y desniveles\, pero \n¿Te animas?
URL:https://sentidoanimalweb.advserver.es/evento/senderismo-con-perros-septiembre-2019/
LOCATION:La Jarosa\, Embalse de La Jarosa\, Guadarrama\, Madrid\, España
CATEGORIES:Próximas salidas de socialización
ATTACH;FMTTYPE=:
END:VEVENT
END:VCALENDAR