BEGIN:VCALENDAR
VERSION:2.0
PRODID:-//Sentido Animal - ECPv6.15.13.1//NONSGML v1.0//EN
CALSCALE:GREGORIAN
METHOD:PUBLISH
X-WR-CALNAME:Sentido Animal
X-ORIGINAL-URL:https://sentidoanimalweb.advserver.es
X-WR-CALDESC:Eventos para Sentido Animal
REFRESH-INTERVAL;VALUE=DURATION:PT1H
X-Robots-Tag:noindex
X-PUBLISHED-TTL:PT1H
BEGIN:VTIMEZONE
TZID:Europe/Madrid
BEGIN:DAYLIGHT
TZOFFSETFROM:+0100
TZOFFSETTO:+0200
TZNAME:CEST
DTSTART:20170326T010000
END:DAYLIGHT
BEGIN:STANDARD
TZOFFSETFROM:+0200
TZOFFSETTO:+0100
TZNAME:CET
DTSTART:20171029T010000
END:STANDARD
BEGIN:DAYLIGHT
TZOFFSETFROM:+0100
TZOFFSETTO:+0200
TZNAME:CEST
DTSTART:20180325T010000
END:DAYLIGHT
BEGIN:STANDARD
TZOFFSETFROM:+0200
TZOFFSETTO:+0100
TZNAME:CET
DTSTART:20181028T010000
END:STANDARD
BEGIN:DAYLIGHT
TZOFFSETFROM:+0100
TZOFFSETTO:+0200
TZNAME:CEST
DTSTART:20190331T010000
END:DAYLIGHT
BEGIN:STANDARD
TZOFFSETFROM:+0200
TZOFFSETTO:+0100
TZNAME:CET
DTSTART:20191027T010000
END:STANDARD
END:VTIMEZONE
BEGIN:VEVENT
DTSTART;TZID=Europe/Madrid:20181027T170000
DTEND;TZID=Europe/Madrid:20181027T190000
DTSTAMP:20260421T004828
CREATED:20180923T173423Z
LAST-MODIFIED:20180923T173423Z
UID:6915-1540659600-1540666800@sentidoanimalweb.advserver.es
SUMMARY:Charla informativa gratuita del curso de Intervenciones Asistidas con Animales
DESCRIPTION:El próximo 27 de octubre vamos a realizar una charla informativa sobre nuestro curso de Técnico en IAA. La asistencia es gratuita aunque es necesario inscribirse para confirmar la asistencia. \nTrataremos sobre…\n\nQuienes somos y cuál es nuestra forma de ver el entrenamiento animal\nQué son las IAA\nColectivos y ponentes del curso\nCómo está estructurado el curso\nCómo son las prácticas y cuándo se realizan\nTitulación e incorporación al trabajo\n\nSi tienes interés en trabajar como Técnico en Intervenciones Asistidas con Animales\, te esperamos el próximo día 27.
URL:https://sentidoanimalweb.advserver.es/evento/charla-informativa-gratuita-del-curso-de-intervenciones-asistidas-con-animales/
LOCATION:Escuela Sentido Animal\, C/ Valdemorillo 35\, Alcorcón\, Madrid\, 28925\, España
CATEGORIES:Evento gratis,Próximos cursos profesionales
ATTACH;FMTTYPE=:
END:VEVENT
END:VCALENDAR