BEGIN:VCALENDAR
VERSION:2.0
PRODID:-//Sentido Animal - ECPv6.15.13.1//NONSGML v1.0//EN
CALSCALE:GREGORIAN
METHOD:PUBLISH
X-ORIGINAL-URL:https://sentidoanimalweb.advserver.es
X-WR-CALDESC:Eventos para Sentido Animal
REFRESH-INTERVAL;VALUE=DURATION:PT1H
X-Robots-Tag:noindex
X-PUBLISHED-TTL:PT1H
BEGIN:VTIMEZONE
TZID:Europe/Madrid
BEGIN:DAYLIGHT
TZOFFSETFROM:+0100
TZOFFSETTO:+0200
TZNAME:CEST
DTSTART:20170326T010000
END:DAYLIGHT
BEGIN:STANDARD
TZOFFSETFROM:+0200
TZOFFSETTO:+0100
TZNAME:CET
DTSTART:20171029T010000
END:STANDARD
BEGIN:DAYLIGHT
TZOFFSETFROM:+0100
TZOFFSETTO:+0200
TZNAME:CEST
DTSTART:20180325T010000
END:DAYLIGHT
BEGIN:STANDARD
TZOFFSETFROM:+0200
TZOFFSETTO:+0100
TZNAME:CET
DTSTART:20181028T010000
END:STANDARD
BEGIN:DAYLIGHT
TZOFFSETFROM:+0100
TZOFFSETTO:+0200
TZNAME:CEST
DTSTART:20190331T010000
END:DAYLIGHT
BEGIN:STANDARD
TZOFFSETFROM:+0200
TZOFFSETTO:+0100
TZNAME:CET
DTSTART:20191027T010000
END:STANDARD
END:VTIMEZONE
BEGIN:VEVENT
DTSTART;TZID=Europe/Madrid:20180826T103000
DTEND;TZID=Europe/Madrid:20180826T130000
DTSTAMP:20260421T033721
CREATED:20180810T123149Z
LAST-MODIFIED:20180810T123149Z
UID:6554-1535279400-1535288400@sentidoanimalweb.advserver.es
SUMMARY:Senderismo con perros - agosto 2018
DESCRIPTION:Refrescante salida de senderismo con perros por Las Navas del Marqués para despedirnos del verano\, con una caminata de aproximadamente 10 km. con nuestros peludos. \nEl domingo 26 de agosto nos iremos hasta el maravilloso pueblo de Las Navas del Marqués\, provincia de Ávila\, en un que nos llenará de energía en contacto con la naturaleza\, donde poder disfrutar de un paseo en la montaña\, con un bonito embalse a mitad del camino. \nDos horas y media de ruta con supervisión profesional\, para disfrutar y dejar que nuestros peludos disfruten y se socialicen de manera sana. \n¡Así de bien nos lo pasamos!\nOs dejamos algunas fotos y el vídeo de la salida. Como véis\, estupenda compañía humana y maravillosos perretes que fueron educados y comunicativos durante toda la salida.\n¡Muchas graicas a todos por venir\, que sabemos que en agosto no es fácil! 😉
URL:https://sentidoanimalweb.advserver.es/evento/senderismo-con-perros-agosto-2018/
LOCATION:Escuela Sentido Animal\, C/ Valdemorillo 35\, Alcorcón\, Madrid\, 28925\, España
CATEGORIES:Salidas de socialización pasadas
ATTACH;FMTTYPE=:
END:VEVENT
END:VCALENDAR