BEGIN:VCALENDAR
VERSION:2.0
PRODID:-//Sentido Animal - ECPv6.15.20//NONSGML v1.0//EN
CALSCALE:GREGORIAN
METHOD:PUBLISH
X-WR-CALNAME:Sentido Animal
X-ORIGINAL-URL:https://sentidoanimalweb.advserver.es
X-WR-CALDESC:Eventos para Sentido Animal
REFRESH-INTERVAL;VALUE=DURATION:PT1H
X-Robots-Tag:noindex
X-PUBLISHED-TTL:PT1H
BEGIN:VTIMEZONE
TZID:Europe/Madrid
BEGIN:DAYLIGHT
TZOFFSETFROM:+0100
TZOFFSETTO:+0200
TZNAME:CEST
DTSTART:20170326T010000
END:DAYLIGHT
BEGIN:STANDARD
TZOFFSETFROM:+0200
TZOFFSETTO:+0100
TZNAME:CET
DTSTART:20171029T010000
END:STANDARD
BEGIN:DAYLIGHT
TZOFFSETFROM:+0100
TZOFFSETTO:+0200
TZNAME:CEST
DTSTART:20180325T010000
END:DAYLIGHT
BEGIN:STANDARD
TZOFFSETFROM:+0200
TZOFFSETTO:+0100
TZNAME:CET
DTSTART:20181028T010000
END:STANDARD
BEGIN:DAYLIGHT
TZOFFSETFROM:+0100
TZOFFSETTO:+0200
TZNAME:CEST
DTSTART:20190331T010000
END:DAYLIGHT
BEGIN:STANDARD
TZOFFSETFROM:+0200
TZOFFSETTO:+0100
TZNAME:CET
DTSTART:20191027T010000
END:STANDARD
END:VTIMEZONE
BEGIN:VEVENT
DTSTART;TZID=Europe/Madrid:20180218T080000
DTEND;TZID=Europe/Madrid:20180218T170000
DTSTAMP:20260423T113639
CREATED:20180206T131051Z
LAST-MODIFIED:20180206T131051Z
UID:5963-1518940800-1518973200@sentidoanimalweb.advserver.es
SUMMARY:Salida de socialización – febrero 2018
DESCRIPTION:En un escenario habitual para nuestras salidas de socialización\, sin demasiados ruidos\, sin coches o bicis\, sin personas u otros perros que puedan distraernos de nuestro trabajo\, el próximo 18 de febrero saldremos a las 10h30 hasta las 13h para enseñar a los perros la forma más educada de comportarse frente a otros perros\, con saludos ni muy efusivos ni con necesidad de mostrar miedo\, manteniendo la atención en las indicaciones de los guías. \n¡Nos vemos el domingo 18!
URL:https://sentidoanimalweb.advserver.es/evento/salida-de-socializacion-febrero-2018/
LOCATION:Prado del Espino\, Boadilla del Monte\, Prado del Espino\, Boadilla del Monte\, Madrid\, 28660\, España
CATEGORIES:Salidas de socialización pasadas
ATTACH;FMTTYPE=:
END:VEVENT
END:VCALENDAR