BEGIN:VCALENDAR
VERSION:2.0
PRODID:-//Sentido Animal - ECPv6.15.13.1//NONSGML v1.0//EN
CALSCALE:GREGORIAN
METHOD:PUBLISH
X-ORIGINAL-URL:https://sentidoanimalweb.advserver.es
X-WR-CALDESC:Eventos para Sentido Animal
REFRESH-INTERVAL;VALUE=DURATION:PT1H
X-Robots-Tag:noindex
X-PUBLISHED-TTL:PT1H
BEGIN:VTIMEZONE
TZID:Europe/Madrid
BEGIN:DAYLIGHT
TZOFFSETFROM:+0100
TZOFFSETTO:+0200
TZNAME:CEST
DTSTART:20160327T010000
END:DAYLIGHT
BEGIN:STANDARD
TZOFFSETFROM:+0200
TZOFFSETTO:+0100
TZNAME:CET
DTSTART:20161030T010000
END:STANDARD
BEGIN:DAYLIGHT
TZOFFSETFROM:+0100
TZOFFSETTO:+0200
TZNAME:CEST
DTSTART:20170326T010000
END:DAYLIGHT
BEGIN:STANDARD
TZOFFSETFROM:+0200
TZOFFSETTO:+0100
TZNAME:CET
DTSTART:20171029T010000
END:STANDARD
BEGIN:DAYLIGHT
TZOFFSETFROM:+0100
TZOFFSETTO:+0200
TZNAME:CEST
DTSTART:20180325T010000
END:DAYLIGHT
BEGIN:STANDARD
TZOFFSETFROM:+0200
TZOFFSETTO:+0100
TZNAME:CET
DTSTART:20181028T010000
END:STANDARD
END:VTIMEZONE
BEGIN:VEVENT
DTSTART;TZID=Europe/Madrid:20171202T100000
DTEND;TZID=Europe/Madrid:20171202T140000
DTSTAMP:20260421T142958
CREATED:20171019T100808Z
LAST-MODIFIED:20171019T100808Z
UID:5378-1512208800-1512223200@sentidoanimalweb.advserver.es
SUMMARY:Charla: El perro adoptado
DESCRIPTION:Adoptar a un perro es una gran obra que merece todo el respeto y el reconocimiento social… pero eso no significa que vayamos a tener un perro complementario con nosotros desde el primer momento. Significa que vamos a dar la oportunidad a un animal con un pasado que le ha llevado hasta aquí\, a tener una nueva vida. Y en nuestras manos está comenzar a ganarnos su confianza desde el principio. \nLa adopción de un perro adulto plantear muchas incógnitas (al igual que lo hace tener un cachorro\, adoptado o no)\, y por eso es fundamental seguir ciertos pasos para ajustar una buena convivencia. \nEn esta charla abordaremos puntos importantes como: \n\nAntes de llegar a casa: slección\, preparación del hogar\, juguetes y herramientas\nLas necesidades de un perro adoptado: físicas\, fisiológicas\, afectivas y sociales; tiempos y espacios\nNormas en casa y convivencia; educación\nSolo en casa\nFantasmas del pasado\nConfianza\, respeto\, vínculo\n\nFecha y horario\n02 diciembre (10h – 14h) \n¿Puedes traer a tu perro adoptado?\nEn las charlas no vamos a trabajar con los perros\, así que esta vez te pediré que lo dejes en casa 🙂 \nPrecio\n20 € por persona
URL:https://sentidoanimalweb.advserver.es/evento/charla-el-perro-adoptado/
LOCATION:Ventorro del Cano\, Alcorcón\, Valdemorillo\, 35 \, Alcorcón\, Madrid\, 28925\, España
CATEGORIES:Talleres y charlas pasados
ATTACH;FMTTYPE=:
END:VEVENT
END:VCALENDAR