BEGIN:VCALENDAR
VERSION:2.0
PRODID:-//Sentido Animal - ECPv6.15.13.1//NONSGML v1.0//EN
CALSCALE:GREGORIAN
METHOD:PUBLISH
X-ORIGINAL-URL:https://sentidoanimalweb.advserver.es
X-WR-CALDESC:Eventos para Sentido Animal
REFRESH-INTERVAL;VALUE=DURATION:PT1H
X-Robots-Tag:noindex
X-PUBLISHED-TTL:PT1H
BEGIN:VTIMEZONE
TZID:Europe/Madrid
BEGIN:DAYLIGHT
TZOFFSETFROM:+0100
TZOFFSETTO:+0200
TZNAME:CEST
DTSTART:20160327T010000
END:DAYLIGHT
BEGIN:STANDARD
TZOFFSETFROM:+0200
TZOFFSETTO:+0100
TZNAME:CET
DTSTART:20161030T010000
END:STANDARD
BEGIN:DAYLIGHT
TZOFFSETFROM:+0100
TZOFFSETTO:+0200
TZNAME:CEST
DTSTART:20170326T010000
END:DAYLIGHT
BEGIN:STANDARD
TZOFFSETFROM:+0200
TZOFFSETTO:+0100
TZNAME:CET
DTSTART:20171029T010000
END:STANDARD
BEGIN:DAYLIGHT
TZOFFSETFROM:+0100
TZOFFSETTO:+0200
TZNAME:CEST
DTSTART:20180325T010000
END:DAYLIGHT
BEGIN:STANDARD
TZOFFSETFROM:+0200
TZOFFSETTO:+0100
TZNAME:CET
DTSTART:20181028T010000
END:STANDARD
END:VTIMEZONE
BEGIN:VEVENT
DTSTART;TZID=Europe/Madrid:20171015T103000
DTEND;TZID=Europe/Madrid:20171015T133000
DTSTAMP:20260421T173005
CREATED:20170720T111114Z
LAST-MODIFIED:20170720T111114Z
UID:4964-1508063400-1508074200@sentidoanimalweb.advserver.es
SUMMARY:Salida de senderismo – octubre 2017
DESCRIPTION:El próximo 15 de octubre nos iremos a hacer senderismo con nuestros perros\, con la mirada siempre puesta en la socialización de los peludos y en la comunicación canina\, pero disfrutando esta vez de un paseo para iniciados en media montaña. \nLa salida tendrá lugar en Las Navas del Marqués\, Ávila. \n\nDistancia: 10 km\nDuración: 3h aproximadamente\nDificultad: media\n\n\nPrecio por perro: 12 €\nPrecio por persona: 3 € (¡alumnos gratis!)
URL:https://sentidoanimalweb.advserver.es/evento/salida-de-senderismo-octubre-2017/
LOCATION:Estación de Las Navas del Marqués\, Estación de Las Navas del Marqués\, Las Navas del Marqués\, Ávila\, 05230\, España
CATEGORIES:Próximas salidas de socialización
ATTACH;FMTTYPE=:
END:VEVENT
END:VCALENDAR