BEGIN:VCALENDAR
VERSION:2.0
PRODID:-//Sentido Animal - ECPv6.15.13.1//NONSGML v1.0//EN
CALSCALE:GREGORIAN
METHOD:PUBLISH
X-ORIGINAL-URL:https://sentidoanimalweb.advserver.es
X-WR-CALDESC:Eventos para Sentido Animal
REFRESH-INTERVAL;VALUE=DURATION:PT1H
X-Robots-Tag:noindex
X-PUBLISHED-TTL:PT1H
BEGIN:VTIMEZONE
TZID:Europe/Madrid
BEGIN:DAYLIGHT
TZOFFSETFROM:+0100
TZOFFSETTO:+0200
TZNAME:CEST
DTSTART:20160327T010000
END:DAYLIGHT
BEGIN:STANDARD
TZOFFSETFROM:+0200
TZOFFSETTO:+0100
TZNAME:CET
DTSTART:20161030T010000
END:STANDARD
BEGIN:DAYLIGHT
TZOFFSETFROM:+0100
TZOFFSETTO:+0200
TZNAME:CEST
DTSTART:20170326T010000
END:DAYLIGHT
BEGIN:STANDARD
TZOFFSETFROM:+0200
TZOFFSETTO:+0100
TZNAME:CET
DTSTART:20171029T010000
END:STANDARD
BEGIN:DAYLIGHT
TZOFFSETFROM:+0100
TZOFFSETTO:+0200
TZNAME:CEST
DTSTART:20180325T010000
END:DAYLIGHT
BEGIN:STANDARD
TZOFFSETFROM:+0200
TZOFFSETTO:+0100
TZNAME:CET
DTSTART:20181028T010000
END:STANDARD
END:VTIMEZONE
BEGIN:VEVENT
DTSTART;TZID=Europe/Madrid:20170917T100000
DTEND;TZID=Europe/Madrid:20170917T130000
DTSTAMP:20260421T184705
CREATED:20170707T164404Z
LAST-MODIFIED:20170707T164404Z
UID:4912-1505642400-1505653200@sentidoanimalweb.advserver.es
SUMMARY:Salida de senderismo - septiembre 2017
DESCRIPTION:En la primera salida de senderismo del año\, hemos hecho una rutilla de 7 km por los alrededores del embalse de la Jarosa\, con un ascenso de 261 m y una duración de 3h\, incluida una parada al inicio para que los perretes se mojaran y chapotearan a conciencia. \nCon una temperatura estupenda\, hemos disfrutado del campo y la naturaleza\, pudiendo observar y aprender sobre la comunicación canina y las interacciones de nuestros peludos. \n \nEl comienzo ha sido duro para los peludos acostumbrados a correr por el campo nada más bajar del coche\, pues hemos mantenido la correa prácticamente hasta llegar al embalse y acomodarnos en un lugar retirado donde han podido darse un chapuzón. \nMuchos perros se emocionan con el agua\, como nos hemos emocionado el resto con el bonito paisaje\, pero con algunos de ellos hemos tenido que bajar su intensidad y trabajar cambios de activación. \nUn bonito paseo en buena compañía\, y un fantástico plan para la mañana del domingo 😉
URL:https://sentidoanimalweb.advserver.es/evento/salida-de-senderismo-septiembre-2017/
CATEGORIES:Salidas de socialización pasadas
ATTACH;FMTTYPE=:
END:VEVENT
END:VCALENDAR