BEGIN:VCALENDAR
VERSION:2.0
PRODID:-//Sentido Animal - ECPv6.15.13.1//NONSGML v1.0//EN
CALSCALE:GREGORIAN
METHOD:PUBLISH
X-WR-CALNAME:Sentido Animal
X-ORIGINAL-URL:https://sentidoanimalweb.advserver.es
X-WR-CALDESC:Eventos para Sentido Animal
REFRESH-INTERVAL;VALUE=DURATION:PT1H
X-Robots-Tag:noindex
X-PUBLISHED-TTL:PT1H
BEGIN:VTIMEZONE
TZID:Europe/Madrid
BEGIN:DAYLIGHT
TZOFFSETFROM:+0100
TZOFFSETTO:+0200
TZNAME:CEST
DTSTART:20160327T010000
END:DAYLIGHT
BEGIN:STANDARD
TZOFFSETFROM:+0200
TZOFFSETTO:+0100
TZNAME:CET
DTSTART:20161030T010000
END:STANDARD
BEGIN:DAYLIGHT
TZOFFSETFROM:+0100
TZOFFSETTO:+0200
TZNAME:CEST
DTSTART:20170326T010000
END:DAYLIGHT
BEGIN:STANDARD
TZOFFSETFROM:+0200
TZOFFSETTO:+0100
TZNAME:CET
DTSTART:20171029T010000
END:STANDARD
BEGIN:DAYLIGHT
TZOFFSETFROM:+0100
TZOFFSETTO:+0200
TZNAME:CEST
DTSTART:20180325T010000
END:DAYLIGHT
BEGIN:STANDARD
TZOFFSETFROM:+0200
TZOFFSETTO:+0100
TZNAME:CET
DTSTART:20181028T010000
END:STANDARD
END:VTIMEZONE
BEGIN:VEVENT
DTSTART;TZID=Europe/Madrid:20170821T190000
DTEND;TZID=Europe/Madrid:20170825T210000
DTSTAMP:20260421T201620
CREATED:20170530T183401Z
LAST-MODIFIED:20170530T183401Z
UID:4781-1503342000-1503694800@sentidoanimalweb.advserver.es
SUMMARY:Curso de verano 2017
DESCRIPTION:En agosto estaremos disfrutando de un curso de 5 días con nuestros amigos de Con Perros en Salamanca. \nUn curso en el que avanzar según tu nivel de entrenamiento y educación de tu perro en autocontrol\, socialización\, respuesta a señales y en definitiva\, ir un paso más en la educación para el día a día.\n\nEjercicios fundamentales para entender\, ayudar y enseñar a tu perro. \nUn curso muy interesante donde podremos enseñar divirtiéndonos\, porque ¿cómo es posible enseñar sin pasárselo bien junto a tu perro?
URL:https://sentidoanimalweb.advserver.es/evento/curso-de-verano-2017/
LOCATION:Escuela Con Perros\, Churruca\, Salamanca\, Salamanca\, España
ATTACH;FMTTYPE=:
END:VEVENT
END:VCALENDAR