BEGIN:VCALENDAR
VERSION:2.0
PRODID:-//Sentido Animal - ECPv6.15.13.1//NONSGML v1.0//EN
CALSCALE:GREGORIAN
METHOD:PUBLISH
X-ORIGINAL-URL:https://sentidoanimalweb.advserver.es
X-WR-CALDESC:Eventos para Sentido Animal
REFRESH-INTERVAL;VALUE=DURATION:PT1H
X-Robots-Tag:noindex
X-PUBLISHED-TTL:PT1H
BEGIN:VTIMEZONE
TZID:Europe/Madrid
BEGIN:DAYLIGHT
TZOFFSETFROM:+0100
TZOFFSETTO:+0200
TZNAME:CEST
DTSTART:20160327T010000
END:DAYLIGHT
BEGIN:STANDARD
TZOFFSETFROM:+0200
TZOFFSETTO:+0100
TZNAME:CET
DTSTART:20161030T010000
END:STANDARD
BEGIN:DAYLIGHT
TZOFFSETFROM:+0100
TZOFFSETTO:+0200
TZNAME:CEST
DTSTART:20170326T010000
END:DAYLIGHT
BEGIN:STANDARD
TZOFFSETFROM:+0200
TZOFFSETTO:+0100
TZNAME:CET
DTSTART:20171029T010000
END:STANDARD
BEGIN:DAYLIGHT
TZOFFSETFROM:+0100
TZOFFSETTO:+0200
TZNAME:CEST
DTSTART:20180325T010000
END:DAYLIGHT
BEGIN:STANDARD
TZOFFSETFROM:+0200
TZOFFSETTO:+0100
TZNAME:CET
DTSTART:20181028T010000
END:STANDARD
END:VTIMEZONE
BEGIN:VEVENT
DTSTART;TZID=Europe/Madrid:20170708T093000
DTEND;TZID=Europe/Madrid:20170709T113000
DTSTAMP:20260421T213818
CREATED:20170417T154801Z
LAST-MODIFIED:20170417T154801Z
UID:4539-1499506200-1499599800@sentidoanimalweb.advserver.es
SUMMARY:Problemas con otros perros (práctico I)
DESCRIPTION:Segundo fin de semana del curso donde comenzaremos la parte práctica después de el fin de semana teórico. \nContinuaremos poniendo en práctica lo aprendido: \n\nAnálisis de los problemas individuales de los asistentes y puesta en común de los casos.\nMiedo y agresividad.\nUso de la correa y gestión de las situaciones conflictivas.\nComunicación canina.\nHerramientas de las que disponemos para educar a un perro.\nTrabajo personalizado con los perros asistentes.\n\nFechas y horarios\nJulio: 08\, 09\, 15\, 16\nHorario de 09:30 a 11:30h \nPrecio\n\nFin de semana suelto (2 días): 50 € por persona
URL:https://sentidoanimalweb.advserver.es/evento/problemas-con-otros-perros-practico-i/
LOCATION:Ventorro del Cano\, Alcorcón\, Valdemorillo\, 35 \, Alcorcón\, Madrid\, 28925\, España
CATEGORIES:Talleres y charlas pasados
END:VEVENT
END:VCALENDAR