BEGIN:VCALENDAR
VERSION:2.0
PRODID:-//Sentido Animal - ECPv6.15.13.1//NONSGML v1.0//EN
CALSCALE:GREGORIAN
METHOD:PUBLISH
X-ORIGINAL-URL:https://sentidoanimalweb.advserver.es
X-WR-CALDESC:Eventos para Sentido Animal
REFRESH-INTERVAL;VALUE=DURATION:PT1H
X-Robots-Tag:noindex
X-PUBLISHED-TTL:PT1H
BEGIN:VTIMEZONE
TZID:Europe/Madrid
BEGIN:DAYLIGHT
TZOFFSETFROM:+0100
TZOFFSETTO:+0200
TZNAME:CEST
DTSTART:20160327T010000
END:DAYLIGHT
BEGIN:STANDARD
TZOFFSETFROM:+0200
TZOFFSETTO:+0100
TZNAME:CET
DTSTART:20161030T010000
END:STANDARD
BEGIN:DAYLIGHT
TZOFFSETFROM:+0100
TZOFFSETTO:+0200
TZNAME:CEST
DTSTART:20170326T010000
END:DAYLIGHT
BEGIN:STANDARD
TZOFFSETFROM:+0200
TZOFFSETTO:+0100
TZNAME:CET
DTSTART:20171029T010000
END:STANDARD
BEGIN:DAYLIGHT
TZOFFSETFROM:+0100
TZOFFSETTO:+0200
TZNAME:CEST
DTSTART:20180325T010000
END:DAYLIGHT
BEGIN:STANDARD
TZOFFSETFROM:+0200
TZOFFSETTO:+0100
TZNAME:CET
DTSTART:20181028T010000
END:STANDARD
END:VTIMEZONE
BEGIN:VEVENT
DTSTART;TZID=Europe/Madrid:20170129T100000
DTEND;TZID=Europe/Madrid:20170129T130000
DTSTAMP:20260422T061237
CREATED:20161220T185940Z
LAST-MODIFIED:20161220T185940Z
UID:2358-1485684000-1485694800@sentidoanimalweb.advserver.es
SUMMARY:Salida de socialización - enero 2017
DESCRIPTION:Hoy 29 de enero hemos vuelto a salir por la inigualable Dehesa de Majadahonda\, en Madrid. \nA pesar del día tan feo con el que nos hemos levantado\, los valientes que han participado en la salida de socialización canina de este enero 2017\, han conseguido llenar de color la mañana.\n \nGhon ha conseguido vencer sus reticencias a otros perros y acercarse con curiosidad a los demás gestionando algún momento poco cómodo para él y comunicándose de manera maravillosa con el resto. Necesitaba espacio\, ¡y se lo hemos dado! Lo demás ha venido solo. \nAry también ha hecho un buen trabajo\, fruto del buen hacer de María\, y ha estado corriendo de aquí para allá y manejando distancias y espacios como la perra equilibrada que es. \nLis\, Taco y Pipa lo han pasado en grande y han continuado con los ejercicios de desensibilización a nuevos entornos y respuesta a las señales de llamada en momentos puntuales. \nAgredeciéndoos a todos la asistencia\, hacemos mención especial a Cármen y Lola por su paciencia\, por estar siempre dispuestas a acercarse respetuosamente a todos los perretes y por darnos un paseo muy agradable. \n¡Nos vemos en la próxima!
URL:https://sentidoanimalweb.advserver.es/evento/salida-de-socializacion-enero-2017/
CATEGORIES:Salidas de socialización pasadas
ATTACH;FMTTYPE=:
END:VEVENT
END:VCALENDAR