BEGIN:VCALENDAR
VERSION:2.0
PRODID:-//Sentido Animal - ECPv6.15.13.1//NONSGML v1.0//EN
CALSCALE:GREGORIAN
METHOD:PUBLISH
X-WR-CALNAME:Sentido Animal
X-ORIGINAL-URL:https://sentidoanimalweb.advserver.es
X-WR-CALDESC:Eventos para Sentido Animal
REFRESH-INTERVAL;VALUE=DURATION:PT1H
X-Robots-Tag:noindex
X-PUBLISHED-TTL:PT1H
BEGIN:VTIMEZONE
TZID:Europe/Madrid
BEGIN:DAYLIGHT
TZOFFSETFROM:+0100
TZOFFSETTO:+0200
TZNAME:CEST
DTSTART:20150329T010000
END:DAYLIGHT
BEGIN:STANDARD
TZOFFSETFROM:+0200
TZOFFSETTO:+0100
TZNAME:CET
DTSTART:20151025T010000
END:STANDARD
BEGIN:DAYLIGHT
TZOFFSETFROM:+0100
TZOFFSETTO:+0200
TZNAME:CEST
DTSTART:20160327T010000
END:DAYLIGHT
BEGIN:STANDARD
TZOFFSETFROM:+0200
TZOFFSETTO:+0100
TZNAME:CET
DTSTART:20161030T010000
END:STANDARD
BEGIN:DAYLIGHT
TZOFFSETFROM:+0100
TZOFFSETTO:+0200
TZNAME:CEST
DTSTART:20170326T010000
END:DAYLIGHT
BEGIN:STANDARD
TZOFFSETFROM:+0200
TZOFFSETTO:+0100
TZNAME:CET
DTSTART:20171029T010000
END:STANDARD
END:VTIMEZONE
BEGIN:VEVENT
DTSTART;TZID=Europe/Madrid:20161030T100000
DTEND;TZID=Europe/Madrid:20161030T130000
DTSTAMP:20260422T102415
CREATED:20160929T183925Z
LAST-MODIFIED:20160929T183925Z
UID:2063-1477821600-1477832400@sentidoanimalweb.advserver.es
SUMMARY:Socialización en Alcorcón - octubre
DESCRIPTION:El pasado día 30 de octubre volvimos a hacer una salida de socialización\, para aprender y trabajar con nuestros compañeros caninos cómo relacionarse adecuadamente con los perros. \nComenzar conociéndose desde la distancia es fundamental para aquéllos perros que no se sienten tan seguros. Aquí os dejamos un resumen de lo que fue la salida.\n \n¡Muchas gracias por venir y pasar esta mañana de sol aprendiendo y compartiendo con vuestros perretes!
URL:https://sentidoanimalweb.advserver.es/evento/socializacion-en-alcorcon-octubre/
LOCATION:Ventorro del Cano\, Alcorcón\, Valdemorillo\, 35 \, Alcorcón\, Madrid\, 28925\, España
CATEGORIES:Salidas de socialización pasadas
ATTACH;FMTTYPE=:
END:VEVENT
END:VCALENDAR