BEGIN:VCALENDAR
VERSION:2.0
PRODID:-//Sentido Animal - ECPv6.15.13.1//NONSGML v1.0//EN
CALSCALE:GREGORIAN
METHOD:PUBLISH
X-WR-CALNAME:Sentido Animal
X-ORIGINAL-URL:https://sentidoanimalweb.advserver.es
X-WR-CALDESC:Eventos para Sentido Animal
REFRESH-INTERVAL;VALUE=DURATION:PT1H
X-Robots-Tag:noindex
X-PUBLISHED-TTL:PT1H
BEGIN:VTIMEZONE
TZID:Europe/Madrid
BEGIN:DAYLIGHT
TZOFFSETFROM:+0100
TZOFFSETTO:+0200
TZNAME:CEST
DTSTART:20150329T010000
END:DAYLIGHT
BEGIN:STANDARD
TZOFFSETFROM:+0200
TZOFFSETTO:+0100
TZNAME:CET
DTSTART:20151025T010000
END:STANDARD
BEGIN:DAYLIGHT
TZOFFSETFROM:+0100
TZOFFSETTO:+0200
TZNAME:CEST
DTSTART:20160327T010000
END:DAYLIGHT
BEGIN:STANDARD
TZOFFSETFROM:+0200
TZOFFSETTO:+0100
TZNAME:CET
DTSTART:20161030T010000
END:STANDARD
BEGIN:DAYLIGHT
TZOFFSETFROM:+0100
TZOFFSETTO:+0200
TZNAME:CEST
DTSTART:20170326T010000
END:DAYLIGHT
BEGIN:STANDARD
TZOFFSETFROM:+0200
TZOFFSETTO:+0100
TZNAME:CET
DTSTART:20171029T010000
END:STANDARD
END:VTIMEZONE
BEGIN:VEVENT
DTSTART;TZID=Europe/Madrid:20161024T110000
DTEND;TZID=Europe/Madrid:20161024T120000
DTSTAMP:20260422T102445
CREATED:20161001T184811Z
LAST-MODIFIED:20161001T184811Z
UID:1624-1477306800-1477310400@sentidoanimalweb.advserver.es
SUMMARY:Asesoramiento gratuito de perros adoptados - octubre
DESCRIPTION:¡Gracias por adoptar a un peludo y darle la oportunidad de comenzar una nueva vida a tu lado! \nTanto si es el primer perro que tienes como si en tu familia ya conviven más perretes\, te brindamos la oportunidad de venir de manera gratuita a nuestra charla mensual para que puedas despejar tus dudas y comenzar una nueva andadura entendiendo y respetando las necesidades de tu nuevo amigo.\n \nEmpieza una nueva historia en la vida de tu compañero de 4 patas\, y poder compartirla con él desde el principio creando cada día un buen vínculo\, será imprescindible para una buena convivencia. \nSi estás pensando en adoptar y aún no has dado el paso\, te resolveremos todas tus dudas. \n¡Te esperamos!
URL:https://sentidoanimalweb.advserver.es/evento/asesoramiento-gratuito-de-perros-adoptados-octubre/
LOCATION:CICAM Majadahonda\, Ctra. Majadahonda a Villanueva del Pardillo\, Majadahonda\, Madrid\, 28220\, España
CATEGORIES:Evento gratis
ATTACH;FMTTYPE=:
END:VEVENT
END:VCALENDAR